BEGIN:VCALENDAR
VERSION:2.0
PRODID:-//Rooted Hospitality Group - ECPv6.15.20//NONSGML v1.0//EN
CALSCALE:GREGORIAN
METHOD:PUBLISH
X-WR-CALNAME:Rooted Hospitality Group
X-ORIGINAL-URL:https://www.rootedhg.com
X-WR-CALDESC:Events for Rooted Hospitality Group
REFRESH-INTERVAL;VALUE=DURATION:PT1H
X-Robots-Tag:noindex
X-PUBLISHED-TTL:PT1H
BEGIN:VTIMEZONE
TZID:America/New_York
BEGIN:DAYLIGHT
TZOFFSETFROM:-0500
TZOFFSETTO:-0400
TZNAME:EDT
DTSTART:20250309T070000
END:DAYLIGHT
BEGIN:STANDARD
TZOFFSETFROM:-0400
TZOFFSETTO:-0500
TZNAME:EST
DTSTART:20251102T060000
END:STANDARD
BEGIN:DAYLIGHT
TZOFFSETFROM:-0500
TZOFFSETTO:-0400
TZNAME:EDT
DTSTART:20260308T070000
END:DAYLIGHT
BEGIN:STANDARD
TZOFFSETFROM:-0400
TZOFFSETTO:-0500
TZNAME:EST
DTSTART:20261101T060000
END:STANDARD
BEGIN:DAYLIGHT
TZOFFSETFROM:-0500
TZOFFSETTO:-0400
TZNAME:EDT
DTSTART:20270314T070000
END:DAYLIGHT
BEGIN:STANDARD
TZOFFSETFROM:-0400
TZOFFSETTO:-0500
TZNAME:EST
DTSTART:20271107T060000
END:STANDARD
END:VTIMEZONE
BEGIN:VEVENT
DTSTART;TZID=America/New_York:20260420T150000
DTEND;TZID=America/New_York:20260420T180000
DTSTAMP:20260419T130243
CREATED:20250915T213924Z
LAST-MODIFIED:20260105T203906Z
UID:10029980-1776697200-1776708000@www.rootedhg.com
SUMMARY:Cowfish Happy Hour
DESCRIPTION:Come unwind at Cowfish’s Happy Hour\, weekdays at the bar from 3PM-6PM! Enjoy discounted menu featuring select appetizers\, well pours\, Rum Punch\, Signature Margarita\, select wines by the glass\, and beer.
URL:https://www.rootedhg.com/event/cowfish-happy-hour-2-2-2/2026-04-20/
LOCATION:Cowfish\, 258 E. Montauk Hwy\, Hampton Bays\, NY\, 11946\, United States
CATEGORIES:Drink Specials,Food Specials,Happy Hour
ATTACH;FMTTYPE=image/jpeg:https://www.rootedhg.com/wp-content/uploads/2024/07/Happy-Hour-Cube_.jpg
END:VEVENT
BEGIN:VEVENT
DTSTART;TZID=America/New_York:20260421T150000
DTEND;TZID=America/New_York:20260421T180000
DTSTAMP:20260419T130243
CREATED:20250915T213924Z
LAST-MODIFIED:20260105T203906Z
UID:10029981-1776783600-1776794400@www.rootedhg.com
SUMMARY:Cowfish Happy Hour
DESCRIPTION:Come unwind at Cowfish’s Happy Hour\, weekdays at the bar from 3PM-6PM! Enjoy discounted menu featuring select appetizers\, well pours\, Rum Punch\, Signature Margarita\, select wines by the glass\, and beer.
URL:https://www.rootedhg.com/event/cowfish-happy-hour-2-2-2/2026-04-21/
LOCATION:Cowfish\, 258 E. Montauk Hwy\, Hampton Bays\, NY\, 11946\, United States
CATEGORIES:Drink Specials,Food Specials,Happy Hour
ATTACH;FMTTYPE=image/jpeg:https://www.rootedhg.com/wp-content/uploads/2024/07/Happy-Hour-Cube_.jpg
END:VEVENT
BEGIN:VEVENT
DTSTART;TZID=America/New_York:20260422T150000
DTEND;TZID=America/New_York:20260422T180000
DTSTAMP:20260419T130243
CREATED:20250915T213924Z
LAST-MODIFIED:20260105T203906Z
UID:10029982-1776870000-1776880800@www.rootedhg.com
SUMMARY:Cowfish Happy Hour
DESCRIPTION:Come unwind at Cowfish’s Happy Hour\, weekdays at the bar from 3PM-6PM! Enjoy discounted menu featuring select appetizers\, well pours\, Rum Punch\, Signature Margarita\, select wines by the glass\, and beer.
URL:https://www.rootedhg.com/event/cowfish-happy-hour-2-2-2/2026-04-22/
LOCATION:Cowfish\, 258 E. Montauk Hwy\, Hampton Bays\, NY\, 11946\, United States
CATEGORIES:Drink Specials,Food Specials,Happy Hour
ATTACH;FMTTYPE=image/jpeg:https://www.rootedhg.com/wp-content/uploads/2024/07/Happy-Hour-Cube_.jpg
END:VEVENT
BEGIN:VEVENT
DTSTART;TZID=America/New_York:20260423T150000
DTEND;TZID=America/New_York:20260423T180000
DTSTAMP:20260419T130243
CREATED:20250915T213924Z
LAST-MODIFIED:20260105T203906Z
UID:10029983-1776956400-1776967200@www.rootedhg.com
SUMMARY:Cowfish Happy Hour
DESCRIPTION:Come unwind at Cowfish’s Happy Hour\, weekdays at the bar from 3PM-6PM! Enjoy discounted menu featuring select appetizers\, well pours\, Rum Punch\, Signature Margarita\, select wines by the glass\, and beer.
URL:https://www.rootedhg.com/event/cowfish-happy-hour-2-2-2/2026-04-23/
LOCATION:Cowfish\, 258 E. Montauk Hwy\, Hampton Bays\, NY\, 11946\, United States
CATEGORIES:Drink Specials,Food Specials,Happy Hour
ATTACH;FMTTYPE=image/jpeg:https://www.rootedhg.com/wp-content/uploads/2024/07/Happy-Hour-Cube_.jpg
END:VEVENT
BEGIN:VEVENT
DTSTART;TZID=America/New_York:20260424T150000
DTEND;TZID=America/New_York:20260424T180000
DTSTAMP:20260419T130243
CREATED:20250915T213924Z
LAST-MODIFIED:20260105T203906Z
UID:10029984-1777042800-1777053600@www.rootedhg.com
SUMMARY:Cowfish Happy Hour
DESCRIPTION:Come unwind at Cowfish’s Happy Hour\, weekdays at the bar from 3PM-6PM! Enjoy discounted menu featuring select appetizers\, well pours\, Rum Punch\, Signature Margarita\, select wines by the glass\, and beer.
URL:https://www.rootedhg.com/event/cowfish-happy-hour-2-2-2/2026-04-24/
LOCATION:Cowfish\, 258 E. Montauk Hwy\, Hampton Bays\, NY\, 11946\, United States
CATEGORIES:Drink Specials,Food Specials,Happy Hour
ATTACH;FMTTYPE=image/jpeg:https://www.rootedhg.com/wp-content/uploads/2024/07/Happy-Hour-Cube_.jpg
END:VEVENT
BEGIN:VEVENT
DTSTART;TZID=America/New_York:20260427T150000
DTEND;TZID=America/New_York:20260427T180000
DTSTAMP:20260419T130243
CREATED:20250915T213924Z
LAST-MODIFIED:20260105T203906Z
UID:10029985-1777302000-1777312800@www.rootedhg.com
SUMMARY:Cowfish Happy Hour
DESCRIPTION:Come unwind at Cowfish’s Happy Hour\, weekdays at the bar from 3PM-6PM! Enjoy discounted menu featuring select appetizers\, well pours\, Rum Punch\, Signature Margarita\, select wines by the glass\, and beer.
URL:https://www.rootedhg.com/event/cowfish-happy-hour-2-2-2/2026-04-27/
LOCATION:Cowfish\, 258 E. Montauk Hwy\, Hampton Bays\, NY\, 11946\, United States
CATEGORIES:Drink Specials,Food Specials,Happy Hour
ATTACH;FMTTYPE=image/jpeg:https://www.rootedhg.com/wp-content/uploads/2024/07/Happy-Hour-Cube_.jpg
END:VEVENT
BEGIN:VEVENT
DTSTART;TZID=America/New_York:20260428T150000
DTEND;TZID=America/New_York:20260428T180000
DTSTAMP:20260419T130243
CREATED:20250915T213924Z
LAST-MODIFIED:20260105T203906Z
UID:10029986-1777388400-1777399200@www.rootedhg.com
SUMMARY:Cowfish Happy Hour
DESCRIPTION:Come unwind at Cowfish’s Happy Hour\, weekdays at the bar from 3PM-6PM! Enjoy discounted menu featuring select appetizers\, well pours\, Rum Punch\, Signature Margarita\, select wines by the glass\, and beer.
URL:https://www.rootedhg.com/event/cowfish-happy-hour-2-2-2/2026-04-28/
LOCATION:Cowfish\, 258 E. Montauk Hwy\, Hampton Bays\, NY\, 11946\, United States
CATEGORIES:Drink Specials,Food Specials,Happy Hour
ATTACH;FMTTYPE=image/jpeg:https://www.rootedhg.com/wp-content/uploads/2024/07/Happy-Hour-Cube_.jpg
END:VEVENT
BEGIN:VEVENT
DTSTART;TZID=America/New_York:20260429T150000
DTEND;TZID=America/New_York:20260429T180000
DTSTAMP:20260419T130243
CREATED:20250915T213924Z
LAST-MODIFIED:20260105T203906Z
UID:10029987-1777474800-1777485600@www.rootedhg.com
SUMMARY:Cowfish Happy Hour
DESCRIPTION:Come unwind at Cowfish’s Happy Hour\, weekdays at the bar from 3PM-6PM! Enjoy discounted menu featuring select appetizers\, well pours\, Rum Punch\, Signature Margarita\, select wines by the glass\, and beer.
URL:https://www.rootedhg.com/event/cowfish-happy-hour-2-2-2/2026-04-29/
LOCATION:Cowfish\, 258 E. Montauk Hwy\, Hampton Bays\, NY\, 11946\, United States
CATEGORIES:Drink Specials,Food Specials,Happy Hour
ATTACH;FMTTYPE=image/jpeg:https://www.rootedhg.com/wp-content/uploads/2024/07/Happy-Hour-Cube_.jpg
END:VEVENT
BEGIN:VEVENT
DTSTART;TZID=America/New_York:20260430T150000
DTEND;TZID=America/New_York:20260430T180000
DTSTAMP:20260419T130243
CREATED:20250915T213924Z
LAST-MODIFIED:20260105T203906Z
UID:10029988-1777561200-1777572000@www.rootedhg.com
SUMMARY:Cowfish Happy Hour
DESCRIPTION:Come unwind at Cowfish’s Happy Hour\, weekdays at the bar from 3PM-6PM! Enjoy discounted menu featuring select appetizers\, well pours\, Rum Punch\, Signature Margarita\, select wines by the glass\, and beer.
URL:https://www.rootedhg.com/event/cowfish-happy-hour-2-2-2/2026-04-30/
LOCATION:Cowfish\, 258 E. Montauk Hwy\, Hampton Bays\, NY\, 11946\, United States
CATEGORIES:Drink Specials,Food Specials,Happy Hour
ATTACH;FMTTYPE=image/jpeg:https://www.rootedhg.com/wp-content/uploads/2024/07/Happy-Hour-Cube_.jpg
END:VEVENT
BEGIN:VEVENT
DTSTART;TZID=America/New_York:20260501T150000
DTEND;TZID=America/New_York:20260501T180000
DTSTAMP:20260419T130243
CREATED:20250915T213924Z
LAST-MODIFIED:20260105T203906Z
UID:10029989-1777647600-1777658400@www.rootedhg.com
SUMMARY:Cowfish Happy Hour
DESCRIPTION:Come unwind at Cowfish’s Happy Hour\, weekdays at the bar from 3PM-6PM! Enjoy discounted menu featuring select appetizers\, well pours\, Rum Punch\, Signature Margarita\, select wines by the glass\, and beer.
URL:https://www.rootedhg.com/event/cowfish-happy-hour-2-2-2/2026-05-01/
LOCATION:Cowfish\, 258 E. Montauk Hwy\, Hampton Bays\, NY\, 11946\, United States
CATEGORIES:Drink Specials,Food Specials,Happy Hour
ATTACH;FMTTYPE=image/jpeg:https://www.rootedhg.com/wp-content/uploads/2024/07/Happy-Hour-Cube_.jpg
END:VEVENT
BEGIN:VEVENT
DTSTART;TZID=America/New_York:20260504T150000
DTEND;TZID=America/New_York:20260504T180000
DTSTAMP:20260419T130244
CREATED:20250915T213924Z
LAST-MODIFIED:20260105T203906Z
UID:10029990-1777906800-1777917600@www.rootedhg.com
SUMMARY:Cowfish Happy Hour
DESCRIPTION:Come unwind at Cowfish’s Happy Hour\, weekdays at the bar from 3PM-6PM! Enjoy discounted menu featuring select appetizers\, well pours\, Rum Punch\, Signature Margarita\, select wines by the glass\, and beer.
URL:https://www.rootedhg.com/event/cowfish-happy-hour-2-2-2/2026-05-04/
LOCATION:Cowfish\, 258 E. Montauk Hwy\, Hampton Bays\, NY\, 11946\, United States
CATEGORIES:Drink Specials,Food Specials,Happy Hour
ATTACH;FMTTYPE=image/jpeg:https://www.rootedhg.com/wp-content/uploads/2024/07/Happy-Hour-Cube_.jpg
END:VEVENT
BEGIN:VEVENT
DTSTART;TZID=America/New_York:20260505T150000
DTEND;TZID=America/New_York:20260505T180000
DTSTAMP:20260419T130244
CREATED:20250915T213924Z
LAST-MODIFIED:20260105T203906Z
UID:10029991-1777993200-1778004000@www.rootedhg.com
SUMMARY:Cowfish Happy Hour
DESCRIPTION:Come unwind at Cowfish’s Happy Hour\, weekdays at the bar from 3PM-6PM! Enjoy discounted menu featuring select appetizers\, well pours\, Rum Punch\, Signature Margarita\, select wines by the glass\, and beer.
URL:https://www.rootedhg.com/event/cowfish-happy-hour-2-2-2/2026-05-05/
LOCATION:Cowfish\, 258 E. Montauk Hwy\, Hampton Bays\, NY\, 11946\, United States
CATEGORIES:Drink Specials,Food Specials,Happy Hour
ATTACH;FMTTYPE=image/jpeg:https://www.rootedhg.com/wp-content/uploads/2024/07/Happy-Hour-Cube_.jpg
END:VEVENT
BEGIN:VEVENT
DTSTART;TZID=America/New_York:20260506T150000
DTEND;TZID=America/New_York:20260506T180000
DTSTAMP:20260419T130244
CREATED:20250915T213924Z
LAST-MODIFIED:20260105T203906Z
UID:10029992-1778079600-1778090400@www.rootedhg.com
SUMMARY:Cowfish Happy Hour
DESCRIPTION:Come unwind at Cowfish’s Happy Hour\, weekdays at the bar from 3PM-6PM! Enjoy discounted menu featuring select appetizers\, well pours\, Rum Punch\, Signature Margarita\, select wines by the glass\, and beer.
URL:https://www.rootedhg.com/event/cowfish-happy-hour-2-2-2/2026-05-06/
LOCATION:Cowfish\, 258 E. Montauk Hwy\, Hampton Bays\, NY\, 11946\, United States
CATEGORIES:Drink Specials,Food Specials,Happy Hour
ATTACH;FMTTYPE=image/jpeg:https://www.rootedhg.com/wp-content/uploads/2024/07/Happy-Hour-Cube_.jpg
END:VEVENT
BEGIN:VEVENT
DTSTART;TZID=America/New_York:20260507T150000
DTEND;TZID=America/New_York:20260507T180000
DTSTAMP:20260419T130244
CREATED:20250915T213924Z
LAST-MODIFIED:20260105T203906Z
UID:10029993-1778166000-1778176800@www.rootedhg.com
SUMMARY:Cowfish Happy Hour
DESCRIPTION:Come unwind at Cowfish’s Happy Hour\, weekdays at the bar from 3PM-6PM! Enjoy discounted menu featuring select appetizers\, well pours\, Rum Punch\, Signature Margarita\, select wines by the glass\, and beer.
URL:https://www.rootedhg.com/event/cowfish-happy-hour-2-2-2/2026-05-07/
LOCATION:Cowfish\, 258 E. Montauk Hwy\, Hampton Bays\, NY\, 11946\, United States
CATEGORIES:Drink Specials,Food Specials,Happy Hour
ATTACH;FMTTYPE=image/jpeg:https://www.rootedhg.com/wp-content/uploads/2024/07/Happy-Hour-Cube_.jpg
END:VEVENT
BEGIN:VEVENT
DTSTART;TZID=America/New_York:20260508T150000
DTEND;TZID=America/New_York:20260508T180000
DTSTAMP:20260419T130244
CREATED:20250915T213924Z
LAST-MODIFIED:20260105T203906Z
UID:10029994-1778252400-1778263200@www.rootedhg.com
SUMMARY:Cowfish Happy Hour
DESCRIPTION:Come unwind at Cowfish’s Happy Hour\, weekdays at the bar from 3PM-6PM! Enjoy discounted menu featuring select appetizers\, well pours\, Rum Punch\, Signature Margarita\, select wines by the glass\, and beer.
URL:https://www.rootedhg.com/event/cowfish-happy-hour-2-2-2/2026-05-08/
LOCATION:Cowfish\, 258 E. Montauk Hwy\, Hampton Bays\, NY\, 11946\, United States
CATEGORIES:Drink Specials,Food Specials,Happy Hour
ATTACH;FMTTYPE=image/jpeg:https://www.rootedhg.com/wp-content/uploads/2024/07/Happy-Hour-Cube_.jpg
END:VEVENT
BEGIN:VEVENT
DTSTART;TZID=America/New_York:20260511T150000
DTEND;TZID=America/New_York:20260511T180000
DTSTAMP:20260419T130244
CREATED:20250915T213924Z
LAST-MODIFIED:20260105T203906Z
UID:10029995-1778511600-1778522400@www.rootedhg.com
SUMMARY:Cowfish Happy Hour
DESCRIPTION:Come unwind at Cowfish’s Happy Hour\, weekdays at the bar from 3PM-6PM! Enjoy discounted menu featuring select appetizers\, well pours\, Rum Punch\, Signature Margarita\, select wines by the glass\, and beer.
URL:https://www.rootedhg.com/event/cowfish-happy-hour-2-2-2/2026-05-11/
LOCATION:Cowfish\, 258 E. Montauk Hwy\, Hampton Bays\, NY\, 11946\, United States
CATEGORIES:Drink Specials,Food Specials,Happy Hour
ATTACH;FMTTYPE=image/jpeg:https://www.rootedhg.com/wp-content/uploads/2024/07/Happy-Hour-Cube_.jpg
END:VEVENT
BEGIN:VEVENT
DTSTART;TZID=America/New_York:20260512T150000
DTEND;TZID=America/New_York:20260512T180000
DTSTAMP:20260419T130244
CREATED:20250915T213924Z
LAST-MODIFIED:20260105T203906Z
UID:10029996-1778598000-1778608800@www.rootedhg.com
SUMMARY:Cowfish Happy Hour
DESCRIPTION:Come unwind at Cowfish’s Happy Hour\, weekdays at the bar from 3PM-6PM! Enjoy discounted menu featuring select appetizers\, well pours\, Rum Punch\, Signature Margarita\, select wines by the glass\, and beer.
URL:https://www.rootedhg.com/event/cowfish-happy-hour-2-2-2/2026-05-12/
LOCATION:Cowfish\, 258 E. Montauk Hwy\, Hampton Bays\, NY\, 11946\, United States
CATEGORIES:Drink Specials,Food Specials,Happy Hour
ATTACH;FMTTYPE=image/jpeg:https://www.rootedhg.com/wp-content/uploads/2024/07/Happy-Hour-Cube_.jpg
END:VEVENT
BEGIN:VEVENT
DTSTART;TZID=America/New_York:20260513T150000
DTEND;TZID=America/New_York:20260513T180000
DTSTAMP:20260419T130244
CREATED:20250915T213924Z
LAST-MODIFIED:20260105T203906Z
UID:10029997-1778684400-1778695200@www.rootedhg.com
SUMMARY:Cowfish Happy Hour
DESCRIPTION:Come unwind at Cowfish’s Happy Hour\, weekdays at the bar from 3PM-6PM! Enjoy discounted menu featuring select appetizers\, well pours\, Rum Punch\, Signature Margarita\, select wines by the glass\, and beer.
URL:https://www.rootedhg.com/event/cowfish-happy-hour-2-2-2/2026-05-13/
LOCATION:Cowfish\, 258 E. Montauk Hwy\, Hampton Bays\, NY\, 11946\, United States
CATEGORIES:Drink Specials,Food Specials,Happy Hour
ATTACH;FMTTYPE=image/jpeg:https://www.rootedhg.com/wp-content/uploads/2024/07/Happy-Hour-Cube_.jpg
END:VEVENT
BEGIN:VEVENT
DTSTART;TZID=America/New_York:20260514T150000
DTEND;TZID=America/New_York:20260514T180000
DTSTAMP:20260419T130244
CREATED:20250915T213924Z
LAST-MODIFIED:20260105T203906Z
UID:10029998-1778770800-1778781600@www.rootedhg.com
SUMMARY:Cowfish Happy Hour
DESCRIPTION:Come unwind at Cowfish’s Happy Hour\, weekdays at the bar from 3PM-6PM! Enjoy discounted menu featuring select appetizers\, well pours\, Rum Punch\, Signature Margarita\, select wines by the glass\, and beer.
URL:https://www.rootedhg.com/event/cowfish-happy-hour-2-2-2/2026-05-14/
LOCATION:Cowfish\, 258 E. Montauk Hwy\, Hampton Bays\, NY\, 11946\, United States
CATEGORIES:Drink Specials,Food Specials,Happy Hour
ATTACH;FMTTYPE=image/jpeg:https://www.rootedhg.com/wp-content/uploads/2024/07/Happy-Hour-Cube_.jpg
END:VEVENT
BEGIN:VEVENT
DTSTART;TZID=America/New_York:20260515T150000
DTEND;TZID=America/New_York:20260515T180000
DTSTAMP:20260419T130244
CREATED:20250915T213924Z
LAST-MODIFIED:20260105T203906Z
UID:10029999-1778857200-1778868000@www.rootedhg.com
SUMMARY:Cowfish Happy Hour
DESCRIPTION:Come unwind at Cowfish’s Happy Hour\, weekdays at the bar from 3PM-6PM! Enjoy discounted menu featuring select appetizers\, well pours\, Rum Punch\, Signature Margarita\, select wines by the glass\, and beer.
URL:https://www.rootedhg.com/event/cowfish-happy-hour-2-2-2/2026-05-15/
LOCATION:Cowfish\, 258 E. Montauk Hwy\, Hampton Bays\, NY\, 11946\, United States
CATEGORIES:Drink Specials,Food Specials,Happy Hour
ATTACH;FMTTYPE=image/jpeg:https://www.rootedhg.com/wp-content/uploads/2024/07/Happy-Hour-Cube_.jpg
END:VEVENT
BEGIN:VEVENT
DTSTART;TZID=America/New_York:20260518T150000
DTEND;TZID=America/New_York:20260518T180000
DTSTAMP:20260419T130244
CREATED:20250915T213924Z
LAST-MODIFIED:20260105T203906Z
UID:10030000-1779116400-1779127200@www.rootedhg.com
SUMMARY:Cowfish Happy Hour
DESCRIPTION:Come unwind at Cowfish’s Happy Hour\, weekdays at the bar from 3PM-6PM! Enjoy discounted menu featuring select appetizers\, well pours\, Rum Punch\, Signature Margarita\, select wines by the glass\, and beer.
URL:https://www.rootedhg.com/event/cowfish-happy-hour-2-2-2/2026-05-18/
LOCATION:Cowfish\, 258 E. Montauk Hwy\, Hampton Bays\, NY\, 11946\, United States
CATEGORIES:Drink Specials,Food Specials,Happy Hour
ATTACH;FMTTYPE=image/jpeg:https://www.rootedhg.com/wp-content/uploads/2024/07/Happy-Hour-Cube_.jpg
END:VEVENT
BEGIN:VEVENT
DTSTART;TZID=America/New_York:20260519T150000
DTEND;TZID=America/New_York:20260519T180000
DTSTAMP:20260419T130244
CREATED:20250915T213924Z
LAST-MODIFIED:20260105T203906Z
UID:10030001-1779202800-1779213600@www.rootedhg.com
SUMMARY:Cowfish Happy Hour
DESCRIPTION:Come unwind at Cowfish’s Happy Hour\, weekdays at the bar from 3PM-6PM! Enjoy discounted menu featuring select appetizers\, well pours\, Rum Punch\, Signature Margarita\, select wines by the glass\, and beer.
URL:https://www.rootedhg.com/event/cowfish-happy-hour-2-2-2/2026-05-19/
LOCATION:Cowfish\, 258 E. Montauk Hwy\, Hampton Bays\, NY\, 11946\, United States
CATEGORIES:Drink Specials,Food Specials,Happy Hour
ATTACH;FMTTYPE=image/jpeg:https://www.rootedhg.com/wp-content/uploads/2024/07/Happy-Hour-Cube_.jpg
END:VEVENT
BEGIN:VEVENT
DTSTART;TZID=America/New_York:20260520T150000
DTEND;TZID=America/New_York:20260520T180000
DTSTAMP:20260419T130244
CREATED:20250915T213924Z
LAST-MODIFIED:20260105T203906Z
UID:10030002-1779289200-1779300000@www.rootedhg.com
SUMMARY:Cowfish Happy Hour
DESCRIPTION:Come unwind at Cowfish’s Happy Hour\, weekdays at the bar from 3PM-6PM! Enjoy discounted menu featuring select appetizers\, well pours\, Rum Punch\, Signature Margarita\, select wines by the glass\, and beer.
URL:https://www.rootedhg.com/event/cowfish-happy-hour-2-2-2/2026-05-20/
LOCATION:Cowfish\, 258 E. Montauk Hwy\, Hampton Bays\, NY\, 11946\, United States
CATEGORIES:Drink Specials,Food Specials,Happy Hour
ATTACH;FMTTYPE=image/jpeg:https://www.rootedhg.com/wp-content/uploads/2024/07/Happy-Hour-Cube_.jpg
END:VEVENT
BEGIN:VEVENT
DTSTART;TZID=America/New_York:20260521T150000
DTEND;TZID=America/New_York:20260521T180000
DTSTAMP:20260419T130244
CREATED:20250915T213924Z
LAST-MODIFIED:20260105T203906Z
UID:10030003-1779375600-1779386400@www.rootedhg.com
SUMMARY:Cowfish Happy Hour
DESCRIPTION:Come unwind at Cowfish’s Happy Hour\, weekdays at the bar from 3PM-6PM! Enjoy discounted menu featuring select appetizers\, well pours\, Rum Punch\, Signature Margarita\, select wines by the glass\, and beer.
URL:https://www.rootedhg.com/event/cowfish-happy-hour-2-2-2/2026-05-21/
LOCATION:Cowfish\, 258 E. Montauk Hwy\, Hampton Bays\, NY\, 11946\, United States
CATEGORIES:Drink Specials,Food Specials,Happy Hour
ATTACH;FMTTYPE=image/jpeg:https://www.rootedhg.com/wp-content/uploads/2024/07/Happy-Hour-Cube_.jpg
END:VEVENT
BEGIN:VEVENT
DTSTART;TZID=America/New_York:20260522T150000
DTEND;TZID=America/New_York:20260522T180000
DTSTAMP:20260419T130244
CREATED:20250915T213924Z
LAST-MODIFIED:20260105T203906Z
UID:10030004-1779462000-1779472800@www.rootedhg.com
SUMMARY:Cowfish Happy Hour
DESCRIPTION:Come unwind at Cowfish’s Happy Hour\, weekdays at the bar from 3PM-6PM! Enjoy discounted menu featuring select appetizers\, well pours\, Rum Punch\, Signature Margarita\, select wines by the glass\, and beer.
URL:https://www.rootedhg.com/event/cowfish-happy-hour-2-2-2/2026-05-22/
LOCATION:Cowfish\, 258 E. Montauk Hwy\, Hampton Bays\, NY\, 11946\, United States
CATEGORIES:Drink Specials,Food Specials,Happy Hour
ATTACH;FMTTYPE=image/jpeg:https://www.rootedhg.com/wp-content/uploads/2024/07/Happy-Hour-Cube_.jpg
END:VEVENT
BEGIN:VEVENT
DTSTART;TZID=America/New_York:20260525T150000
DTEND;TZID=America/New_York:20260525T180000
DTSTAMP:20260419T130244
CREATED:20250915T213924Z
LAST-MODIFIED:20260105T203906Z
UID:10030005-1779721200-1779732000@www.rootedhg.com
SUMMARY:Cowfish Happy Hour
DESCRIPTION:Come unwind at Cowfish’s Happy Hour\, weekdays at the bar from 3PM-6PM! Enjoy discounted menu featuring select appetizers\, well pours\, Rum Punch\, Signature Margarita\, select wines by the glass\, and beer.
URL:https://www.rootedhg.com/event/cowfish-happy-hour-2-2-2/2026-05-25/
LOCATION:Cowfish\, 258 E. Montauk Hwy\, Hampton Bays\, NY\, 11946\, United States
CATEGORIES:Drink Specials,Food Specials,Happy Hour
ATTACH;FMTTYPE=image/jpeg:https://www.rootedhg.com/wp-content/uploads/2024/07/Happy-Hour-Cube_.jpg
END:VEVENT
BEGIN:VEVENT
DTSTART;TZID=America/New_York:20260526T150000
DTEND;TZID=America/New_York:20260526T180000
DTSTAMP:20260419T130244
CREATED:20250915T213924Z
LAST-MODIFIED:20260105T203906Z
UID:10030006-1779807600-1779818400@www.rootedhg.com
SUMMARY:Cowfish Happy Hour
DESCRIPTION:Come unwind at Cowfish’s Happy Hour\, weekdays at the bar from 3PM-6PM! Enjoy discounted menu featuring select appetizers\, well pours\, Rum Punch\, Signature Margarita\, select wines by the glass\, and beer.
URL:https://www.rootedhg.com/event/cowfish-happy-hour-2-2-2/2026-05-26/
LOCATION:Cowfish\, 258 E. Montauk Hwy\, Hampton Bays\, NY\, 11946\, United States
CATEGORIES:Drink Specials,Food Specials,Happy Hour
ATTACH;FMTTYPE=image/jpeg:https://www.rootedhg.com/wp-content/uploads/2024/07/Happy-Hour-Cube_.jpg
END:VEVENT
BEGIN:VEVENT
DTSTART;TZID=America/New_York:20260527T150000
DTEND;TZID=America/New_York:20260527T180000
DTSTAMP:20260419T130244
CREATED:20250915T213924Z
LAST-MODIFIED:20260105T203906Z
UID:10030007-1779894000-1779904800@www.rootedhg.com
SUMMARY:Cowfish Happy Hour
DESCRIPTION:Come unwind at Cowfish’s Happy Hour\, weekdays at the bar from 3PM-6PM! Enjoy discounted menu featuring select appetizers\, well pours\, Rum Punch\, Signature Margarita\, select wines by the glass\, and beer.
URL:https://www.rootedhg.com/event/cowfish-happy-hour-2-2-2/2026-05-27/
LOCATION:Cowfish\, 258 E. Montauk Hwy\, Hampton Bays\, NY\, 11946\, United States
CATEGORIES:Drink Specials,Food Specials,Happy Hour
ATTACH;FMTTYPE=image/jpeg:https://www.rootedhg.com/wp-content/uploads/2024/07/Happy-Hour-Cube_.jpg
END:VEVENT
BEGIN:VEVENT
DTSTART;TZID=America/New_York:20260528T150000
DTEND;TZID=America/New_York:20260528T180000
DTSTAMP:20260419T130244
CREATED:20250915T213924Z
LAST-MODIFIED:20260105T203906Z
UID:10030008-1779980400-1779991200@www.rootedhg.com
SUMMARY:Cowfish Happy Hour
DESCRIPTION:Come unwind at Cowfish’s Happy Hour\, weekdays at the bar from 3PM-6PM! Enjoy discounted menu featuring select appetizers\, well pours\, Rum Punch\, Signature Margarita\, select wines by the glass\, and beer.
URL:https://www.rootedhg.com/event/cowfish-happy-hour-2-2-2/2026-05-28/
LOCATION:Cowfish\, 258 E. Montauk Hwy\, Hampton Bays\, NY\, 11946\, United States
CATEGORIES:Drink Specials,Food Specials,Happy Hour
ATTACH;FMTTYPE=image/jpeg:https://www.rootedhg.com/wp-content/uploads/2024/07/Happy-Hour-Cube_.jpg
END:VEVENT
BEGIN:VEVENT
DTSTART;TZID=America/New_York:20260529T150000
DTEND;TZID=America/New_York:20260529T180000
DTSTAMP:20260419T130244
CREATED:20250915T213924Z
LAST-MODIFIED:20260105T203906Z
UID:10030009-1780066800-1780077600@www.rootedhg.com
SUMMARY:Cowfish Happy Hour
DESCRIPTION:Come unwind at Cowfish’s Happy Hour\, weekdays at the bar from 3PM-6PM! Enjoy discounted menu featuring select appetizers\, well pours\, Rum Punch\, Signature Margarita\, select wines by the glass\, and beer.
URL:https://www.rootedhg.com/event/cowfish-happy-hour-2-2-2/2026-05-29/
LOCATION:Cowfish\, 258 E. Montauk Hwy\, Hampton Bays\, NY\, 11946\, United States
CATEGORIES:Drink Specials,Food Specials,Happy Hour
ATTACH;FMTTYPE=image/jpeg:https://www.rootedhg.com/wp-content/uploads/2024/07/Happy-Hour-Cube_.jpg
END:VEVENT
END:VCALENDAR