BEGIN:VCALENDAR
VERSION:2.0
PRODID:-//Rooted Hospitality Group - ECPv6.15.20//NONSGML v1.0//EN
CALSCALE:GREGORIAN
METHOD:PUBLISH
X-ORIGINAL-URL:https://www.rootedhg.com
X-WR-CALDESC:Events for Rooted Hospitality Group
REFRESH-INTERVAL;VALUE=DURATION:PT1H
X-Robots-Tag:noindex
X-PUBLISHED-TTL:PT1H
BEGIN:VTIMEZONE
TZID:America/New_York
BEGIN:DAYLIGHT
TZOFFSETFROM:-0500
TZOFFSETTO:-0400
TZNAME:EDT
DTSTART:20250309T070000
END:DAYLIGHT
BEGIN:STANDARD
TZOFFSETFROM:-0400
TZOFFSETTO:-0500
TZNAME:EST
DTSTART:20251102T060000
END:STANDARD
BEGIN:DAYLIGHT
TZOFFSETFROM:-0500
TZOFFSETTO:-0400
TZNAME:EDT
DTSTART:20260308T070000
END:DAYLIGHT
BEGIN:STANDARD
TZOFFSETFROM:-0400
TZOFFSETTO:-0500
TZNAME:EST
DTSTART:20261101T060000
END:STANDARD
BEGIN:DAYLIGHT
TZOFFSETFROM:-0500
TZOFFSETTO:-0400
TZNAME:EDT
DTSTART:20270314T070000
END:DAYLIGHT
BEGIN:STANDARD
TZOFFSETFROM:-0400
TZOFFSETTO:-0500
TZNAME:EST
DTSTART:20271107T060000
END:STANDARD
END:VTIMEZONE
BEGIN:VEVENT
DTSTART;TZID=America/New_York:20260224T113000
DTEND;TZID=America/New_York:20260224T160000
DTSTAMP:20260423T163821
CREATED:20250915T212648Z
LAST-MODIFIED:20251218T170214Z
UID:10037449-1771932600-1771948800@www.rootedhg.com
SUMMARY:RUMBA Taco Tuesday
DESCRIPTION:Taco lovers rejoice! Join us at RUMBA for Taco Tuesday and enjoy 3 delicious tacos for just $15. Lunch Only Until 4pm. Savor the flavors and make your week tastier with our mouthwatering tacos!
URL:https://www.rootedhg.com/event/rumba-taco-tuesday-thursday-p-2/2026-02-24/
LOCATION:RUMBA – Patchogue\, 13 East Main Street\, Patchogue\, NY\, 11772\, United States
CATEGORIES:Food Specials,Taco Tuesday
ATTACH;FMTTYPE=image/jpeg:https://www.rootedhg.com/wp-content/uploads/2025/05/Digital_Rumba_Taco-Tuesday_1080px-x-1080px_May-2025.jpg
END:VEVENT
BEGIN:VEVENT
DTSTART;TZID=America/New_York:20260224T120000
DTEND;TZID=America/New_York:20260224T160000
DTSTAMP:20260423T163821
CREATED:20250915T212122Z
LAST-MODIFIED:20251218T170206Z
UID:10039989-1771934400-1771948800@www.rootedhg.com
SUMMARY:RUMBA Taco Tuesday
DESCRIPTION:Clock out\, taco up. Taco Tuesday is your new lunch ritual at RUMBA! Enjoy three delicious tacos for just $15. Lunch Only Until 4pm. Dine in with us or take them to go!
URL:https://www.rootedhg.com/event/rumba-taco-thursday-2-2-2-2-2/2026-02-24/
LOCATION:RUMBA – Hampton Bays\, 43 Canoe Place Road\, Hampton Bays\, NY\, 11946\, United States
CATEGORIES:Food Specials,Taco Tuesday
ATTACH;FMTTYPE=image/jpeg:https://www.rootedhg.com/wp-content/uploads/2025/05/Digital_Rumba_Taco-Tuesday_1080px-x-1080px_May-2025.jpg
END:VEVENT
BEGIN:VEVENT
DTSTART;VALUE=DATE:20260225
DTEND;VALUE=DATE:20260226
DTSTAMP:20260423T163821
CREATED:20260127T213547Z
LAST-MODIFIED:20260127T213547Z
UID:10047682-1771977600-1772063999@www.rootedhg.com
SUMMARY:Wine Down Wednesday at Cowfish
DESCRIPTION:Wine Down Wednesday at Cowfish is your midweek excuse to relax and indulge. Every Wednesday\, enjoy 50% off one bottle of wine with the purchase of two entrées\, available for in-house dining only. \nWhether you’re planning a date night or a casual dinner with friends\, Cowfish delivers midweek luxury with dockside views and standout flavors. So slow things down\, pour a glass\, and savor Wine Down Wednesday the Cowfish way.
URL:https://www.rootedhg.com/event/wine-down-wednesday-at-cowfish/2026-02-25/
LOCATION:Cowfish\, 258 E. Montauk Hwy\, Hampton Bays\, NY\, 11946\, United States
CATEGORIES:Drink Specials
ATTACH;FMTTYPE=image/jpeg:https://www.rootedhg.com/wp-content/uploads/2026/01/Weekly-Specials-WDW-Fall-2023.jpg
END:VEVENT
BEGIN:VEVENT
DTSTART;VALUE=DATE:20260225
DTEND;VALUE=DATE:20260226
DTSTAMP:20260423T163821
CREATED:20260127T214447Z
LAST-MODIFIED:20260304T222806Z
UID:10047943-1771977600-1772063999@www.rootedhg.com
SUMMARY:Wine Down Wednesday at flora
DESCRIPTION:Wine Down Wednesday at flora is an easy way to elevate your midweek plans. Every Wednesday\, enjoy half off one bottle of wine with the purchase of two entrées\, thoughtfully paired with flora’s seasonal\, ingredient-driven menu. \nIdeal for any time of day\, flora invites you to slow down\, sip something special\, and enjoy a midweek moment that feels both relaxed and refined.
URL:https://www.rootedhg.com/event/wine-down-wednesday-at-flora/2026-02-25/
LOCATION:flora\, 149 Main Street\, Westhampton Beach\, NY\, 11978\, United States
CATEGORIES:Drink Specials
ATTACH;FMTTYPE=image/jpeg:https://www.rootedhg.com/wp-content/uploads/2026/01/flora_WDW_Cube.jpg
END:VEVENT
BEGIN:VEVENT
DTSTART;VALUE=DATE:20260225
DTEND;VALUE=DATE:20260226
DTSTAMP:20260423T163821
CREATED:20260128T214853Z
LAST-MODIFIED:20260304T225850Z
UID:10048465-1771977600-1772063999@www.rootedhg.com
SUMMARY:Wine Down Wednesday at Fauna
DESCRIPTION:Wine Down Wednesday at Fauna is a gentle pause in the middle of the week. Enjoy half off any bottle of wine with two entrées and let the evening linger over food\, conversation\, and a setting made for slowing down. \nPerfect for familiar plans or spontaneous nights\, Fauna turns all-day on Wednesdays into something worth looking forward to.
URL:https://www.rootedhg.com/event/wine-down-wednesday-at-fauna/2026-02-25/
LOCATION:Fauna\, 6 Parlato Drive\, Westhampton Beach\, NY\, 11978\, United States
CATEGORIES:Drink Specials
ATTACH;FMTTYPE=image/jpeg:https://www.rootedhg.com/wp-content/uploads/2026/01/Fauna_WDW_Caymus_Salmon_Duck-Pasta-05_CUBE.jpg
END:VEVENT
BEGIN:VEVENT
DTSTART;TZID=America/New_York:20260226T160000
DTEND;TZID=America/New_York:20260226T210000
DTSTAMP:20260423T163821
CREATED:20251017T140018Z
LAST-MODIFIED:20251218T165549Z
UID:10042563-1772121600-1772139600@www.rootedhg.com
SUMMARY:Cowfish Prime Rib Thursday
DESCRIPTION:Savor the warmth and comfort in every bite\, because you deserve food that loves you back. Indulge in a perfectly cooked 14oz Prime Rib paired with a loaded baked potato. Available every Thursday after 4pm.
URL:https://www.rootedhg.com/event/cowfish-prime-rib-thursday/2026-02-26/
LOCATION:Cowfish\, 258 E. Montauk Hwy\, Hampton Bays\, NY\, 11946\, United States
CATEGORIES:Dinner,Food Specials
ATTACH;FMTTYPE=image/jpeg:https://www.rootedhg.com/wp-content/uploads/2025/10/Digital_Cowfish_Prime-Rib-Thursday_2025_1080px-x-1080px.jpg
END:VEVENT
BEGIN:VEVENT
DTSTART;TZID=America/New_York:20260226T180000
DTEND;TZID=America/New_York:20260226T210000
DTSTAMP:20260423T163821
CREATED:20260203T155252Z
LAST-MODIFIED:20260203T155254Z
UID:10048754-1772128800-1772139600@www.rootedhg.com
SUMMARY:Live Music Thursdays at RUMBA Hampton Bays | 6–9PM
DESCRIPTION:Live Music Thursdays at RUMBA Hampton Bays bring energy\, rhythm\, and unforgettable nights to the waterfront. Join us every Thursday from 6:00 to 9:00pm and enjoy live performances in a lively coastal setting. \nWhether you’re coming for the music or staying for the cocktails\, RUMBA offers bold flavors\, island-inspired drinks\, and one of the best views in town. So settle in\, sip something refreshing\, and make Thursday your midweek escape. \nLineup varies weekly. Check back for upcoming performers.
URL:https://www.rootedhg.com/event/live-music-thursdays-at-rumba-hampton-bays-6-9pm/2026-02-26/
LOCATION:RUMBA – Hampton Bays\, 43 Canoe Place Road\, Hampton Bays\, NY\, 11946\, United States
CATEGORIES:Live Music,Special Events
ATTACH;FMTTYPE=image/jpeg:https://www.rootedhg.com/wp-content/uploads/2026/02/Rumba-HB_Music-1080x1080-1.jpg
END:VEVENT
BEGIN:VEVENT
DTSTART;TZID=America/New_York:20260226T183000
DTEND;TZID=America/New_York:20260226T213000
DTSTAMP:20260423T163821
CREATED:20260112T192318Z
LAST-MODIFIED:20260112T202733Z
UID:10047626-1772130600-1772141400@www.rootedhg.com
SUMMARY:Cowfish LI Wine Showcase
DESCRIPTION:Cowfish invites you to an unforgettable evening celebrating the best of Long Island wine and cuisine. \nThroughout the night\, guests will taste selections from six award-winning Long Island vineyards while enjoying an abundant culinary experience crafted by our executive chefs. As you explore the space\, you’ll enjoy a continuous flow of passed bites that highlight Cowfish favorites alongside exclusive dishes created just for this event. In addition\, thoughtfully curated tasting moments will unfold throughout the evening. \nTo start\, expect freshly shucked oysters and an artisanal grazing table. Next\, savor an array of passed bites\, from caviar-forward small plates to crab fritters finished with harissa aioli. The experience continues with our famous Cowfish Pastrami and concludes with a sweet dessert finish. \nMeanwhile\, live music by Paris Ray sets the tone for this relaxed\, walk-around tasting event. Set right on the water in Hampton Bays\, the evening is designed to be shared with friends. \nFinally\, enjoy pours from six standout Long Island wine producers: Bedell | Palmer | Macari | Raphael | Borghese | Sparkling Pointe.
URL:https://www.rootedhg.com/event/cowfish-li-wine-showcase/
LOCATION:Cowfish\, 258 E. Montauk Hwy\, Hampton Bays\, NY\, 11946\, United States
CATEGORIES:Community,Live Music,Special Events
ATTACH;FMTTYPE=image/jpeg:https://www.rootedhg.com/wp-content/uploads/2026/01/Cowfish_Event_LI-Wine-Showcase_WEB.jpg
END:VEVENT
BEGIN:VEVENT
DTSTART;TZID=America/New_York:20260227T180000
DTEND;TZID=America/New_York:20260227T210000
DTSTAMP:20260423T163821
CREATED:20250915T211706Z
LAST-MODIFIED:20251218T181710Z
UID:10039207-1772215200-1772226000@www.rootedhg.com
SUMMARY:Cowfish Friday Night Music Series
DESCRIPTION:Dance the night away at our Friday Night Music Series at Cowfish! \nClick here to see the lineup.
URL:https://www.rootedhg.com/event/cowfish-friday-night-concert-series-2-2-2/2026-02-27/
LOCATION:Cowfish\, 258 E. Montauk Hwy\, Hampton Bays\, NY\, 11946\, United States
CATEGORIES:Live Music,Special Events
ATTACH;FMTTYPE=image/jpeg:https://www.rootedhg.com/wp-content/uploads/2025/09/Cowfish_Friday-Night-Music-Series_Fall-2025_1080px-x-1080px.jpg
END:VEVENT
BEGIN:VEVENT
DTSTART;TZID=America/New_York:20260227T210000
DTEND;TZID=America/New_York:20260228T000000
DTSTAMP:20260423T163821
CREATED:20251212T193128Z
LAST-MODIFIED:20260407T204807Z
UID:10043218-1772226000-1772236800@www.rootedhg.com
SUMMARY:Après DJ Party Patchogue | RUMBA Rooftop Fridays
DESCRIPTION:Après DJ Party Patchogue brings the energy to RUMBA Après Rooftop Lounge every Friday from 9PM to midnight. A live DJ sets the vibe while guests enjoy cocktails\, music\, and late-night rooftop views above Main Street. \nSet at RUMBA’s fully covered\, all-weather rooftop\, the Après Rooftop Lounge offers a seamless indoor-outdoor experience you can enjoy year-round. So gather your friends\, grab a drink\, and kick off the weekend at one of the most exciting Friday night rooftop DJ parties in Patchogue.
URL:https://www.rootedhg.com/event/apres-dj-party-patchogue-rumba/2026-02-27/
LOCATION:RUMBA – Patchogue\, 13 East Main Street\, Patchogue\, NY\, 11772\, United States
CATEGORIES:DJ,Live Music,Party,Special Events
ATTACH;FMTTYPE=image/jpeg:https://www.rootedhg.com/wp-content/uploads/2025/12/RUMBA_Patchogue_Apres-Lounge_DJ_RHG-PAGE.jpg
END:VEVENT
BEGIN:VEVENT
DTSTART;TZID=America/New_York:20260305T180000
DTEND;TZID=America/New_York:20260305T200000
DTSTAMP:20260423T163821
CREATED:20260213T210842Z
LAST-MODIFIED:20260213T210842Z
UID:10049013-1772733600-1772740800@www.rootedhg.com
SUMMARY:ArtSEA Create + Sip at Cowfish | Coastal Plants Watercolor Night
DESCRIPTION:ArtSEA Create + Sip at Cowfish returns on March 5 from 6–7pm with a creative evening inspired by the coast. This session features Coastal Plants: Watercolor Beachgrass Sunrise\, blending art\, education\, and waterfront views. \nGuests will first learn from CCE experts and educators about coastal plants and local restoration efforts. Then\, local artist Carolyn Munaco will guide you step-by-step through a watercolor painting designed for all skill levels. \nAdmission includes instruction\, materials\, and door prizes. So bring your creativity\, sip something refreshing\, and enjoy an hour of art with a coastal twist.
URL:https://www.rootedhg.com/event/artsea-create-sip-at-cowfish-coastal-plants-watercolor-night/
LOCATION:Cowfish\, 258 E. Montauk Hwy\, Hampton Bays\, NY\, 11946\, United States
ATTACH;FMTTYPE=image/jpeg:https://www.rootedhg.com/wp-content/uploads/2026/02/Cowfish_Coastal-Plants_1080-X-1080.jpg
END:VEVENT
BEGIN:VEVENT
DTSTART;TZID=America/New_York:20260305T190000
DTEND;TZID=America/New_York:20260305T203000
DTSTAMP:20260423T163821
CREATED:20250506T170201Z
LAST-MODIFIED:20260219T215558Z
UID:10022032-1772737200-1772742600@www.rootedhg.com
SUMMARY:Trivia Night at RUMBA Patchogue | Tacos & Trivia Thursdays
DESCRIPTION:Trivia Night at RUMBA Patchogue brings energy\, laughs\, and friendly competition to your week. Join us every first and third Thursday from 7:00 to 8:30pm for an evening of tacos\, cocktails\, and exciting trivia. \nTest your knowledge across a variety of fun and challenging topics. Then\, compete with friends for prizes and bragging rights. Whether you’re a trivia pro or just playing for fun\, every round delivers surprises. \nSo grab your team\, order your favorite tacos and drinks\, and make RUMBA your new trivia night tradition.
URL:https://www.rootedhg.com/event/rumba-trivia-p/2026-03-05/
LOCATION:RUMBA – Patchogue\, 13 East Main Street\, Patchogue\, NY\, 11772\, United States
CATEGORIES:Trivia
ATTACH;FMTTYPE=image/jpeg:https://www.rootedhg.com/wp-content/uploads/2025/05/Digital_RUMBA_Patchogue_Tacos-Trivia_1000px-x-1000px.jpg
END:VEVENT
BEGIN:VEVENT
DTSTART;TZID=America/New_York:20260312T183000
DTEND;TZID=America/New_York:20260312T210000
DTSTAMP:20260423T163821
CREATED:20260216T174208Z
LAST-MODIFIED:20260216T180355Z
UID:10049014-1773340200-1773349200@www.rootedhg.com
SUMMARY:RUMBA Rum Tasting Dinner with Don Q | Four-Course Pairing Event
DESCRIPTION:The RUMBA Rum Tasting Dinner with Don Q Rum is an intimate evening of flavor\, craft\, and island tradition. Join us on Thursday\, March 12th\, at RUMBA Hampton Bays for a four-course dinner inspired by Caribbean rum and coastal cuisine. \nOur Executive Culinary Team prepares each course with bold\, island-driven flavor. Expert mixologists pair every dish with premium Don Q expressions. Along the way\, you’ll explore the stories and techniques behind each pour. As a result\, every pairing reveals something new and memorable. \nBecause seating is limited\, this exclusive dinner offers a rare experience. You’ll enjoy RUMBA’s signature cooking alongside one of the Caribbean’s most respected rum producers. So reserve your seat now and join us for an unforgettable night.
URL:https://www.rootedhg.com/event/rumba-rum-tasting-dinner-with-don-q-four-course-pairing-event/
LOCATION:RUMBA – Hampton Bays\, 43 Canoe Place Road\, Hampton Bays\, NY\, 11946\, United States
CATEGORIES:Dinner,Drink Specials,Food Specials,Pairing Dinner,Special Events
ATTACH;FMTTYPE=image/jpeg:https://www.rootedhg.com/wp-content/uploads/2026/02/5-Rumba_1st-Course_Jumbo-Lump-Crab_OH_CUBE.jpg
END:VEVENT
BEGIN:VEVENT
DTSTART;TZID=America/New_York:20260326T173000
DTEND;TZID=America/New_York:20260326T210000
DTSTAMP:20260423T163821
CREATED:20260216T180314Z
LAST-MODIFIED:20260216T180316Z
UID:10049015-1774546200-1774558800@www.rootedhg.com
SUMMARY:California Gold Coast Wine Dinner at Fauna | Five-Course Pairing
DESCRIPTION:The California Gold Coast Wine Dinner at Fauna is a one-night-only celebration of wine and culinary craft. Join us for an intimate evening featuring a five-course\, seated tasting menu paired with exceptional California wines. \nFauna’s culinary team creates each course to highlight clarity\, balance\, and seasonal flavor. The evening begins with bright coastal wines. Then\, it moves into the deeper\, more structured expressions of Napa Valley. Each pairing reveals a thoughtful connection between kitchen and cellar. \nAlong the way\, you’ll experience new producers and distinctive styles. You’ll also discover how each wine enhances the flavors on the plate. Because seating is limited\, this exclusive dinner offers a rare opportunity to explore California’s gold standard. So reserve your seat and enjoy an unforgettable night at Fauna.
URL:https://www.rootedhg.com/event/california-gold-coast-wine-dinner-at-fauna-five-course-pairing/
LOCATION:Fauna\, 6 Parlato Drive\, Westhampton Beach\, NY\, 11978\, United States
CATEGORIES:Dinner,Drink Specials,Food Specials,Pairing Dinner,Special Events
ATTACH;FMTTYPE=image/jpeg:https://www.rootedhg.com/wp-content/uploads/2026/02/4-Fauna_Third-Course_Braised-Lamb-Mafalde-EDITED_CUBE.jpg
END:VEVENT
BEGIN:VEVENT
DTSTART;TZID=America/New_York:20260422T183000
DTEND;TZID=America/New_York:20260422T210000
DTSTAMP:20260423T163821
CREATED:20260320T201118Z
LAST-MODIFIED:20260320T201118Z
UID:10050756-1776882600-1776891600@www.rootedhg.com
SUMMARY:RUMBA Rum Tasting Dinner with Don Q | Four-Course Pairing Event
DESCRIPTION:The RUMBA Rum Tasting Dinner with Don Q Rum is an intimate evening of flavor\, craft\, and island tradition. Join us on Wednesday\, April 22nd\, at RUMBA Metairie for a four-course dinner inspired by Caribbean rum and coastal cuisine. \nOur Executive Culinary Team prepares each course with bold\, island-driven flavor. Expert mixologists pair every dish with premium Don Q expressions. Along the way\, you’ll explore the stories and techniques behind each pour. As a result\, every pairing reveals something new and memorable. \nBecause seating is limited\, this exclusive dinner offers a rare experience. You’ll enjoy RUMBA’s signature cooking alongside one of the Caribbean’s most respected rum producers. So reserve your seat now and join us for an unforgettable night.
URL:https://www.rootedhg.com/event/rumba-rum-tasting-dinner-with-don-q-metairie/
LOCATION:RUMBA – Metairie\, 5257 Veterans Memorial Blvd\, Metairie\, LA\, 70006\, United States
CATEGORIES:Dinner,Drink Specials,Food Specials,Pairing Dinner,Special Events
ATTACH;FMTTYPE=image/jpeg:https://www.rootedhg.com/wp-content/uploads/2026/03/Digital_Rumba_Metairie_Don-Q-Rum-Tasting-Dinner_2026_1080px-x-1080px.jpg
END:VEVENT
BEGIN:VEVENT
DTSTART;VALUE=DATE:20260426
DTEND;VALUE=DATE:20260504
DTSTAMP:20260423T163821
CREATED:20260420T150903Z
LAST-MODIFIED:20260420T151117Z
UID:10047677-1777161600-1777852799@www.rootedhg.com
SUMMARY:LI Restaurant Week at Fauna
DESCRIPTION:Join us for LI Restaurant Week at Fauna\, April 26 through May 3. Enjoy an exclusive prix fixe dinner menu inspired by the flavors of the season—fresh\, vibrant\, and thoughtfully crafted. \nExperience the art\, warmth\, and culinary storytelling that define the Fauna experience\, where every bite tells a story.
URL:https://www.rootedhg.com/event/li-restaurant-week-at-fauna-2/
LOCATION:Fauna\, 6 Parlato Drive\, Westhampton Beach\, NY\, 11978\, United States
CATEGORIES:Dinner,Food Specials,Special Events
ATTACH;FMTTYPE=image/jpeg:https://www.rootedhg.com/wp-content/uploads/2025/10/Digital_Fauna_LIRW_RHG-Event-Cube_Winter-2026.jpg
END:VEVENT
BEGIN:VEVENT
DTSTART;TZID=America/New_York:20260502T160000
DTEND;TZID=America/New_York:20260502T190000
DTSTAMP:20260423T163821
CREATED:20260403T205002Z
LAST-MODIFIED:20260403T210839Z
UID:10051994-1777737600-1777748400@www.rootedhg.com
SUMMARY:Fauna Kentucky Derby Party
DESCRIPTION:Fauna Kentucky Derby Party continues the tradition of watching the Run for the Roses at 6 Parlato Drive. Join us on Saturday\, May 2 at 4pm for an exciting Kentucky Derby watch party on Fauna’s back patio. \nGuests can enjoy passed hors d’oeuvres\, a fresh raw bar\, and Fauna Derby Day favorites while sipping specialty Derby cocktails. Featured selections include Angel’s Envy\, Banville Merchant Wines\, and Sparkling Pointe\, plus drinks from Fauna’s outdoor bar. \nMeanwhile\, the celebration brings plenty of style and friendly competition. Fedoras\, fascinators\, and statement hats are encouraged\, and prizes will be awarded for Best Hat and horse betting games. \nBecause seating is limited\, reservations are strongly recommended. So gather your friends\, dress your Derby best\, and join us for an unforgettable afternoon at Fauna.
URL:https://www.rootedhg.com/event/fauna-kentucky-derby-party/
LOCATION:Fauna\, 6 Parlato Drive\, Westhampton Beach\, NY\, 11978\, United States
CATEGORIES:Dinner,Drink Specials,Food Specials,Live Music,Party,Special Events
ATTACH;FMTTYPE=image/jpeg:https://www.rootedhg.com/wp-content/uploads/2026/04/Digital_Fauna_Derby-Day_2026_1080px-x-1080px_WEB.jpg
END:VEVENT
END:VCALENDAR