BEGIN:VCALENDAR
VERSION:2.0
PRODID:-//Rooted Hospitality Group - ECPv6.15.20//NONSGML v1.0//EN
CALSCALE:GREGORIAN
METHOD:PUBLISH
X-ORIGINAL-URL:https://www.rootedhg.com
X-WR-CALDESC:Events for Rooted Hospitality Group
REFRESH-INTERVAL;VALUE=DURATION:PT1H
X-Robots-Tag:noindex
X-PUBLISHED-TTL:PT1H
BEGIN:VTIMEZONE
TZID:America/New_York
BEGIN:DAYLIGHT
TZOFFSETFROM:-0500
TZOFFSETTO:-0400
TZNAME:EDT
DTSTART:20260308T070000
END:DAYLIGHT
BEGIN:STANDARD
TZOFFSETFROM:-0400
TZOFFSETTO:-0500
TZNAME:EST
DTSTART:20261101T060000
END:STANDARD
BEGIN:DAYLIGHT
TZOFFSETFROM:-0500
TZOFFSETTO:-0400
TZNAME:EDT
DTSTART:20270314T070000
END:DAYLIGHT
BEGIN:STANDARD
TZOFFSETFROM:-0400
TZOFFSETTO:-0500
TZNAME:EST
DTSTART:20271107T060000
END:STANDARD
BEGIN:DAYLIGHT
TZOFFSETFROM:-0500
TZOFFSETTO:-0400
TZNAME:EDT
DTSTART:20280312T070000
END:DAYLIGHT
BEGIN:STANDARD
TZOFFSETFROM:-0400
TZOFFSETTO:-0500
TZNAME:EST
DTSTART:20281105T060000
END:STANDARD
END:VTIMEZONE
BEGIN:VEVENT
DTSTART;TZID=America/New_York:20270304T190000
DTEND;TZID=America/New_York:20270304T203000
DTSTAMP:20260421T224419
CREATED:20250506T170201Z
LAST-MODIFIED:20260219T215558Z
UID:10049071-1804186800-1804192200@www.rootedhg.com
SUMMARY:Trivia Night at RUMBA Patchogue | Tacos & Trivia Thursdays
DESCRIPTION:Trivia Night at RUMBA Patchogue brings energy\, laughs\, and friendly competition to your week. Join us every first and third Thursday from 7:00 to 8:30pm for an evening of tacos\, cocktails\, and exciting trivia. \nTest your knowledge across a variety of fun and challenging topics. Then\, compete with friends for prizes and bragging rights. Whether you’re a trivia pro or just playing for fun\, every round delivers surprises. \nSo grab your team\, order your favorite tacos and drinks\, and make RUMBA your new trivia night tradition.
URL:https://www.rootedhg.com/event/rumba-trivia-p/2027-03-04/
LOCATION:RUMBA – Patchogue\, 13 East Main Street\, Patchogue\, NY\, 11772\, United States
CATEGORIES:Trivia
ATTACH;FMTTYPE=image/jpeg:https://www.rootedhg.com/wp-content/uploads/2025/05/Digital_RUMBA_Patchogue_Tacos-Trivia_1000px-x-1000px.jpg
END:VEVENT
BEGIN:VEVENT
DTSTART;TZID=America/New_York:20270318T190000
DTEND;TZID=America/New_York:20270318T203000
DTSTAMP:20260421T224419
CREATED:20260219T215821Z
LAST-MODIFIED:20260219T220047Z
UID:10049201-1805396400-1805401800@www.rootedhg.com
SUMMARY:Trivia Night at RUMBA Patchogue | Tacos & Trivia Thursdays
DESCRIPTION:Trivia Night at RUMBA Patchogue brings energy\, laughs\, and friendly competition to your week. Join us every first and third Thursday from 7:00 to 8:30pm for an evening of tacos\, cocktails\, and exciting trivia. \nTest your knowledge across a variety of fun and challenging topics. Then\, compete with friends for prizes and bragging rights. Whether you’re a trivia pro or just playing for fun\, every round delivers surprises. \nSo grab your team\, order your favorite tacos and drinks\, and make RUMBA your new trivia night tradition.
URL:https://www.rootedhg.com/event/trivia-night-at-rumba-patchogue-tacos-trivia-thursdays/2027-03-18/
LOCATION:RUMBA – Patchogue\, 13 East Main Street\, Patchogue\, NY\, 11772\, United States
CATEGORIES:Trivia
ATTACH;FMTTYPE=image/jpeg:https://www.rootedhg.com/wp-content/uploads/2025/05/Digital_RUMBA_Patchogue_Tacos-Trivia_1000px-x-1000px.jpg
END:VEVENT
END:VCALENDAR