BEGIN:VCALENDAR
VERSION:2.0
PRODID:-//Rooted Hospitality Group - ECPv6.15.20//NONSGML v1.0//EN
CALSCALE:GREGORIAN
METHOD:PUBLISH
X-ORIGINAL-URL:https://www.rootedhg.com
X-WR-CALDESC:Events for Rooted Hospitality Group
REFRESH-INTERVAL;VALUE=DURATION:PT1H
X-Robots-Tag:noindex
X-PUBLISHED-TTL:PT1H
BEGIN:VTIMEZONE
TZID:America/New_York
BEGIN:DAYLIGHT
TZOFFSETFROM:-0500
TZOFFSETTO:-0400
TZNAME:EDT
DTSTART:20280312T070000
END:DAYLIGHT
BEGIN:STANDARD
TZOFFSETFROM:-0400
TZOFFSETTO:-0500
TZNAME:EST
DTSTART:20281105T060000
END:STANDARD
BEGIN:DAYLIGHT
TZOFFSETFROM:-0500
TZOFFSETTO:-0400
TZNAME:EDT
DTSTART:20290311T070000
END:DAYLIGHT
BEGIN:STANDARD
TZOFFSETFROM:-0400
TZOFFSETTO:-0500
TZNAME:EST
DTSTART:20291104T060000
END:STANDARD
BEGIN:DAYLIGHT
TZOFFSETFROM:-0500
TZOFFSETTO:-0400
TZNAME:EDT
DTSTART:20300310T070000
END:DAYLIGHT
BEGIN:STANDARD
TZOFFSETFROM:-0400
TZOFFSETTO:-0500
TZNAME:EST
DTSTART:20301103T060000
END:STANDARD
END:VTIMEZONE
BEGIN:VEVENT
DTSTART;TZID=America/New_York:20290703T110000
DTEND;TZID=America/New_York:20290703T160000
DTSTAMP:20260423T081722
CREATED:20250915T212256Z
LAST-MODIFIED:20251218T170222Z
UID:10040425-1877770800-1877788800@www.rootedhg.com
SUMMARY:RUMBA Taco Tuesday
DESCRIPTION:Clock out\, taco up. Taco Tuesday is your new lunch ritual at RUMBA! Enjoy three delicious tacos for just $15. Lunch Only Until 4pm. Dine in with us or take them to go!
URL:https://www.rootedhg.com/event/rumba-taco-tuesday/2029-07-03/
LOCATION:RUMBA – Metairie\, 5257 Veterans Memorial Blvd\, Metairie\, LA\, 70006\, United States
CATEGORIES:Food Specials,Taco Tuesday
ATTACH;FMTTYPE=image/jpeg:https://www.rootedhg.com/wp-content/uploads/2025/05/Digital_Rumba_Taco-Tuesday_1080px-x-1080px_May-2025.jpg
END:VEVENT
BEGIN:VEVENT
DTSTART;TZID=America/New_York:20290703T110000
DTEND;TZID=America/New_York:20290703T210000
DTSTAMP:20260423T081722
CREATED:20240703T164519Z
LAST-MODIFIED:20251218T180554Z
UID:10031338-1877770800-1877806800@www.rootedhg.com
SUMMARY:AVO TACO Tuesday
DESCRIPTION:Enjoy Taco Tuesday at AVO TACO with 3 tacos for just $13\, all day long! Whether you’re dining in or taking out\, use code “TACOTUESDAY” at checkout to savor this delicious deal.
URL:https://www.rootedhg.com/event/avo-taco-tuesday/2029-07-03/
LOCATION:AVO TACO – Bayside\, 212-97 26TH AVE\, Bayside\, NY\, 11360\, United States
CATEGORIES:Food Specials,Taco Tuesday
ATTACH;FMTTYPE=image/jpeg:https://www.rootedhg.com/wp-content/uploads/2024/07/AvoTaco_Tuesday-800X-800-2048x2048-1.jpg
END:VEVENT
BEGIN:VEVENT
DTSTART;TZID=America/New_York:20290703T113000
DTEND;TZID=America/New_York:20290703T160000
DTSTAMP:20260423T081722
CREATED:20250915T212648Z
LAST-MODIFIED:20251218T170214Z
UID:10037624-1877772600-1877788800@www.rootedhg.com
SUMMARY:RUMBA Taco Tuesday
DESCRIPTION:Taco lovers rejoice! Join us at RUMBA for Taco Tuesday and enjoy 3 delicious tacos for just $15. Lunch Only Until 4pm. Savor the flavors and make your week tastier with our mouthwatering tacos!
URL:https://www.rootedhg.com/event/rumba-taco-tuesday-thursday-p-2/2029-07-03/
LOCATION:RUMBA – Patchogue\, 13 East Main Street\, Patchogue\, NY\, 11772\, United States
CATEGORIES:Food Specials,Taco Tuesday
ATTACH;FMTTYPE=image/jpeg:https://www.rootedhg.com/wp-content/uploads/2025/05/Digital_Rumba_Taco-Tuesday_1080px-x-1080px_May-2025.jpg
END:VEVENT
BEGIN:VEVENT
DTSTART;TZID=America/New_York:20290703T120000
DTEND;TZID=America/New_York:20290703T160000
DTSTAMP:20260423T081722
CREATED:20250915T212122Z
LAST-MODIFIED:20251218T170206Z
UID:10040164-1877774400-1877788800@www.rootedhg.com
SUMMARY:RUMBA Taco Tuesday
DESCRIPTION:Clock out\, taco up. Taco Tuesday is your new lunch ritual at RUMBA! Enjoy three delicious tacos for just $15. Lunch Only Until 4pm. Dine in with us or take them to go!
URL:https://www.rootedhg.com/event/rumba-taco-thursday-2-2-2-2-2/2029-07-03/
LOCATION:RUMBA – Hampton Bays\, 43 Canoe Place Road\, Hampton Bays\, NY\, 11946\, United States
CATEGORIES:Food Specials,Taco Tuesday
ATTACH;FMTTYPE=image/jpeg:https://www.rootedhg.com/wp-content/uploads/2025/05/Digital_Rumba_Taco-Tuesday_1080px-x-1080px_May-2025.jpg
END:VEVENT
BEGIN:VEVENT
DTSTART;TZID=America/New_York:20290710T110000
DTEND;TZID=America/New_York:20290710T160000
DTSTAMP:20260423T081722
CREATED:20250915T212256Z
LAST-MODIFIED:20251218T170222Z
UID:10040426-1878375600-1878393600@www.rootedhg.com
SUMMARY:RUMBA Taco Tuesday
DESCRIPTION:Clock out\, taco up. Taco Tuesday is your new lunch ritual at RUMBA! Enjoy three delicious tacos for just $15. Lunch Only Until 4pm. Dine in with us or take them to go!
URL:https://www.rootedhg.com/event/rumba-taco-tuesday/2029-07-10/
LOCATION:RUMBA – Metairie\, 5257 Veterans Memorial Blvd\, Metairie\, LA\, 70006\, United States
CATEGORIES:Food Specials,Taco Tuesday
ATTACH;FMTTYPE=image/jpeg:https://www.rootedhg.com/wp-content/uploads/2025/05/Digital_Rumba_Taco-Tuesday_1080px-x-1080px_May-2025.jpg
END:VEVENT
BEGIN:VEVENT
DTSTART;TZID=America/New_York:20290710T110000
DTEND;TZID=America/New_York:20290710T210000
DTSTAMP:20260423T081722
CREATED:20240703T164519Z
LAST-MODIFIED:20251218T180554Z
UID:10047451-1878375600-1878411600@www.rootedhg.com
SUMMARY:AVO TACO Tuesday
DESCRIPTION:Enjoy Taco Tuesday at AVO TACO with 3 tacos for just $13\, all day long! Whether you’re dining in or taking out\, use code “TACOTUESDAY” at checkout to savor this delicious deal.
URL:https://www.rootedhg.com/event/avo-taco-tuesday/2029-07-10/
LOCATION:AVO TACO – Bayside\, 212-97 26TH AVE\, Bayside\, NY\, 11360\, United States
CATEGORIES:Food Specials,Taco Tuesday
ATTACH;FMTTYPE=image/jpeg:https://www.rootedhg.com/wp-content/uploads/2024/07/AvoTaco_Tuesday-800X-800-2048x2048-1.jpg
END:VEVENT
BEGIN:VEVENT
DTSTART;TZID=America/New_York:20290710T113000
DTEND;TZID=America/New_York:20290710T160000
DTSTAMP:20260423T081722
CREATED:20250915T212648Z
LAST-MODIFIED:20251218T170214Z
UID:10037625-1878377400-1878393600@www.rootedhg.com
SUMMARY:RUMBA Taco Tuesday
DESCRIPTION:Taco lovers rejoice! Join us at RUMBA for Taco Tuesday and enjoy 3 delicious tacos for just $15. Lunch Only Until 4pm. Savor the flavors and make your week tastier with our mouthwatering tacos!
URL:https://www.rootedhg.com/event/rumba-taco-tuesday-thursday-p-2/2029-07-10/
LOCATION:RUMBA – Patchogue\, 13 East Main Street\, Patchogue\, NY\, 11772\, United States
CATEGORIES:Food Specials,Taco Tuesday
ATTACH;FMTTYPE=image/jpeg:https://www.rootedhg.com/wp-content/uploads/2025/05/Digital_Rumba_Taco-Tuesday_1080px-x-1080px_May-2025.jpg
END:VEVENT
BEGIN:VEVENT
DTSTART;TZID=America/New_York:20290710T120000
DTEND;TZID=America/New_York:20290710T160000
DTSTAMP:20260423T081722
CREATED:20250915T212122Z
LAST-MODIFIED:20251218T170206Z
UID:10040165-1878379200-1878393600@www.rootedhg.com
SUMMARY:RUMBA Taco Tuesday
DESCRIPTION:Clock out\, taco up. Taco Tuesday is your new lunch ritual at RUMBA! Enjoy three delicious tacos for just $15. Lunch Only Until 4pm. Dine in with us or take them to go!
URL:https://www.rootedhg.com/event/rumba-taco-thursday-2-2-2-2-2/2029-07-10/
LOCATION:RUMBA – Hampton Bays\, 43 Canoe Place Road\, Hampton Bays\, NY\, 11946\, United States
CATEGORIES:Food Specials,Taco Tuesday
ATTACH;FMTTYPE=image/jpeg:https://www.rootedhg.com/wp-content/uploads/2025/05/Digital_Rumba_Taco-Tuesday_1080px-x-1080px_May-2025.jpg
END:VEVENT
BEGIN:VEVENT
DTSTART;TZID=America/New_York:20290717T110000
DTEND;TZID=America/New_York:20290717T160000
DTSTAMP:20260423T081722
CREATED:20250915T212256Z
LAST-MODIFIED:20251218T170222Z
UID:10040427-1878980400-1878998400@www.rootedhg.com
SUMMARY:RUMBA Taco Tuesday
DESCRIPTION:Clock out\, taco up. Taco Tuesday is your new lunch ritual at RUMBA! Enjoy three delicious tacos for just $15. Lunch Only Until 4pm. Dine in with us or take them to go!
URL:https://www.rootedhg.com/event/rumba-taco-tuesday/2029-07-17/
LOCATION:RUMBA – Metairie\, 5257 Veterans Memorial Blvd\, Metairie\, LA\, 70006\, United States
CATEGORIES:Food Specials,Taco Tuesday
ATTACH;FMTTYPE=image/jpeg:https://www.rootedhg.com/wp-content/uploads/2025/05/Digital_Rumba_Taco-Tuesday_1080px-x-1080px_May-2025.jpg
END:VEVENT
BEGIN:VEVENT
DTSTART;TZID=America/New_York:20290717T110000
DTEND;TZID=America/New_York:20290717T210000
DTSTAMP:20260423T081722
CREATED:20240703T164519Z
LAST-MODIFIED:20251218T180554Z
UID:10047452-1878980400-1879016400@www.rootedhg.com
SUMMARY:AVO TACO Tuesday
DESCRIPTION:Enjoy Taco Tuesday at AVO TACO with 3 tacos for just $13\, all day long! Whether you’re dining in or taking out\, use code “TACOTUESDAY” at checkout to savor this delicious deal.
URL:https://www.rootedhg.com/event/avo-taco-tuesday/2029-07-17/
LOCATION:AVO TACO – Bayside\, 212-97 26TH AVE\, Bayside\, NY\, 11360\, United States
CATEGORIES:Food Specials,Taco Tuesday
ATTACH;FMTTYPE=image/jpeg:https://www.rootedhg.com/wp-content/uploads/2024/07/AvoTaco_Tuesday-800X-800-2048x2048-1.jpg
END:VEVENT
BEGIN:VEVENT
DTSTART;TZID=America/New_York:20290717T113000
DTEND;TZID=America/New_York:20290717T160000
DTSTAMP:20260423T081722
CREATED:20250915T212648Z
LAST-MODIFIED:20251218T170214Z
UID:10037626-1878982200-1878998400@www.rootedhg.com
SUMMARY:RUMBA Taco Tuesday
DESCRIPTION:Taco lovers rejoice! Join us at RUMBA for Taco Tuesday and enjoy 3 delicious tacos for just $15. Lunch Only Until 4pm. Savor the flavors and make your week tastier with our mouthwatering tacos!
URL:https://www.rootedhg.com/event/rumba-taco-tuesday-thursday-p-2/2029-07-17/
LOCATION:RUMBA – Patchogue\, 13 East Main Street\, Patchogue\, NY\, 11772\, United States
CATEGORIES:Food Specials,Taco Tuesday
ATTACH;FMTTYPE=image/jpeg:https://www.rootedhg.com/wp-content/uploads/2025/05/Digital_Rumba_Taco-Tuesday_1080px-x-1080px_May-2025.jpg
END:VEVENT
BEGIN:VEVENT
DTSTART;TZID=America/New_York:20290717T120000
DTEND;TZID=America/New_York:20290717T160000
DTSTAMP:20260423T081722
CREATED:20250915T212122Z
LAST-MODIFIED:20251218T170206Z
UID:10040166-1878984000-1878998400@www.rootedhg.com
SUMMARY:RUMBA Taco Tuesday
DESCRIPTION:Clock out\, taco up. Taco Tuesday is your new lunch ritual at RUMBA! Enjoy three delicious tacos for just $15. Lunch Only Until 4pm. Dine in with us or take them to go!
URL:https://www.rootedhg.com/event/rumba-taco-thursday-2-2-2-2-2/2029-07-17/
LOCATION:RUMBA – Hampton Bays\, 43 Canoe Place Road\, Hampton Bays\, NY\, 11946\, United States
CATEGORIES:Food Specials,Taco Tuesday
ATTACH;FMTTYPE=image/jpeg:https://www.rootedhg.com/wp-content/uploads/2025/05/Digital_Rumba_Taco-Tuesday_1080px-x-1080px_May-2025.jpg
END:VEVENT
BEGIN:VEVENT
DTSTART;TZID=America/New_York:20290724T110000
DTEND;TZID=America/New_York:20290724T160000
DTSTAMP:20260423T081722
CREATED:20250915T212256Z
LAST-MODIFIED:20251218T170222Z
UID:10040428-1879585200-1879603200@www.rootedhg.com
SUMMARY:RUMBA Taco Tuesday
DESCRIPTION:Clock out\, taco up. Taco Tuesday is your new lunch ritual at RUMBA! Enjoy three delicious tacos for just $15. Lunch Only Until 4pm. Dine in with us or take them to go!
URL:https://www.rootedhg.com/event/rumba-taco-tuesday/2029-07-24/
LOCATION:RUMBA – Metairie\, 5257 Veterans Memorial Blvd\, Metairie\, LA\, 70006\, United States
CATEGORIES:Food Specials,Taco Tuesday
ATTACH;FMTTYPE=image/jpeg:https://www.rootedhg.com/wp-content/uploads/2025/05/Digital_Rumba_Taco-Tuesday_1080px-x-1080px_May-2025.jpg
END:VEVENT
BEGIN:VEVENT
DTSTART;TZID=America/New_York:20290724T110000
DTEND;TZID=America/New_York:20290724T210000
DTSTAMP:20260423T081722
CREATED:20240703T164519Z
LAST-MODIFIED:20251218T180554Z
UID:10047453-1879585200-1879621200@www.rootedhg.com
SUMMARY:AVO TACO Tuesday
DESCRIPTION:Enjoy Taco Tuesday at AVO TACO with 3 tacos for just $13\, all day long! Whether you’re dining in or taking out\, use code “TACOTUESDAY” at checkout to savor this delicious deal.
URL:https://www.rootedhg.com/event/avo-taco-tuesday/2029-07-24/
LOCATION:AVO TACO – Bayside\, 212-97 26TH AVE\, Bayside\, NY\, 11360\, United States
CATEGORIES:Food Specials,Taco Tuesday
ATTACH;FMTTYPE=image/jpeg:https://www.rootedhg.com/wp-content/uploads/2024/07/AvoTaco_Tuesday-800X-800-2048x2048-1.jpg
END:VEVENT
BEGIN:VEVENT
DTSTART;TZID=America/New_York:20290724T113000
DTEND;TZID=America/New_York:20290724T160000
DTSTAMP:20260423T081722
CREATED:20250915T212648Z
LAST-MODIFIED:20251218T170214Z
UID:10037627-1879587000-1879603200@www.rootedhg.com
SUMMARY:RUMBA Taco Tuesday
DESCRIPTION:Taco lovers rejoice! Join us at RUMBA for Taco Tuesday and enjoy 3 delicious tacos for just $15. Lunch Only Until 4pm. Savor the flavors and make your week tastier with our mouthwatering tacos!
URL:https://www.rootedhg.com/event/rumba-taco-tuesday-thursday-p-2/2029-07-24/
LOCATION:RUMBA – Patchogue\, 13 East Main Street\, Patchogue\, NY\, 11772\, United States
CATEGORIES:Food Specials,Taco Tuesday
ATTACH;FMTTYPE=image/jpeg:https://www.rootedhg.com/wp-content/uploads/2025/05/Digital_Rumba_Taco-Tuesday_1080px-x-1080px_May-2025.jpg
END:VEVENT
BEGIN:VEVENT
DTSTART;TZID=America/New_York:20290724T120000
DTEND;TZID=America/New_York:20290724T160000
DTSTAMP:20260423T081722
CREATED:20250915T212122Z
LAST-MODIFIED:20251218T170206Z
UID:10040167-1879588800-1879603200@www.rootedhg.com
SUMMARY:RUMBA Taco Tuesday
DESCRIPTION:Clock out\, taco up. Taco Tuesday is your new lunch ritual at RUMBA! Enjoy three delicious tacos for just $15. Lunch Only Until 4pm. Dine in with us or take them to go!
URL:https://www.rootedhg.com/event/rumba-taco-thursday-2-2-2-2-2/2029-07-24/
LOCATION:RUMBA – Hampton Bays\, 43 Canoe Place Road\, Hampton Bays\, NY\, 11946\, United States
CATEGORIES:Food Specials,Taco Tuesday
ATTACH;FMTTYPE=image/jpeg:https://www.rootedhg.com/wp-content/uploads/2025/05/Digital_Rumba_Taco-Tuesday_1080px-x-1080px_May-2025.jpg
END:VEVENT
BEGIN:VEVENT
DTSTART;TZID=America/New_York:20290731T110000
DTEND;TZID=America/New_York:20290731T160000
DTSTAMP:20260423T081722
CREATED:20250915T212256Z
LAST-MODIFIED:20251218T170222Z
UID:10040429-1880190000-1880208000@www.rootedhg.com
SUMMARY:RUMBA Taco Tuesday
DESCRIPTION:Clock out\, taco up. Taco Tuesday is your new lunch ritual at RUMBA! Enjoy three delicious tacos for just $15. Lunch Only Until 4pm. Dine in with us or take them to go!
URL:https://www.rootedhg.com/event/rumba-taco-tuesday/2029-07-31/
LOCATION:RUMBA – Metairie\, 5257 Veterans Memorial Blvd\, Metairie\, LA\, 70006\, United States
CATEGORIES:Food Specials,Taco Tuesday
ATTACH;FMTTYPE=image/jpeg:https://www.rootedhg.com/wp-content/uploads/2025/05/Digital_Rumba_Taco-Tuesday_1080px-x-1080px_May-2025.jpg
END:VEVENT
BEGIN:VEVENT
DTSTART;TZID=America/New_York:20290731T110000
DTEND;TZID=America/New_York:20290731T210000
DTSTAMP:20260423T081722
CREATED:20240703T164519Z
LAST-MODIFIED:20251218T180554Z
UID:10047454-1880190000-1880226000@www.rootedhg.com
SUMMARY:AVO TACO Tuesday
DESCRIPTION:Enjoy Taco Tuesday at AVO TACO with 3 tacos for just $13\, all day long! Whether you’re dining in or taking out\, use code “TACOTUESDAY” at checkout to savor this delicious deal.
URL:https://www.rootedhg.com/event/avo-taco-tuesday/2029-07-31/
LOCATION:AVO TACO – Bayside\, 212-97 26TH AVE\, Bayside\, NY\, 11360\, United States
CATEGORIES:Food Specials,Taco Tuesday
ATTACH;FMTTYPE=image/jpeg:https://www.rootedhg.com/wp-content/uploads/2024/07/AvoTaco_Tuesday-800X-800-2048x2048-1.jpg
END:VEVENT
BEGIN:VEVENT
DTSTART;TZID=America/New_York:20290731T113000
DTEND;TZID=America/New_York:20290731T160000
DTSTAMP:20260423T081722
CREATED:20250915T212648Z
LAST-MODIFIED:20251218T170214Z
UID:10037628-1880191800-1880208000@www.rootedhg.com
SUMMARY:RUMBA Taco Tuesday
DESCRIPTION:Taco lovers rejoice! Join us at RUMBA for Taco Tuesday and enjoy 3 delicious tacos for just $15. Lunch Only Until 4pm. Savor the flavors and make your week tastier with our mouthwatering tacos!
URL:https://www.rootedhg.com/event/rumba-taco-tuesday-thursday-p-2/2029-07-31/
LOCATION:RUMBA – Patchogue\, 13 East Main Street\, Patchogue\, NY\, 11772\, United States
CATEGORIES:Food Specials,Taco Tuesday
ATTACH;FMTTYPE=image/jpeg:https://www.rootedhg.com/wp-content/uploads/2025/05/Digital_Rumba_Taco-Tuesday_1080px-x-1080px_May-2025.jpg
END:VEVENT
BEGIN:VEVENT
DTSTART;TZID=America/New_York:20290731T120000
DTEND;TZID=America/New_York:20290731T160000
DTSTAMP:20260423T081722
CREATED:20250915T212122Z
LAST-MODIFIED:20251218T170206Z
UID:10040168-1880193600-1880208000@www.rootedhg.com
SUMMARY:RUMBA Taco Tuesday
DESCRIPTION:Clock out\, taco up. Taco Tuesday is your new lunch ritual at RUMBA! Enjoy three delicious tacos for just $15. Lunch Only Until 4pm. Dine in with us or take them to go!
URL:https://www.rootedhg.com/event/rumba-taco-thursday-2-2-2-2-2/2029-07-31/
LOCATION:RUMBA – Hampton Bays\, 43 Canoe Place Road\, Hampton Bays\, NY\, 11946\, United States
CATEGORIES:Food Specials,Taco Tuesday
ATTACH;FMTTYPE=image/jpeg:https://www.rootedhg.com/wp-content/uploads/2025/05/Digital_Rumba_Taco-Tuesday_1080px-x-1080px_May-2025.jpg
END:VEVENT
END:VCALENDAR