BEGIN:VCALENDAR
VERSION:2.0
PRODID:-//Rooted Hospitality Group - ECPv6.15.20//NONSGML v1.0//EN
CALSCALE:GREGORIAN
METHOD:PUBLISH
X-WR-CALNAME:Rooted Hospitality Group
X-ORIGINAL-URL:https://www.rootedhg.com
X-WR-CALDESC:Events for Rooted Hospitality Group
REFRESH-INTERVAL;VALUE=DURATION:PT1H
X-Robots-Tag:noindex
X-PUBLISHED-TTL:PT1H
BEGIN:VTIMEZONE
TZID:America/New_York
BEGIN:DAYLIGHT
TZOFFSETFROM:-0500
TZOFFSETTO:-0400
TZNAME:EDT
DTSTART:20270314T070000
END:DAYLIGHT
BEGIN:STANDARD
TZOFFSETFROM:-0400
TZOFFSETTO:-0500
TZNAME:EST
DTSTART:20271107T060000
END:STANDARD
BEGIN:DAYLIGHT
TZOFFSETFROM:-0500
TZOFFSETTO:-0400
TZNAME:EDT
DTSTART:20280312T070000
END:DAYLIGHT
BEGIN:STANDARD
TZOFFSETFROM:-0400
TZOFFSETTO:-0500
TZNAME:EST
DTSTART:20281105T060000
END:STANDARD
BEGIN:DAYLIGHT
TZOFFSETFROM:-0500
TZOFFSETTO:-0400
TZNAME:EDT
DTSTART:20290311T070000
END:DAYLIGHT
BEGIN:STANDARD
TZOFFSETFROM:-0400
TZOFFSETTO:-0500
TZNAME:EST
DTSTART:20291104T060000
END:STANDARD
END:VTIMEZONE
BEGIN:VEVENT
DTSTART;TZID=America/New_York:20281107T110000
DTEND;TZID=America/New_York:20281107T160000
DTSTAMP:20260422T154514
CREATED:20250915T212256Z
LAST-MODIFIED:20251218T170222Z
UID:10040391-1857207600-1857225600@www.rootedhg.com
SUMMARY:RUMBA Taco Tuesday
DESCRIPTION:Clock out\, taco up. Taco Tuesday is your new lunch ritual at RUMBA! Enjoy three delicious tacos for just $15. Lunch Only Until 4pm. Dine in with us or take them to go!
URL:https://www.rootedhg.com/event/rumba-taco-tuesday/2028-11-07/
LOCATION:RUMBA – Metairie\, 5257 Veterans Memorial Blvd\, Metairie\, LA\, 70006\, United States
CATEGORIES:Food Specials,Taco Tuesday
ATTACH;FMTTYPE=image/jpeg:https://www.rootedhg.com/wp-content/uploads/2025/05/Digital_Rumba_Taco-Tuesday_1080px-x-1080px_May-2025.jpg
END:VEVENT
BEGIN:VEVENT
DTSTART;TZID=America/New_York:20281107T110000
DTEND;TZID=America/New_York:20281107T210000
DTSTAMP:20260422T154514
CREATED:20240703T164519Z
LAST-MODIFIED:20251218T180554Z
UID:10031304-1857207600-1857243600@www.rootedhg.com
SUMMARY:AVO TACO Tuesday
DESCRIPTION:Enjoy Taco Tuesday at AVO TACO with 3 tacos for just $13\, all day long! Whether you’re dining in or taking out\, use code “TACOTUESDAY” at checkout to savor this delicious deal.
URL:https://www.rootedhg.com/event/avo-taco-tuesday/2028-11-07/
LOCATION:AVO TACO – Bayside\, 212-97 26TH AVE\, Bayside\, NY\, 11360\, United States
CATEGORIES:Food Specials,Taco Tuesday
ATTACH;FMTTYPE=image/jpeg:https://www.rootedhg.com/wp-content/uploads/2024/07/AvoTaco_Tuesday-800X-800-2048x2048-1.jpg
END:VEVENT
BEGIN:VEVENT
DTSTART;TZID=America/New_York:20281107T113000
DTEND;TZID=America/New_York:20281107T160000
DTSTAMP:20260422T154514
CREATED:20250915T212648Z
LAST-MODIFIED:20251218T170214Z
UID:10037590-1857209400-1857225600@www.rootedhg.com
SUMMARY:RUMBA Taco Tuesday
DESCRIPTION:Taco lovers rejoice! Join us at RUMBA for Taco Tuesday and enjoy 3 delicious tacos for just $15. Lunch Only Until 4pm. Savor the flavors and make your week tastier with our mouthwatering tacos!
URL:https://www.rootedhg.com/event/rumba-taco-tuesday-thursday-p-2/2028-11-07/
LOCATION:RUMBA – Patchogue\, 13 East Main Street\, Patchogue\, NY\, 11772\, United States
CATEGORIES:Food Specials,Taco Tuesday
ATTACH;FMTTYPE=image/jpeg:https://www.rootedhg.com/wp-content/uploads/2025/05/Digital_Rumba_Taco-Tuesday_1080px-x-1080px_May-2025.jpg
END:VEVENT
BEGIN:VEVENT
DTSTART;TZID=America/New_York:20281107T120000
DTEND;TZID=America/New_York:20281107T160000
DTSTAMP:20260422T154514
CREATED:20250915T212122Z
LAST-MODIFIED:20251218T170206Z
UID:10040130-1857211200-1857225600@www.rootedhg.com
SUMMARY:RUMBA Taco Tuesday
DESCRIPTION:Clock out\, taco up. Taco Tuesday is your new lunch ritual at RUMBA! Enjoy three delicious tacos for just $15. Lunch Only Until 4pm. Dine in with us or take them to go!
URL:https://www.rootedhg.com/event/rumba-taco-thursday-2-2-2-2-2/2028-11-07/
LOCATION:RUMBA – Hampton Bays\, 43 Canoe Place Road\, Hampton Bays\, NY\, 11946\, United States
CATEGORIES:Food Specials,Taco Tuesday
ATTACH;FMTTYPE=image/jpeg:https://www.rootedhg.com/wp-content/uploads/2025/05/Digital_Rumba_Taco-Tuesday_1080px-x-1080px_May-2025.jpg
END:VEVENT
BEGIN:VEVENT
DTSTART;TZID=America/New_York:20281114T110000
DTEND;TZID=America/New_York:20281114T160000
DTSTAMP:20260422T154514
CREATED:20250915T212256Z
LAST-MODIFIED:20251218T170222Z
UID:10040392-1857812400-1857830400@www.rootedhg.com
SUMMARY:RUMBA Taco Tuesday
DESCRIPTION:Clock out\, taco up. Taco Tuesday is your new lunch ritual at RUMBA! Enjoy three delicious tacos for just $15. Lunch Only Until 4pm. Dine in with us or take them to go!
URL:https://www.rootedhg.com/event/rumba-taco-tuesday/2028-11-14/
LOCATION:RUMBA – Metairie\, 5257 Veterans Memorial Blvd\, Metairie\, LA\, 70006\, United States
CATEGORIES:Food Specials,Taco Tuesday
ATTACH;FMTTYPE=image/jpeg:https://www.rootedhg.com/wp-content/uploads/2025/05/Digital_Rumba_Taco-Tuesday_1080px-x-1080px_May-2025.jpg
END:VEVENT
BEGIN:VEVENT
DTSTART;TZID=America/New_York:20281114T110000
DTEND;TZID=America/New_York:20281114T210000
DTSTAMP:20260422T154514
CREATED:20240703T164519Z
LAST-MODIFIED:20251218T180554Z
UID:10031305-1857812400-1857848400@www.rootedhg.com
SUMMARY:AVO TACO Tuesday
DESCRIPTION:Enjoy Taco Tuesday at AVO TACO with 3 tacos for just $13\, all day long! Whether you’re dining in or taking out\, use code “TACOTUESDAY” at checkout to savor this delicious deal.
URL:https://www.rootedhg.com/event/avo-taco-tuesday/2028-11-14/
LOCATION:AVO TACO – Bayside\, 212-97 26TH AVE\, Bayside\, NY\, 11360\, United States
CATEGORIES:Food Specials,Taco Tuesday
ATTACH;FMTTYPE=image/jpeg:https://www.rootedhg.com/wp-content/uploads/2024/07/AvoTaco_Tuesday-800X-800-2048x2048-1.jpg
END:VEVENT
BEGIN:VEVENT
DTSTART;TZID=America/New_York:20281114T113000
DTEND;TZID=America/New_York:20281114T160000
DTSTAMP:20260422T154514
CREATED:20250915T212648Z
LAST-MODIFIED:20251218T170214Z
UID:10037591-1857814200-1857830400@www.rootedhg.com
SUMMARY:RUMBA Taco Tuesday
DESCRIPTION:Taco lovers rejoice! Join us at RUMBA for Taco Tuesday and enjoy 3 delicious tacos for just $15. Lunch Only Until 4pm. Savor the flavors and make your week tastier with our mouthwatering tacos!
URL:https://www.rootedhg.com/event/rumba-taco-tuesday-thursday-p-2/2028-11-14/
LOCATION:RUMBA – Patchogue\, 13 East Main Street\, Patchogue\, NY\, 11772\, United States
CATEGORIES:Food Specials,Taco Tuesday
ATTACH;FMTTYPE=image/jpeg:https://www.rootedhg.com/wp-content/uploads/2025/05/Digital_Rumba_Taco-Tuesday_1080px-x-1080px_May-2025.jpg
END:VEVENT
BEGIN:VEVENT
DTSTART;TZID=America/New_York:20281114T120000
DTEND;TZID=America/New_York:20281114T160000
DTSTAMP:20260422T154514
CREATED:20250915T212122Z
LAST-MODIFIED:20251218T170206Z
UID:10040131-1857816000-1857830400@www.rootedhg.com
SUMMARY:RUMBA Taco Tuesday
DESCRIPTION:Clock out\, taco up. Taco Tuesday is your new lunch ritual at RUMBA! Enjoy three delicious tacos for just $15. Lunch Only Until 4pm. Dine in with us or take them to go!
URL:https://www.rootedhg.com/event/rumba-taco-thursday-2-2-2-2-2/2028-11-14/
LOCATION:RUMBA – Hampton Bays\, 43 Canoe Place Road\, Hampton Bays\, NY\, 11946\, United States
CATEGORIES:Food Specials,Taco Tuesday
ATTACH;FMTTYPE=image/jpeg:https://www.rootedhg.com/wp-content/uploads/2025/05/Digital_Rumba_Taco-Tuesday_1080px-x-1080px_May-2025.jpg
END:VEVENT
BEGIN:VEVENT
DTSTART;TZID=America/New_York:20281121T110000
DTEND;TZID=America/New_York:20281121T160000
DTSTAMP:20260422T154514
CREATED:20250915T212256Z
LAST-MODIFIED:20251218T170222Z
UID:10040393-1858417200-1858435200@www.rootedhg.com
SUMMARY:RUMBA Taco Tuesday
DESCRIPTION:Clock out\, taco up. Taco Tuesday is your new lunch ritual at RUMBA! Enjoy three delicious tacos for just $15. Lunch Only Until 4pm. Dine in with us or take them to go!
URL:https://www.rootedhg.com/event/rumba-taco-tuesday/2028-11-21/
LOCATION:RUMBA – Metairie\, 5257 Veterans Memorial Blvd\, Metairie\, LA\, 70006\, United States
CATEGORIES:Food Specials,Taco Tuesday
ATTACH;FMTTYPE=image/jpeg:https://www.rootedhg.com/wp-content/uploads/2025/05/Digital_Rumba_Taco-Tuesday_1080px-x-1080px_May-2025.jpg
END:VEVENT
BEGIN:VEVENT
DTSTART;TZID=America/New_York:20281121T110000
DTEND;TZID=America/New_York:20281121T210000
DTSTAMP:20260422T154514
CREATED:20240703T164519Z
LAST-MODIFIED:20251218T180554Z
UID:10031306-1858417200-1858453200@www.rootedhg.com
SUMMARY:AVO TACO Tuesday
DESCRIPTION:Enjoy Taco Tuesday at AVO TACO with 3 tacos for just $13\, all day long! Whether you’re dining in or taking out\, use code “TACOTUESDAY” at checkout to savor this delicious deal.
URL:https://www.rootedhg.com/event/avo-taco-tuesday/2028-11-21/
LOCATION:AVO TACO – Bayside\, 212-97 26TH AVE\, Bayside\, NY\, 11360\, United States
CATEGORIES:Food Specials,Taco Tuesday
ATTACH;FMTTYPE=image/jpeg:https://www.rootedhg.com/wp-content/uploads/2024/07/AvoTaco_Tuesday-800X-800-2048x2048-1.jpg
END:VEVENT
BEGIN:VEVENT
DTSTART;TZID=America/New_York:20281121T113000
DTEND;TZID=America/New_York:20281121T160000
DTSTAMP:20260422T154514
CREATED:20250915T212648Z
LAST-MODIFIED:20251218T170214Z
UID:10037592-1858419000-1858435200@www.rootedhg.com
SUMMARY:RUMBA Taco Tuesday
DESCRIPTION:Taco lovers rejoice! Join us at RUMBA for Taco Tuesday and enjoy 3 delicious tacos for just $15. Lunch Only Until 4pm. Savor the flavors and make your week tastier with our mouthwatering tacos!
URL:https://www.rootedhg.com/event/rumba-taco-tuesday-thursday-p-2/2028-11-21/
LOCATION:RUMBA – Patchogue\, 13 East Main Street\, Patchogue\, NY\, 11772\, United States
CATEGORIES:Food Specials,Taco Tuesday
ATTACH;FMTTYPE=image/jpeg:https://www.rootedhg.com/wp-content/uploads/2025/05/Digital_Rumba_Taco-Tuesday_1080px-x-1080px_May-2025.jpg
END:VEVENT
BEGIN:VEVENT
DTSTART;TZID=America/New_York:20281121T120000
DTEND;TZID=America/New_York:20281121T160000
DTSTAMP:20260422T154514
CREATED:20250915T212122Z
LAST-MODIFIED:20251218T170206Z
UID:10040132-1858420800-1858435200@www.rootedhg.com
SUMMARY:RUMBA Taco Tuesday
DESCRIPTION:Clock out\, taco up. Taco Tuesday is your new lunch ritual at RUMBA! Enjoy three delicious tacos for just $15. Lunch Only Until 4pm. Dine in with us or take them to go!
URL:https://www.rootedhg.com/event/rumba-taco-thursday-2-2-2-2-2/2028-11-21/
LOCATION:RUMBA – Hampton Bays\, 43 Canoe Place Road\, Hampton Bays\, NY\, 11946\, United States
CATEGORIES:Food Specials,Taco Tuesday
ATTACH;FMTTYPE=image/jpeg:https://www.rootedhg.com/wp-content/uploads/2025/05/Digital_Rumba_Taco-Tuesday_1080px-x-1080px_May-2025.jpg
END:VEVENT
BEGIN:VEVENT
DTSTART;TZID=America/New_York:20281128T110000
DTEND;TZID=America/New_York:20281128T160000
DTSTAMP:20260422T154514
CREATED:20250915T212256Z
LAST-MODIFIED:20251218T170222Z
UID:10040394-1859022000-1859040000@www.rootedhg.com
SUMMARY:RUMBA Taco Tuesday
DESCRIPTION:Clock out\, taco up. Taco Tuesday is your new lunch ritual at RUMBA! Enjoy three delicious tacos for just $15. Lunch Only Until 4pm. Dine in with us or take them to go!
URL:https://www.rootedhg.com/event/rumba-taco-tuesday/2028-11-28/
LOCATION:RUMBA – Metairie\, 5257 Veterans Memorial Blvd\, Metairie\, LA\, 70006\, United States
CATEGORIES:Food Specials,Taco Tuesday
ATTACH;FMTTYPE=image/jpeg:https://www.rootedhg.com/wp-content/uploads/2025/05/Digital_Rumba_Taco-Tuesday_1080px-x-1080px_May-2025.jpg
END:VEVENT
BEGIN:VEVENT
DTSTART;TZID=America/New_York:20281128T110000
DTEND;TZID=America/New_York:20281128T210000
DTSTAMP:20260422T154514
CREATED:20240703T164519Z
LAST-MODIFIED:20251218T180554Z
UID:10031307-1859022000-1859058000@www.rootedhg.com
SUMMARY:AVO TACO Tuesday
DESCRIPTION:Enjoy Taco Tuesday at AVO TACO with 3 tacos for just $13\, all day long! Whether you’re dining in or taking out\, use code “TACOTUESDAY” at checkout to savor this delicious deal.
URL:https://www.rootedhg.com/event/avo-taco-tuesday/2028-11-28/
LOCATION:AVO TACO – Bayside\, 212-97 26TH AVE\, Bayside\, NY\, 11360\, United States
CATEGORIES:Food Specials,Taco Tuesday
ATTACH;FMTTYPE=image/jpeg:https://www.rootedhg.com/wp-content/uploads/2024/07/AvoTaco_Tuesday-800X-800-2048x2048-1.jpg
END:VEVENT
BEGIN:VEVENT
DTSTART;TZID=America/New_York:20281128T113000
DTEND;TZID=America/New_York:20281128T160000
DTSTAMP:20260422T154514
CREATED:20250915T212648Z
LAST-MODIFIED:20251218T170214Z
UID:10037593-1859023800-1859040000@www.rootedhg.com
SUMMARY:RUMBA Taco Tuesday
DESCRIPTION:Taco lovers rejoice! Join us at RUMBA for Taco Tuesday and enjoy 3 delicious tacos for just $15. Lunch Only Until 4pm. Savor the flavors and make your week tastier with our mouthwatering tacos!
URL:https://www.rootedhg.com/event/rumba-taco-tuesday-thursday-p-2/2028-11-28/
LOCATION:RUMBA – Patchogue\, 13 East Main Street\, Patchogue\, NY\, 11772\, United States
CATEGORIES:Food Specials,Taco Tuesday
ATTACH;FMTTYPE=image/jpeg:https://www.rootedhg.com/wp-content/uploads/2025/05/Digital_Rumba_Taco-Tuesday_1080px-x-1080px_May-2025.jpg
END:VEVENT
BEGIN:VEVENT
DTSTART;TZID=America/New_York:20281128T120000
DTEND;TZID=America/New_York:20281128T160000
DTSTAMP:20260422T154514
CREATED:20250915T212122Z
LAST-MODIFIED:20251218T170206Z
UID:10040133-1859025600-1859040000@www.rootedhg.com
SUMMARY:RUMBA Taco Tuesday
DESCRIPTION:Clock out\, taco up. Taco Tuesday is your new lunch ritual at RUMBA! Enjoy three delicious tacos for just $15. Lunch Only Until 4pm. Dine in with us or take them to go!
URL:https://www.rootedhg.com/event/rumba-taco-thursday-2-2-2-2-2/2028-11-28/
LOCATION:RUMBA – Hampton Bays\, 43 Canoe Place Road\, Hampton Bays\, NY\, 11946\, United States
CATEGORIES:Food Specials,Taco Tuesday
ATTACH;FMTTYPE=image/jpeg:https://www.rootedhg.com/wp-content/uploads/2025/05/Digital_Rumba_Taco-Tuesday_1080px-x-1080px_May-2025.jpg
END:VEVENT
END:VCALENDAR