BEGIN:VCALENDAR
VERSION:2.0
PRODID:-//Rooted Hospitality Group - ECPv6.15.20//NONSGML v1.0//EN
CALSCALE:GREGORIAN
METHOD:PUBLISH
X-ORIGINAL-URL:https://www.rootedhg.com
X-WR-CALDESC:Events for Rooted Hospitality Group
REFRESH-INTERVAL;VALUE=DURATION:PT1H
X-Robots-Tag:noindex
X-PUBLISHED-TTL:PT1H
BEGIN:VTIMEZONE
TZID:America/New_York
BEGIN:DAYLIGHT
TZOFFSETFROM:-0500
TZOFFSETTO:-0400
TZNAME:EDT
DTSTART:20260308T070000
END:DAYLIGHT
BEGIN:STANDARD
TZOFFSETFROM:-0400
TZOFFSETTO:-0500
TZNAME:EST
DTSTART:20261101T060000
END:STANDARD
BEGIN:DAYLIGHT
TZOFFSETFROM:-0500
TZOFFSETTO:-0400
TZNAME:EDT
DTSTART:20270314T070000
END:DAYLIGHT
BEGIN:STANDARD
TZOFFSETFROM:-0400
TZOFFSETTO:-0500
TZNAME:EST
DTSTART:20271107T060000
END:STANDARD
BEGIN:DAYLIGHT
TZOFFSETFROM:-0500
TZOFFSETTO:-0400
TZNAME:EDT
DTSTART:20280312T070000
END:DAYLIGHT
BEGIN:STANDARD
TZOFFSETFROM:-0400
TZOFFSETTO:-0500
TZNAME:EST
DTSTART:20281105T060000
END:STANDARD
END:VTIMEZONE
BEGIN:VEVENT
DTSTART;TZID=America/New_York:20270706T110000
DTEND;TZID=America/New_York:20270706T160000
DTSTAMP:20260421T100913
CREATED:20250915T212256Z
LAST-MODIFIED:20251218T170222Z
UID:10040321-1814871600-1814889600@www.rootedhg.com
SUMMARY:RUMBA Taco Tuesday
DESCRIPTION:Clock out\, taco up. Taco Tuesday is your new lunch ritual at RUMBA! Enjoy three delicious tacos for just $15. Lunch Only Until 4pm. Dine in with us or take them to go!
URL:https://www.rootedhg.com/event/rumba-taco-tuesday/2027-07-06/
LOCATION:RUMBA – Metairie\, 5257 Veterans Memorial Blvd\, Metairie\, LA\, 70006\, United States
CATEGORIES:Food Specials,Taco Tuesday
ATTACH;FMTTYPE=image/jpeg:https://www.rootedhg.com/wp-content/uploads/2025/05/Digital_Rumba_Taco-Tuesday_1080px-x-1080px_May-2025.jpg
END:VEVENT
BEGIN:VEVENT
DTSTART;TZID=America/New_York:20270706T110000
DTEND;TZID=America/New_York:20270706T210000
DTSTAMP:20260421T100913
CREATED:20240703T164519Z
LAST-MODIFIED:20251218T180554Z
UID:10031234-1814871600-1814907600@www.rootedhg.com
SUMMARY:AVO TACO Tuesday
DESCRIPTION:Enjoy Taco Tuesday at AVO TACO with 3 tacos for just $13\, all day long! Whether you’re dining in or taking out\, use code “TACOTUESDAY” at checkout to savor this delicious deal.
URL:https://www.rootedhg.com/event/avo-taco-tuesday/2027-07-06/
LOCATION:AVO TACO – Bayside\, 212-97 26TH AVE\, Bayside\, NY\, 11360\, United States
CATEGORIES:Food Specials,Taco Tuesday
ATTACH;FMTTYPE=image/jpeg:https://www.rootedhg.com/wp-content/uploads/2024/07/AvoTaco_Tuesday-800X-800-2048x2048-1.jpg
END:VEVENT
BEGIN:VEVENT
DTSTART;TZID=America/New_York:20270706T113000
DTEND;TZID=America/New_York:20270706T160000
DTSTAMP:20260421T100913
CREATED:20250915T212648Z
LAST-MODIFIED:20251218T170214Z
UID:10037520-1814873400-1814889600@www.rootedhg.com
SUMMARY:RUMBA Taco Tuesday
DESCRIPTION:Taco lovers rejoice! Join us at RUMBA for Taco Tuesday and enjoy 3 delicious tacos for just $15. Lunch Only Until 4pm. Savor the flavors and make your week tastier with our mouthwatering tacos!
URL:https://www.rootedhg.com/event/rumba-taco-tuesday-thursday-p-2/2027-07-06/
LOCATION:RUMBA – Patchogue\, 13 East Main Street\, Patchogue\, NY\, 11772\, United States
CATEGORIES:Food Specials,Taco Tuesday
ATTACH;FMTTYPE=image/jpeg:https://www.rootedhg.com/wp-content/uploads/2025/05/Digital_Rumba_Taco-Tuesday_1080px-x-1080px_May-2025.jpg
END:VEVENT
BEGIN:VEVENT
DTSTART;TZID=America/New_York:20270706T120000
DTEND;TZID=America/New_York:20270706T160000
DTSTAMP:20260421T100913
CREATED:20250915T212122Z
LAST-MODIFIED:20251218T170206Z
UID:10040060-1814875200-1814889600@www.rootedhg.com
SUMMARY:RUMBA Taco Tuesday
DESCRIPTION:Clock out\, taco up. Taco Tuesday is your new lunch ritual at RUMBA! Enjoy three delicious tacos for just $15. Lunch Only Until 4pm. Dine in with us or take them to go!
URL:https://www.rootedhg.com/event/rumba-taco-thursday-2-2-2-2-2/2027-07-06/
LOCATION:RUMBA – Hampton Bays\, 43 Canoe Place Road\, Hampton Bays\, NY\, 11946\, United States
CATEGORIES:Food Specials,Taco Tuesday
ATTACH;FMTTYPE=image/jpeg:https://www.rootedhg.com/wp-content/uploads/2025/05/Digital_Rumba_Taco-Tuesday_1080px-x-1080px_May-2025.jpg
END:VEVENT
BEGIN:VEVENT
DTSTART;TZID=America/New_York:20270713T110000
DTEND;TZID=America/New_York:20270713T160000
DTSTAMP:20260421T100913
CREATED:20250915T212256Z
LAST-MODIFIED:20251218T170222Z
UID:10040322-1815476400-1815494400@www.rootedhg.com
SUMMARY:RUMBA Taco Tuesday
DESCRIPTION:Clock out\, taco up. Taco Tuesday is your new lunch ritual at RUMBA! Enjoy three delicious tacos for just $15. Lunch Only Until 4pm. Dine in with us or take them to go!
URL:https://www.rootedhg.com/event/rumba-taco-tuesday/2027-07-13/
LOCATION:RUMBA – Metairie\, 5257 Veterans Memorial Blvd\, Metairie\, LA\, 70006\, United States
CATEGORIES:Food Specials,Taco Tuesday
ATTACH;FMTTYPE=image/jpeg:https://www.rootedhg.com/wp-content/uploads/2025/05/Digital_Rumba_Taco-Tuesday_1080px-x-1080px_May-2025.jpg
END:VEVENT
BEGIN:VEVENT
DTSTART;TZID=America/New_York:20270713T110000
DTEND;TZID=America/New_York:20270713T210000
DTSTAMP:20260421T100913
CREATED:20240703T164519Z
LAST-MODIFIED:20251218T180554Z
UID:10031235-1815476400-1815512400@www.rootedhg.com
SUMMARY:AVO TACO Tuesday
DESCRIPTION:Enjoy Taco Tuesday at AVO TACO with 3 tacos for just $13\, all day long! Whether you’re dining in or taking out\, use code “TACOTUESDAY” at checkout to savor this delicious deal.
URL:https://www.rootedhg.com/event/avo-taco-tuesday/2027-07-13/
LOCATION:AVO TACO – Bayside\, 212-97 26TH AVE\, Bayside\, NY\, 11360\, United States
CATEGORIES:Food Specials,Taco Tuesday
ATTACH;FMTTYPE=image/jpeg:https://www.rootedhg.com/wp-content/uploads/2024/07/AvoTaco_Tuesday-800X-800-2048x2048-1.jpg
END:VEVENT
BEGIN:VEVENT
DTSTART;TZID=America/New_York:20270713T113000
DTEND;TZID=America/New_York:20270713T160000
DTSTAMP:20260421T100913
CREATED:20250915T212648Z
LAST-MODIFIED:20251218T170214Z
UID:10037521-1815478200-1815494400@www.rootedhg.com
SUMMARY:RUMBA Taco Tuesday
DESCRIPTION:Taco lovers rejoice! Join us at RUMBA for Taco Tuesday and enjoy 3 delicious tacos for just $15. Lunch Only Until 4pm. Savor the flavors and make your week tastier with our mouthwatering tacos!
URL:https://www.rootedhg.com/event/rumba-taco-tuesday-thursday-p-2/2027-07-13/
LOCATION:RUMBA – Patchogue\, 13 East Main Street\, Patchogue\, NY\, 11772\, United States
CATEGORIES:Food Specials,Taco Tuesday
ATTACH;FMTTYPE=image/jpeg:https://www.rootedhg.com/wp-content/uploads/2025/05/Digital_Rumba_Taco-Tuesday_1080px-x-1080px_May-2025.jpg
END:VEVENT
BEGIN:VEVENT
DTSTART;TZID=America/New_York:20270713T120000
DTEND;TZID=America/New_York:20270713T160000
DTSTAMP:20260421T100913
CREATED:20250915T212122Z
LAST-MODIFIED:20251218T170206Z
UID:10040061-1815480000-1815494400@www.rootedhg.com
SUMMARY:RUMBA Taco Tuesday
DESCRIPTION:Clock out\, taco up. Taco Tuesday is your new lunch ritual at RUMBA! Enjoy three delicious tacos for just $15. Lunch Only Until 4pm. Dine in with us or take them to go!
URL:https://www.rootedhg.com/event/rumba-taco-thursday-2-2-2-2-2/2027-07-13/
LOCATION:RUMBA – Hampton Bays\, 43 Canoe Place Road\, Hampton Bays\, NY\, 11946\, United States
CATEGORIES:Food Specials,Taco Tuesday
ATTACH;FMTTYPE=image/jpeg:https://www.rootedhg.com/wp-content/uploads/2025/05/Digital_Rumba_Taco-Tuesday_1080px-x-1080px_May-2025.jpg
END:VEVENT
BEGIN:VEVENT
DTSTART;TZID=America/New_York:20270720T110000
DTEND;TZID=America/New_York:20270720T160000
DTSTAMP:20260421T100913
CREATED:20250915T212256Z
LAST-MODIFIED:20251218T170222Z
UID:10040323-1816081200-1816099200@www.rootedhg.com
SUMMARY:RUMBA Taco Tuesday
DESCRIPTION:Clock out\, taco up. Taco Tuesday is your new lunch ritual at RUMBA! Enjoy three delicious tacos for just $15. Lunch Only Until 4pm. Dine in with us or take them to go!
URL:https://www.rootedhg.com/event/rumba-taco-tuesday/2027-07-20/
LOCATION:RUMBA – Metairie\, 5257 Veterans Memorial Blvd\, Metairie\, LA\, 70006\, United States
CATEGORIES:Food Specials,Taco Tuesday
ATTACH;FMTTYPE=image/jpeg:https://www.rootedhg.com/wp-content/uploads/2025/05/Digital_Rumba_Taco-Tuesday_1080px-x-1080px_May-2025.jpg
END:VEVENT
BEGIN:VEVENT
DTSTART;TZID=America/New_York:20270720T110000
DTEND;TZID=America/New_York:20270720T210000
DTSTAMP:20260421T100913
CREATED:20240703T164519Z
LAST-MODIFIED:20251218T180554Z
UID:10031236-1816081200-1816117200@www.rootedhg.com
SUMMARY:AVO TACO Tuesday
DESCRIPTION:Enjoy Taco Tuesday at AVO TACO with 3 tacos for just $13\, all day long! Whether you’re dining in or taking out\, use code “TACOTUESDAY” at checkout to savor this delicious deal.
URL:https://www.rootedhg.com/event/avo-taco-tuesday/2027-07-20/
LOCATION:AVO TACO – Bayside\, 212-97 26TH AVE\, Bayside\, NY\, 11360\, United States
CATEGORIES:Food Specials,Taco Tuesday
ATTACH;FMTTYPE=image/jpeg:https://www.rootedhg.com/wp-content/uploads/2024/07/AvoTaco_Tuesday-800X-800-2048x2048-1.jpg
END:VEVENT
BEGIN:VEVENT
DTSTART;TZID=America/New_York:20270720T113000
DTEND;TZID=America/New_York:20270720T160000
DTSTAMP:20260421T100913
CREATED:20250915T212648Z
LAST-MODIFIED:20251218T170214Z
UID:10037522-1816083000-1816099200@www.rootedhg.com
SUMMARY:RUMBA Taco Tuesday
DESCRIPTION:Taco lovers rejoice! Join us at RUMBA for Taco Tuesday and enjoy 3 delicious tacos for just $15. Lunch Only Until 4pm. Savor the flavors and make your week tastier with our mouthwatering tacos!
URL:https://www.rootedhg.com/event/rumba-taco-tuesday-thursday-p-2/2027-07-20/
LOCATION:RUMBA – Patchogue\, 13 East Main Street\, Patchogue\, NY\, 11772\, United States
CATEGORIES:Food Specials,Taco Tuesday
ATTACH;FMTTYPE=image/jpeg:https://www.rootedhg.com/wp-content/uploads/2025/05/Digital_Rumba_Taco-Tuesday_1080px-x-1080px_May-2025.jpg
END:VEVENT
BEGIN:VEVENT
DTSTART;TZID=America/New_York:20270720T120000
DTEND;TZID=America/New_York:20270720T160000
DTSTAMP:20260421T100913
CREATED:20250915T212122Z
LAST-MODIFIED:20251218T170206Z
UID:10040062-1816084800-1816099200@www.rootedhg.com
SUMMARY:RUMBA Taco Tuesday
DESCRIPTION:Clock out\, taco up. Taco Tuesday is your new lunch ritual at RUMBA! Enjoy three delicious tacos for just $15. Lunch Only Until 4pm. Dine in with us or take them to go!
URL:https://www.rootedhg.com/event/rumba-taco-thursday-2-2-2-2-2/2027-07-20/
LOCATION:RUMBA – Hampton Bays\, 43 Canoe Place Road\, Hampton Bays\, NY\, 11946\, United States
CATEGORIES:Food Specials,Taco Tuesday
ATTACH;FMTTYPE=image/jpeg:https://www.rootedhg.com/wp-content/uploads/2025/05/Digital_Rumba_Taco-Tuesday_1080px-x-1080px_May-2025.jpg
END:VEVENT
BEGIN:VEVENT
DTSTART;TZID=America/New_York:20270727T110000
DTEND;TZID=America/New_York:20270727T160000
DTSTAMP:20260421T100913
CREATED:20250915T212256Z
LAST-MODIFIED:20251218T170222Z
UID:10040324-1816686000-1816704000@www.rootedhg.com
SUMMARY:RUMBA Taco Tuesday
DESCRIPTION:Clock out\, taco up. Taco Tuesday is your new lunch ritual at RUMBA! Enjoy three delicious tacos for just $15. Lunch Only Until 4pm. Dine in with us or take them to go!
URL:https://www.rootedhg.com/event/rumba-taco-tuesday/2027-07-27/
LOCATION:RUMBA – Metairie\, 5257 Veterans Memorial Blvd\, Metairie\, LA\, 70006\, United States
CATEGORIES:Food Specials,Taco Tuesday
ATTACH;FMTTYPE=image/jpeg:https://www.rootedhg.com/wp-content/uploads/2025/05/Digital_Rumba_Taco-Tuesday_1080px-x-1080px_May-2025.jpg
END:VEVENT
BEGIN:VEVENT
DTSTART;TZID=America/New_York:20270727T110000
DTEND;TZID=America/New_York:20270727T210000
DTSTAMP:20260421T100913
CREATED:20240703T164519Z
LAST-MODIFIED:20251218T180554Z
UID:10031237-1816686000-1816722000@www.rootedhg.com
SUMMARY:AVO TACO Tuesday
DESCRIPTION:Enjoy Taco Tuesday at AVO TACO with 3 tacos for just $13\, all day long! Whether you’re dining in or taking out\, use code “TACOTUESDAY” at checkout to savor this delicious deal.
URL:https://www.rootedhg.com/event/avo-taco-tuesday/2027-07-27/
LOCATION:AVO TACO – Bayside\, 212-97 26TH AVE\, Bayside\, NY\, 11360\, United States
CATEGORIES:Food Specials,Taco Tuesday
ATTACH;FMTTYPE=image/jpeg:https://www.rootedhg.com/wp-content/uploads/2024/07/AvoTaco_Tuesday-800X-800-2048x2048-1.jpg
END:VEVENT
BEGIN:VEVENT
DTSTART;TZID=America/New_York:20270727T113000
DTEND;TZID=America/New_York:20270727T160000
DTSTAMP:20260421T100913
CREATED:20250915T212648Z
LAST-MODIFIED:20251218T170214Z
UID:10037523-1816687800-1816704000@www.rootedhg.com
SUMMARY:RUMBA Taco Tuesday
DESCRIPTION:Taco lovers rejoice! Join us at RUMBA for Taco Tuesday and enjoy 3 delicious tacos for just $15. Lunch Only Until 4pm. Savor the flavors and make your week tastier with our mouthwatering tacos!
URL:https://www.rootedhg.com/event/rumba-taco-tuesday-thursday-p-2/2027-07-27/
LOCATION:RUMBA – Patchogue\, 13 East Main Street\, Patchogue\, NY\, 11772\, United States
CATEGORIES:Food Specials,Taco Tuesday
ATTACH;FMTTYPE=image/jpeg:https://www.rootedhg.com/wp-content/uploads/2025/05/Digital_Rumba_Taco-Tuesday_1080px-x-1080px_May-2025.jpg
END:VEVENT
BEGIN:VEVENT
DTSTART;TZID=America/New_York:20270727T120000
DTEND;TZID=America/New_York:20270727T160000
DTSTAMP:20260421T100913
CREATED:20250915T212122Z
LAST-MODIFIED:20251218T170206Z
UID:10040063-1816689600-1816704000@www.rootedhg.com
SUMMARY:RUMBA Taco Tuesday
DESCRIPTION:Clock out\, taco up. Taco Tuesday is your new lunch ritual at RUMBA! Enjoy three delicious tacos for just $15. Lunch Only Until 4pm. Dine in with us or take them to go!
URL:https://www.rootedhg.com/event/rumba-taco-thursday-2-2-2-2-2/2027-07-27/
LOCATION:RUMBA – Hampton Bays\, 43 Canoe Place Road\, Hampton Bays\, NY\, 11946\, United States
CATEGORIES:Food Specials,Taco Tuesday
ATTACH;FMTTYPE=image/jpeg:https://www.rootedhg.com/wp-content/uploads/2025/05/Digital_Rumba_Taco-Tuesday_1080px-x-1080px_May-2025.jpg
END:VEVENT
END:VCALENDAR