BEGIN:VCALENDAR
VERSION:2.0
PRODID:-//Rooted Hospitality Group - ECPv6.15.20//NONSGML v1.0//EN
CALSCALE:GREGORIAN
METHOD:PUBLISH
X-ORIGINAL-URL:https://www.rootedhg.com
X-WR-CALDESC:Events for Rooted Hospitality Group
REFRESH-INTERVAL;VALUE=DURATION:PT1H
X-Robots-Tag:noindex
X-PUBLISHED-TTL:PT1H
BEGIN:VTIMEZONE
TZID:America/New_York
BEGIN:DAYLIGHT
TZOFFSETFROM:-0500
TZOFFSETTO:-0400
TZNAME:EDT
DTSTART:20250309T070000
END:DAYLIGHT
BEGIN:STANDARD
TZOFFSETFROM:-0400
TZOFFSETTO:-0500
TZNAME:EST
DTSTART:20251102T060000
END:STANDARD
BEGIN:DAYLIGHT
TZOFFSETFROM:-0500
TZOFFSETTO:-0400
TZNAME:EDT
DTSTART:20260308T070000
END:DAYLIGHT
BEGIN:STANDARD
TZOFFSETFROM:-0400
TZOFFSETTO:-0500
TZNAME:EST
DTSTART:20261101T060000
END:STANDARD
BEGIN:DAYLIGHT
TZOFFSETFROM:-0500
TZOFFSETTO:-0400
TZNAME:EDT
DTSTART:20270314T070000
END:DAYLIGHT
BEGIN:STANDARD
TZOFFSETFROM:-0400
TZOFFSETTO:-0500
TZNAME:EST
DTSTART:20271107T060000
END:STANDARD
END:VTIMEZONE
BEGIN:VEVENT
DTSTART;TZID=America/New_York:20260602T110000
DTEND;TZID=America/New_York:20260602T160000
DTSTAMP:20260420T084609
CREATED:20250915T212256Z
LAST-MODIFIED:20251218T170222Z
UID:10040264-1780398000-1780416000@www.rootedhg.com
SUMMARY:RUMBA Taco Tuesday
DESCRIPTION:Clock out\, taco up. Taco Tuesday is your new lunch ritual at RUMBA! Enjoy three delicious tacos for just $15. Lunch Only Until 4pm. Dine in with us or take them to go!
URL:https://www.rootedhg.com/event/rumba-taco-tuesday/2026-06-02/
LOCATION:RUMBA – Metairie\, 5257 Veterans Memorial Blvd\, Metairie\, LA\, 70006\, United States
CATEGORIES:Food Specials,Taco Tuesday
ATTACH;FMTTYPE=image/jpeg:https://www.rootedhg.com/wp-content/uploads/2025/05/Digital_Rumba_Taco-Tuesday_1080px-x-1080px_May-2025.jpg
END:VEVENT
BEGIN:VEVENT
DTSTART;TZID=America/New_York:20260602T110000
DTEND;TZID=America/New_York:20260602T210000
DTSTAMP:20260420T084609
CREATED:20240703T164519Z
LAST-MODIFIED:20251218T180554Z
UID:10031177-1780398000-1780434000@www.rootedhg.com
SUMMARY:AVO TACO Tuesday
DESCRIPTION:Enjoy Taco Tuesday at AVO TACO with 3 tacos for just $13\, all day long! Whether you’re dining in or taking out\, use code “TACOTUESDAY” at checkout to savor this delicious deal.
URL:https://www.rootedhg.com/event/avo-taco-tuesday/2026-06-02/
LOCATION:AVO TACO – Bayside\, 212-97 26TH AVE\, Bayside\, NY\, 11360\, United States
CATEGORIES:Food Specials,Taco Tuesday
ATTACH;FMTTYPE=image/jpeg:https://www.rootedhg.com/wp-content/uploads/2024/07/AvoTaco_Tuesday-800X-800-2048x2048-1.jpg
END:VEVENT
BEGIN:VEVENT
DTSTART;TZID=America/New_York:20260602T113000
DTEND;TZID=America/New_York:20260602T160000
DTSTAMP:20260420T084609
CREATED:20250915T212648Z
LAST-MODIFIED:20251218T170214Z
UID:10037463-1780399800-1780416000@www.rootedhg.com
SUMMARY:RUMBA Taco Tuesday
DESCRIPTION:Taco lovers rejoice! Join us at RUMBA for Taco Tuesday and enjoy 3 delicious tacos for just $15. Lunch Only Until 4pm. Savor the flavors and make your week tastier with our mouthwatering tacos!
URL:https://www.rootedhg.com/event/rumba-taco-tuesday-thursday-p-2/2026-06-02/
LOCATION:RUMBA – Patchogue\, 13 East Main Street\, Patchogue\, NY\, 11772\, United States
CATEGORIES:Food Specials,Taco Tuesday
ATTACH;FMTTYPE=image/jpeg:https://www.rootedhg.com/wp-content/uploads/2025/05/Digital_Rumba_Taco-Tuesday_1080px-x-1080px_May-2025.jpg
END:VEVENT
BEGIN:VEVENT
DTSTART;TZID=America/New_York:20260602T120000
DTEND;TZID=America/New_York:20260602T160000
DTSTAMP:20260420T084609
CREATED:20250915T212122Z
LAST-MODIFIED:20251218T170206Z
UID:10040003-1780401600-1780416000@www.rootedhg.com
SUMMARY:RUMBA Taco Tuesday
DESCRIPTION:Clock out\, taco up. Taco Tuesday is your new lunch ritual at RUMBA! Enjoy three delicious tacos for just $15. Lunch Only Until 4pm. Dine in with us or take them to go!
URL:https://www.rootedhg.com/event/rumba-taco-thursday-2-2-2-2-2/2026-06-02/
LOCATION:RUMBA – Hampton Bays\, 43 Canoe Place Road\, Hampton Bays\, NY\, 11946\, United States
CATEGORIES:Food Specials,Taco Tuesday
ATTACH;FMTTYPE=image/jpeg:https://www.rootedhg.com/wp-content/uploads/2025/05/Digital_Rumba_Taco-Tuesday_1080px-x-1080px_May-2025.jpg
END:VEVENT
BEGIN:VEVENT
DTSTART;TZID=America/New_York:20260609T110000
DTEND;TZID=America/New_York:20260609T160000
DTSTAMP:20260420T084609
CREATED:20250915T212256Z
LAST-MODIFIED:20251218T170222Z
UID:10040265-1781002800-1781020800@www.rootedhg.com
SUMMARY:RUMBA Taco Tuesday
DESCRIPTION:Clock out\, taco up. Taco Tuesday is your new lunch ritual at RUMBA! Enjoy three delicious tacos for just $15. Lunch Only Until 4pm. Dine in with us or take them to go!
URL:https://www.rootedhg.com/event/rumba-taco-tuesday/2026-06-09/
LOCATION:RUMBA – Metairie\, 5257 Veterans Memorial Blvd\, Metairie\, LA\, 70006\, United States
CATEGORIES:Food Specials,Taco Tuesday
ATTACH;FMTTYPE=image/jpeg:https://www.rootedhg.com/wp-content/uploads/2025/05/Digital_Rumba_Taco-Tuesday_1080px-x-1080px_May-2025.jpg
END:VEVENT
BEGIN:VEVENT
DTSTART;TZID=America/New_York:20260609T110000
DTEND;TZID=America/New_York:20260609T210000
DTSTAMP:20260420T084609
CREATED:20240703T164519Z
LAST-MODIFIED:20251218T180554Z
UID:10031178-1781002800-1781038800@www.rootedhg.com
SUMMARY:AVO TACO Tuesday
DESCRIPTION:Enjoy Taco Tuesday at AVO TACO with 3 tacos for just $13\, all day long! Whether you’re dining in or taking out\, use code “TACOTUESDAY” at checkout to savor this delicious deal.
URL:https://www.rootedhg.com/event/avo-taco-tuesday/2026-06-09/
LOCATION:AVO TACO – Bayside\, 212-97 26TH AVE\, Bayside\, NY\, 11360\, United States
CATEGORIES:Food Specials,Taco Tuesday
ATTACH;FMTTYPE=image/jpeg:https://www.rootedhg.com/wp-content/uploads/2024/07/AvoTaco_Tuesday-800X-800-2048x2048-1.jpg
END:VEVENT
BEGIN:VEVENT
DTSTART;TZID=America/New_York:20260609T113000
DTEND;TZID=America/New_York:20260609T160000
DTSTAMP:20260420T084609
CREATED:20250915T212648Z
LAST-MODIFIED:20251218T170214Z
UID:10037464-1781004600-1781020800@www.rootedhg.com
SUMMARY:RUMBA Taco Tuesday
DESCRIPTION:Taco lovers rejoice! Join us at RUMBA for Taco Tuesday and enjoy 3 delicious tacos for just $15. Lunch Only Until 4pm. Savor the flavors and make your week tastier with our mouthwatering tacos!
URL:https://www.rootedhg.com/event/rumba-taco-tuesday-thursday-p-2/2026-06-09/
LOCATION:RUMBA – Patchogue\, 13 East Main Street\, Patchogue\, NY\, 11772\, United States
CATEGORIES:Food Specials,Taco Tuesday
ATTACH;FMTTYPE=image/jpeg:https://www.rootedhg.com/wp-content/uploads/2025/05/Digital_Rumba_Taco-Tuesday_1080px-x-1080px_May-2025.jpg
END:VEVENT
BEGIN:VEVENT
DTSTART;TZID=America/New_York:20260609T120000
DTEND;TZID=America/New_York:20260609T160000
DTSTAMP:20260420T084609
CREATED:20250915T212122Z
LAST-MODIFIED:20251218T170206Z
UID:10040004-1781006400-1781020800@www.rootedhg.com
SUMMARY:RUMBA Taco Tuesday
DESCRIPTION:Clock out\, taco up. Taco Tuesday is your new lunch ritual at RUMBA! Enjoy three delicious tacos for just $15. Lunch Only Until 4pm. Dine in with us or take them to go!
URL:https://www.rootedhg.com/event/rumba-taco-thursday-2-2-2-2-2/2026-06-09/
LOCATION:RUMBA – Hampton Bays\, 43 Canoe Place Road\, Hampton Bays\, NY\, 11946\, United States
CATEGORIES:Food Specials,Taco Tuesday
ATTACH;FMTTYPE=image/jpeg:https://www.rootedhg.com/wp-content/uploads/2025/05/Digital_Rumba_Taco-Tuesday_1080px-x-1080px_May-2025.jpg
END:VEVENT
BEGIN:VEVENT
DTSTART;TZID=America/New_York:20260616T110000
DTEND;TZID=America/New_York:20260616T160000
DTSTAMP:20260420T084609
CREATED:20250915T212256Z
LAST-MODIFIED:20251218T170222Z
UID:10040266-1781607600-1781625600@www.rootedhg.com
SUMMARY:RUMBA Taco Tuesday
DESCRIPTION:Clock out\, taco up. Taco Tuesday is your new lunch ritual at RUMBA! Enjoy three delicious tacos for just $15. Lunch Only Until 4pm. Dine in with us or take them to go!
URL:https://www.rootedhg.com/event/rumba-taco-tuesday/2026-06-16/
LOCATION:RUMBA – Metairie\, 5257 Veterans Memorial Blvd\, Metairie\, LA\, 70006\, United States
CATEGORIES:Food Specials,Taco Tuesday
ATTACH;FMTTYPE=image/jpeg:https://www.rootedhg.com/wp-content/uploads/2025/05/Digital_Rumba_Taco-Tuesday_1080px-x-1080px_May-2025.jpg
END:VEVENT
BEGIN:VEVENT
DTSTART;TZID=America/New_York:20260616T110000
DTEND;TZID=America/New_York:20260616T210000
DTSTAMP:20260420T084609
CREATED:20240703T164519Z
LAST-MODIFIED:20251218T180554Z
UID:10031179-1781607600-1781643600@www.rootedhg.com
SUMMARY:AVO TACO Tuesday
DESCRIPTION:Enjoy Taco Tuesday at AVO TACO with 3 tacos for just $13\, all day long! Whether you’re dining in or taking out\, use code “TACOTUESDAY” at checkout to savor this delicious deal.
URL:https://www.rootedhg.com/event/avo-taco-tuesday/2026-06-16/
LOCATION:AVO TACO – Bayside\, 212-97 26TH AVE\, Bayside\, NY\, 11360\, United States
CATEGORIES:Food Specials,Taco Tuesday
ATTACH;FMTTYPE=image/jpeg:https://www.rootedhg.com/wp-content/uploads/2024/07/AvoTaco_Tuesday-800X-800-2048x2048-1.jpg
END:VEVENT
BEGIN:VEVENT
DTSTART;TZID=America/New_York:20260616T113000
DTEND;TZID=America/New_York:20260616T160000
DTSTAMP:20260420T084609
CREATED:20250915T212648Z
LAST-MODIFIED:20251218T170214Z
UID:10037465-1781609400-1781625600@www.rootedhg.com
SUMMARY:RUMBA Taco Tuesday
DESCRIPTION:Taco lovers rejoice! Join us at RUMBA for Taco Tuesday and enjoy 3 delicious tacos for just $15. Lunch Only Until 4pm. Savor the flavors and make your week tastier with our mouthwatering tacos!
URL:https://www.rootedhg.com/event/rumba-taco-tuesday-thursday-p-2/2026-06-16/
LOCATION:RUMBA – Patchogue\, 13 East Main Street\, Patchogue\, NY\, 11772\, United States
CATEGORIES:Food Specials,Taco Tuesday
ATTACH;FMTTYPE=image/jpeg:https://www.rootedhg.com/wp-content/uploads/2025/05/Digital_Rumba_Taco-Tuesday_1080px-x-1080px_May-2025.jpg
END:VEVENT
BEGIN:VEVENT
DTSTART;TZID=America/New_York:20260616T120000
DTEND;TZID=America/New_York:20260616T160000
DTSTAMP:20260420T084609
CREATED:20250915T212122Z
LAST-MODIFIED:20251218T170206Z
UID:10040005-1781611200-1781625600@www.rootedhg.com
SUMMARY:RUMBA Taco Tuesday
DESCRIPTION:Clock out\, taco up. Taco Tuesday is your new lunch ritual at RUMBA! Enjoy three delicious tacos for just $15. Lunch Only Until 4pm. Dine in with us or take them to go!
URL:https://www.rootedhg.com/event/rumba-taco-thursday-2-2-2-2-2/2026-06-16/
LOCATION:RUMBA – Hampton Bays\, 43 Canoe Place Road\, Hampton Bays\, NY\, 11946\, United States
CATEGORIES:Food Specials,Taco Tuesday
ATTACH;FMTTYPE=image/jpeg:https://www.rootedhg.com/wp-content/uploads/2025/05/Digital_Rumba_Taco-Tuesday_1080px-x-1080px_May-2025.jpg
END:VEVENT
BEGIN:VEVENT
DTSTART;TZID=America/New_York:20260623T110000
DTEND;TZID=America/New_York:20260623T160000
DTSTAMP:20260420T084609
CREATED:20250915T212256Z
LAST-MODIFIED:20251218T170222Z
UID:10040267-1782212400-1782230400@www.rootedhg.com
SUMMARY:RUMBA Taco Tuesday
DESCRIPTION:Clock out\, taco up. Taco Tuesday is your new lunch ritual at RUMBA! Enjoy three delicious tacos for just $15. Lunch Only Until 4pm. Dine in with us or take them to go!
URL:https://www.rootedhg.com/event/rumba-taco-tuesday/2026-06-23/
LOCATION:RUMBA – Metairie\, 5257 Veterans Memorial Blvd\, Metairie\, LA\, 70006\, United States
CATEGORIES:Food Specials,Taco Tuesday
ATTACH;FMTTYPE=image/jpeg:https://www.rootedhg.com/wp-content/uploads/2025/05/Digital_Rumba_Taco-Tuesday_1080px-x-1080px_May-2025.jpg
END:VEVENT
BEGIN:VEVENT
DTSTART;TZID=America/New_York:20260623T110000
DTEND;TZID=America/New_York:20260623T210000
DTSTAMP:20260420T084609
CREATED:20240703T164519Z
LAST-MODIFIED:20251218T180554Z
UID:10031180-1782212400-1782248400@www.rootedhg.com
SUMMARY:AVO TACO Tuesday
DESCRIPTION:Enjoy Taco Tuesday at AVO TACO with 3 tacos for just $13\, all day long! Whether you’re dining in or taking out\, use code “TACOTUESDAY” at checkout to savor this delicious deal.
URL:https://www.rootedhg.com/event/avo-taco-tuesday/2026-06-23/
LOCATION:AVO TACO – Bayside\, 212-97 26TH AVE\, Bayside\, NY\, 11360\, United States
CATEGORIES:Food Specials,Taco Tuesday
ATTACH;FMTTYPE=image/jpeg:https://www.rootedhg.com/wp-content/uploads/2024/07/AvoTaco_Tuesday-800X-800-2048x2048-1.jpg
END:VEVENT
BEGIN:VEVENT
DTSTART;TZID=America/New_York:20260623T113000
DTEND;TZID=America/New_York:20260623T160000
DTSTAMP:20260420T084609
CREATED:20250915T212648Z
LAST-MODIFIED:20251218T170214Z
UID:10037466-1782214200-1782230400@www.rootedhg.com
SUMMARY:RUMBA Taco Tuesday
DESCRIPTION:Taco lovers rejoice! Join us at RUMBA for Taco Tuesday and enjoy 3 delicious tacos for just $15. Lunch Only Until 4pm. Savor the flavors and make your week tastier with our mouthwatering tacos!
URL:https://www.rootedhg.com/event/rumba-taco-tuesday-thursday-p-2/2026-06-23/
LOCATION:RUMBA – Patchogue\, 13 East Main Street\, Patchogue\, NY\, 11772\, United States
CATEGORIES:Food Specials,Taco Tuesday
ATTACH;FMTTYPE=image/jpeg:https://www.rootedhg.com/wp-content/uploads/2025/05/Digital_Rumba_Taco-Tuesday_1080px-x-1080px_May-2025.jpg
END:VEVENT
BEGIN:VEVENT
DTSTART;TZID=America/New_York:20260623T120000
DTEND;TZID=America/New_York:20260623T160000
DTSTAMP:20260420T084609
CREATED:20250915T212122Z
LAST-MODIFIED:20251218T170206Z
UID:10040006-1782216000-1782230400@www.rootedhg.com
SUMMARY:RUMBA Taco Tuesday
DESCRIPTION:Clock out\, taco up. Taco Tuesday is your new lunch ritual at RUMBA! Enjoy three delicious tacos for just $15. Lunch Only Until 4pm. Dine in with us or take them to go!
URL:https://www.rootedhg.com/event/rumba-taco-thursday-2-2-2-2-2/2026-06-23/
LOCATION:RUMBA – Hampton Bays\, 43 Canoe Place Road\, Hampton Bays\, NY\, 11946\, United States
CATEGORIES:Food Specials,Taco Tuesday
ATTACH;FMTTYPE=image/jpeg:https://www.rootedhg.com/wp-content/uploads/2025/05/Digital_Rumba_Taco-Tuesday_1080px-x-1080px_May-2025.jpg
END:VEVENT
BEGIN:VEVENT
DTSTART;TZID=America/New_York:20260630T110000
DTEND;TZID=America/New_York:20260630T160000
DTSTAMP:20260420T084609
CREATED:20250915T212256Z
LAST-MODIFIED:20251218T170222Z
UID:10040268-1782817200-1782835200@www.rootedhg.com
SUMMARY:RUMBA Taco Tuesday
DESCRIPTION:Clock out\, taco up. Taco Tuesday is your new lunch ritual at RUMBA! Enjoy three delicious tacos for just $15. Lunch Only Until 4pm. Dine in with us or take them to go!
URL:https://www.rootedhg.com/event/rumba-taco-tuesday/2026-06-30/
LOCATION:RUMBA – Metairie\, 5257 Veterans Memorial Blvd\, Metairie\, LA\, 70006\, United States
CATEGORIES:Food Specials,Taco Tuesday
ATTACH;FMTTYPE=image/jpeg:https://www.rootedhg.com/wp-content/uploads/2025/05/Digital_Rumba_Taco-Tuesday_1080px-x-1080px_May-2025.jpg
END:VEVENT
BEGIN:VEVENT
DTSTART;TZID=America/New_York:20260630T110000
DTEND;TZID=America/New_York:20260630T210000
DTSTAMP:20260420T084609
CREATED:20240703T164519Z
LAST-MODIFIED:20251218T180554Z
UID:10031181-1782817200-1782853200@www.rootedhg.com
SUMMARY:AVO TACO Tuesday
DESCRIPTION:Enjoy Taco Tuesday at AVO TACO with 3 tacos for just $13\, all day long! Whether you’re dining in or taking out\, use code “TACOTUESDAY” at checkout to savor this delicious deal.
URL:https://www.rootedhg.com/event/avo-taco-tuesday/2026-06-30/
LOCATION:AVO TACO – Bayside\, 212-97 26TH AVE\, Bayside\, NY\, 11360\, United States
CATEGORIES:Food Specials,Taco Tuesday
ATTACH;FMTTYPE=image/jpeg:https://www.rootedhg.com/wp-content/uploads/2024/07/AvoTaco_Tuesday-800X-800-2048x2048-1.jpg
END:VEVENT
BEGIN:VEVENT
DTSTART;TZID=America/New_York:20260630T113000
DTEND;TZID=America/New_York:20260630T160000
DTSTAMP:20260420T084609
CREATED:20250915T212648Z
LAST-MODIFIED:20251218T170214Z
UID:10037467-1782819000-1782835200@www.rootedhg.com
SUMMARY:RUMBA Taco Tuesday
DESCRIPTION:Taco lovers rejoice! Join us at RUMBA for Taco Tuesday and enjoy 3 delicious tacos for just $15. Lunch Only Until 4pm. Savor the flavors and make your week tastier with our mouthwatering tacos!
URL:https://www.rootedhg.com/event/rumba-taco-tuesday-thursday-p-2/2026-06-30/
LOCATION:RUMBA – Patchogue\, 13 East Main Street\, Patchogue\, NY\, 11772\, United States
CATEGORIES:Food Specials,Taco Tuesday
ATTACH;FMTTYPE=image/jpeg:https://www.rootedhg.com/wp-content/uploads/2025/05/Digital_Rumba_Taco-Tuesday_1080px-x-1080px_May-2025.jpg
END:VEVENT
BEGIN:VEVENT
DTSTART;TZID=America/New_York:20260630T120000
DTEND;TZID=America/New_York:20260630T160000
DTSTAMP:20260420T084609
CREATED:20250915T212122Z
LAST-MODIFIED:20251218T170206Z
UID:10040007-1782820800-1782835200@www.rootedhg.com
SUMMARY:RUMBA Taco Tuesday
DESCRIPTION:Clock out\, taco up. Taco Tuesday is your new lunch ritual at RUMBA! Enjoy three delicious tacos for just $15. Lunch Only Until 4pm. Dine in with us or take them to go!
URL:https://www.rootedhg.com/event/rumba-taco-thursday-2-2-2-2-2/2026-06-30/
LOCATION:RUMBA – Hampton Bays\, 43 Canoe Place Road\, Hampton Bays\, NY\, 11946\, United States
CATEGORIES:Food Specials,Taco Tuesday
ATTACH;FMTTYPE=image/jpeg:https://www.rootedhg.com/wp-content/uploads/2025/05/Digital_Rumba_Taco-Tuesday_1080px-x-1080px_May-2025.jpg
END:VEVENT
END:VCALENDAR