BEGIN:VCALENDAR
VERSION:2.0
PRODID:-//Rooted Hospitality Group - ECPv6.15.20//NONSGML v1.0//EN
CALSCALE:GREGORIAN
METHOD:PUBLISH
X-WR-CALNAME:Rooted Hospitality Group
X-ORIGINAL-URL:https://www.rootedhg.com
X-WR-CALDESC:Events for Rooted Hospitality Group
REFRESH-INTERVAL;VALUE=DURATION:PT1H
X-Robots-Tag:noindex
X-PUBLISHED-TTL:PT1H
BEGIN:VTIMEZONE
TZID:America/New_York
BEGIN:DAYLIGHT
TZOFFSETFROM:-0500
TZOFFSETTO:-0400
TZNAME:EDT
DTSTART:20230312T070000
END:DAYLIGHT
BEGIN:STANDARD
TZOFFSETFROM:-0400
TZOFFSETTO:-0500
TZNAME:EST
DTSTART:20231105T060000
END:STANDARD
BEGIN:DAYLIGHT
TZOFFSETFROM:-0500
TZOFFSETTO:-0400
TZNAME:EDT
DTSTART:20240310T070000
END:DAYLIGHT
BEGIN:STANDARD
TZOFFSETFROM:-0400
TZOFFSETTO:-0500
TZNAME:EST
DTSTART:20241103T060000
END:STANDARD
BEGIN:DAYLIGHT
TZOFFSETFROM:-0500
TZOFFSETTO:-0400
TZNAME:EDT
DTSTART:20250309T070000
END:DAYLIGHT
BEGIN:STANDARD
TZOFFSETFROM:-0400
TZOFFSETTO:-0500
TZNAME:EST
DTSTART:20251102T060000
END:STANDARD
END:VTIMEZONE
BEGIN:VEVENT
DTSTART;TZID=America/New_York:20241001T110000
DTEND;TZID=America/New_York:20241001T210000
DTSTAMP:20260422T233537
CREATED:20240703T164519Z
LAST-MODIFIED:20251218T180554Z
UID:10031090-1727780400-1727816400@www.rootedhg.com
SUMMARY:AVO TACO Tuesday
DESCRIPTION:Enjoy Taco Tuesday at AVO TACO with 3 tacos for just $13\, all day long! Whether you’re dining in or taking out\, use code “TACOTUESDAY” at checkout to savor this delicious deal.
URL:https://www.rootedhg.com/event/avo-taco-tuesday/2024-10-01/
LOCATION:AVO TACO – Bayside\, 212-97 26TH AVE\, Bayside\, NY\, 11360\, United States
CATEGORIES:Food Specials,Taco Tuesday
ATTACH;FMTTYPE=image/jpeg:https://www.rootedhg.com/wp-content/uploads/2024/07/AvoTaco_Tuesday-800X-800-2048x2048-1.jpg
END:VEVENT
BEGIN:VEVENT
DTSTART;TZID=America/New_York:20241008T110000
DTEND;TZID=America/New_York:20241008T210000
DTSTAMP:20260422T233537
CREATED:20240703T164519Z
LAST-MODIFIED:20251218T180554Z
UID:10031091-1728385200-1728421200@www.rootedhg.com
SUMMARY:AVO TACO Tuesday
DESCRIPTION:Enjoy Taco Tuesday at AVO TACO with 3 tacos for just $13\, all day long! Whether you’re dining in or taking out\, use code “TACOTUESDAY” at checkout to savor this delicious deal.
URL:https://www.rootedhg.com/event/avo-taco-tuesday/2024-10-08/
LOCATION:AVO TACO – Bayside\, 212-97 26TH AVE\, Bayside\, NY\, 11360\, United States
CATEGORIES:Food Specials,Taco Tuesday
ATTACH;FMTTYPE=image/jpeg:https://www.rootedhg.com/wp-content/uploads/2024/07/AvoTaco_Tuesday-800X-800-2048x2048-1.jpg
END:VEVENT
BEGIN:VEVENT
DTSTART;TZID=America/New_York:20241015T110000
DTEND;TZID=America/New_York:20241015T210000
DTSTAMP:20260422T233537
CREATED:20240703T164519Z
LAST-MODIFIED:20251218T180554Z
UID:10031092-1728990000-1729026000@www.rootedhg.com
SUMMARY:AVO TACO Tuesday
DESCRIPTION:Enjoy Taco Tuesday at AVO TACO with 3 tacos for just $13\, all day long! Whether you’re dining in or taking out\, use code “TACOTUESDAY” at checkout to savor this delicious deal.
URL:https://www.rootedhg.com/event/avo-taco-tuesday/2024-10-15/
LOCATION:AVO TACO – Bayside\, 212-97 26TH AVE\, Bayside\, NY\, 11360\, United States
CATEGORIES:Food Specials,Taco Tuesday
ATTACH;FMTTYPE=image/jpeg:https://www.rootedhg.com/wp-content/uploads/2024/07/AvoTaco_Tuesday-800X-800-2048x2048-1.jpg
END:VEVENT
BEGIN:VEVENT
DTSTART;TZID=America/New_York:20241022T110000
DTEND;TZID=America/New_York:20241022T210000
DTSTAMP:20260422T233537
CREATED:20240703T164519Z
LAST-MODIFIED:20251218T180554Z
UID:10031093-1729594800-1729630800@www.rootedhg.com
SUMMARY:AVO TACO Tuesday
DESCRIPTION:Enjoy Taco Tuesday at AVO TACO with 3 tacos for just $13\, all day long! Whether you’re dining in or taking out\, use code “TACOTUESDAY” at checkout to savor this delicious deal.
URL:https://www.rootedhg.com/event/avo-taco-tuesday/2024-10-22/
LOCATION:AVO TACO – Bayside\, 212-97 26TH AVE\, Bayside\, NY\, 11360\, United States
CATEGORIES:Food Specials,Taco Tuesday
ATTACH;FMTTYPE=image/jpeg:https://www.rootedhg.com/wp-content/uploads/2024/07/AvoTaco_Tuesday-800X-800-2048x2048-1.jpg
END:VEVENT
BEGIN:VEVENT
DTSTART;TZID=America/New_York:20241029T110000
DTEND;TZID=America/New_York:20241029T210000
DTSTAMP:20260422T233537
CREATED:20240703T164519Z
LAST-MODIFIED:20251218T180554Z
UID:10031094-1730199600-1730235600@www.rootedhg.com
SUMMARY:AVO TACO Tuesday
DESCRIPTION:Enjoy Taco Tuesday at AVO TACO with 3 tacos for just $13\, all day long! Whether you’re dining in or taking out\, use code “TACOTUESDAY” at checkout to savor this delicious deal.
URL:https://www.rootedhg.com/event/avo-taco-tuesday/2024-10-29/
LOCATION:AVO TACO – Bayside\, 212-97 26TH AVE\, Bayside\, NY\, 11360\, United States
CATEGORIES:Food Specials,Taco Tuesday
ATTACH;FMTTYPE=image/jpeg:https://www.rootedhg.com/wp-content/uploads/2024/07/AvoTaco_Tuesday-800X-800-2048x2048-1.jpg
END:VEVENT
END:VCALENDAR