BEGIN:VCALENDAR
VERSION:2.0
PRODID:-//Rooted Hospitality Group - ECPv6.15.20//NONSGML v1.0//EN
CALSCALE:GREGORIAN
METHOD:PUBLISH
X-ORIGINAL-URL:https://www.rootedhg.com
X-WR-CALDESC:Events for Rooted Hospitality Group
REFRESH-INTERVAL;VALUE=DURATION:PT1H
X-Robots-Tag:noindex
X-PUBLISHED-TTL:PT1H
BEGIN:VTIMEZONE
TZID:America/New_York
BEGIN:DAYLIGHT
TZOFFSETFROM:-0500
TZOFFSETTO:-0400
TZNAME:EDT
DTSTART:20240310T070000
END:DAYLIGHT
BEGIN:STANDARD
TZOFFSETFROM:-0400
TZOFFSETTO:-0500
TZNAME:EST
DTSTART:20241103T060000
END:STANDARD
BEGIN:DAYLIGHT
TZOFFSETFROM:-0500
TZOFFSETTO:-0400
TZNAME:EDT
DTSTART:20250309T070000
END:DAYLIGHT
BEGIN:STANDARD
TZOFFSETFROM:-0400
TZOFFSETTO:-0500
TZNAME:EST
DTSTART:20251102T060000
END:STANDARD
BEGIN:DAYLIGHT
TZOFFSETFROM:-0500
TZOFFSETTO:-0400
TZNAME:EDT
DTSTART:20260308T070000
END:DAYLIGHT
BEGIN:STANDARD
TZOFFSETFROM:-0400
TZOFFSETTO:-0500
TZNAME:EST
DTSTART:20261101T060000
END:STANDARD
END:VTIMEZONE
BEGIN:VEVENT
DTSTART;TZID=America/New_York:20251120T180000
DTEND;TZID=America/New_York:20251120T210000
DTSTAMP:20260421T133826
CREATED:20251014T193405Z
LAST-MODIFIED:20251016T155009Z
UID:10042544-1763661600-1763672400@www.rootedhg.com
SUMMARY:Cowfish Orin Swift Wine Dinner
DESCRIPTION:Join us this November at Cowfish for a remarkable evening of bold flavor and storytelling as we host an exclusive Wine Dinner with Orin Swift Cellars. Founded by visionary winemaker Dave Phinney\, Orin Swift is known for pushing boundaries—most famously as the creator of The Prisoner\, a cult classic that redefined modern red blends. This dinner celebrates not only the artistry of Orin Swift wines but also Dave’s relentless spirit\, from launching with just two tons of zinfandel to becoming one of Napa’s most influential wine icons. Don’t miss this immersive pairing experience where every course is paired with the daring character of Orin Swift’s finest. Seats are limited.
URL:https://www.rootedhg.com/event/cowfish-orin-swift-wine-dinner/
LOCATION:Cowfish\, 258 E. Montauk Hwy\, Hampton Bays\, NY\, 11946\, United States
CATEGORIES:Community,Dinner,Food Specials,Pairing Dinner,Special Events
ATTACH;FMTTYPE=image/jpeg:https://www.rootedhg.com/wp-content/uploads/2025/10/Photo_COWFISH_Orin-Swift_RHG-Page.jpg
END:VEVENT
END:VCALENDAR