BEGIN:VCALENDAR
VERSION:2.0
PRODID:-//Rooted Hospitality Group - ECPv6.15.20//NONSGML v1.0//EN
CALSCALE:GREGORIAN
METHOD:PUBLISH
X-WR-CALNAME:Rooted Hospitality Group
X-ORIGINAL-URL:https://www.rootedhg.com
X-WR-CALDESC:Events for Rooted Hospitality Group
REFRESH-INTERVAL;VALUE=DURATION:PT1H
X-Robots-Tag:noindex
X-PUBLISHED-TTL:PT1H
BEGIN:VTIMEZONE
TZID:America/New_York
BEGIN:DAYLIGHT
TZOFFSETFROM:-0500
TZOFFSETTO:-0400
TZNAME:EDT
DTSTART:20240310T070000
END:DAYLIGHT
BEGIN:STANDARD
TZOFFSETFROM:-0400
TZOFFSETTO:-0500
TZNAME:EST
DTSTART:20241103T060000
END:STANDARD
BEGIN:DAYLIGHT
TZOFFSETFROM:-0500
TZOFFSETTO:-0400
TZNAME:EDT
DTSTART:20250309T070000
END:DAYLIGHT
BEGIN:STANDARD
TZOFFSETFROM:-0400
TZOFFSETTO:-0500
TZNAME:EST
DTSTART:20251102T060000
END:STANDARD
BEGIN:DAYLIGHT
TZOFFSETFROM:-0500
TZOFFSETTO:-0400
TZNAME:EDT
DTSTART:20260308T070000
END:DAYLIGHT
BEGIN:STANDARD
TZOFFSETFROM:-0400
TZOFFSETTO:-0500
TZNAME:EST
DTSTART:20261101T060000
END:STANDARD
END:VTIMEZONE
BEGIN:VEVENT
DTSTART;TZID=America/New_York:20250313T183000
DTEND;TZID=America/New_York:20250313T213000
DTSTAMP:20260422T053549
CREATED:20241203T164939Z
LAST-MODIFIED:20250129T221034Z
UID:10032623-1741890600-1741901400@www.rootedhg.com
SUMMARY:Wine Pairing Dinner Featuring DAOU Vineyards
DESCRIPTION:This exclusive event brings together two treasures: Cowfish’s exceptional culinary artistry and DAOU Vineyards award-winning wines. Experience an indulgent five-course dinner perfectly paired with DAOU Vineyard’s extraordinary vintages\, set against the backdrop of the Shinnecock Canal’s breathtaking views. Don’t miss this intimate evening of flavor and elegance!
URL:https://www.rootedhg.com/event/wine-pairing-dinner-featuring-daou-vineyards/
LOCATION:Cowfish\, 258 E. Montauk Hwy\, Hampton Bays\, NY\, 11946\, United States
CATEGORIES:Pairing Dinner,Special Events
ATTACH;FMTTYPE=image/jpeg:https://www.rootedhg.com/wp-content/uploads/2024/12/Cube-4.jpg
END:VEVENT
BEGIN:VEVENT
DTSTART;TZID=America/New_York:20250320T183000
DTEND;TZID=America/New_York:20250320T210000
DTSTAMP:20260422T053549
CREATED:20241216T163107Z
LAST-MODIFIED:20241216T164201Z
UID:10032629-1742495400-1742504400@www.rootedhg.com
SUMMARY:RUMBA Rum Pairing Dinner Featuring Don Q
DESCRIPTION:Join us on Thursday\, March 20th\, for an intimate dinner event that celebrates the rich history of Don Q Rum paired with the vibrant flavors of the Rumba’s Island Inspired Cuisine.
URL:https://www.rootedhg.com/event/rumba-rum-pairing-dinner-featuring-don-q/
LOCATION:RUMBA – Hampton Bays\, 43 Canoe Place Road\, Hampton Bays\, NY\, 11946\, United States
CATEGORIES:Pairing Dinner,Special Events
ATTACH;FMTTYPE=image/jpeg:https://www.rootedhg.com/wp-content/uploads/2024/12/Digital_Rumba_Don-Q-Rum-Tasting-Dinner_2025_1080px-x-1080px.jpg
END:VEVENT
END:VCALENDAR