BEGIN:VCALENDAR
VERSION:2.0
PRODID:-//Rooted Hospitality Group - ECPv6.15.20//NONSGML v1.0//EN
CALSCALE:GREGORIAN
METHOD:PUBLISH
X-WR-CALNAME:Rooted Hospitality Group
X-ORIGINAL-URL:https://www.rootedhg.com
X-WR-CALDESC:Events for Rooted Hospitality Group
REFRESH-INTERVAL;VALUE=DURATION:PT1H
X-Robots-Tag:noindex
X-PUBLISHED-TTL:PT1H
BEGIN:VTIMEZONE
TZID:America/New_York
BEGIN:DAYLIGHT
TZOFFSETFROM:-0500
TZOFFSETTO:-0400
TZNAME:EDT
DTSTART:20240310T070000
END:DAYLIGHT
BEGIN:STANDARD
TZOFFSETFROM:-0400
TZOFFSETTO:-0500
TZNAME:EST
DTSTART:20241103T060000
END:STANDARD
BEGIN:DAYLIGHT
TZOFFSETFROM:-0500
TZOFFSETTO:-0400
TZNAME:EDT
DTSTART:20250309T070000
END:DAYLIGHT
BEGIN:STANDARD
TZOFFSETFROM:-0400
TZOFFSETTO:-0500
TZNAME:EST
DTSTART:20251102T060000
END:STANDARD
BEGIN:DAYLIGHT
TZOFFSETFROM:-0500
TZOFFSETTO:-0400
TZNAME:EDT
DTSTART:20260308T070000
END:DAYLIGHT
BEGIN:STANDARD
TZOFFSETFROM:-0400
TZOFFSETTO:-0500
TZNAME:EST
DTSTART:20261101T060000
END:STANDARD
END:VTIMEZONE
BEGIN:VEVENT
DTSTART;TZID=America/New_York:20250109T183000
DTEND;TZID=America/New_York:20250109T213000
DTSTAMP:20260422T084618
CREATED:20241203T165150Z
LAST-MODIFIED:20241203T165151Z
UID:10032624-1736447400-1736458200@www.rootedhg.com
SUMMARY:RHUM Tequila Tasting Dinner Featuring Tres Generacions
DESCRIPTION:Enjoy four tasting courses carefully paired with delicious tequila cocktails featuring Tres Generacions.
URL:https://www.rootedhg.com/event/rhum-tequila-tasting-dinner-featuring-tres-generacions/
LOCATION:RUMBA – Patchogue\, 13 East Main Street\, Patchogue\, NY\, 11772\, United States
CATEGORIES:Pairing Dinner,Special Events
ATTACH;FMTTYPE=image/jpeg:https://www.rootedhg.com/wp-content/uploads/2024/12/RHUM_Tequila-Dinner-1.9.25_1000x1000.jpg
END:VEVENT
BEGIN:VEVENT
DTSTART;TZID=America/New_York:20250116T183000
DTEND;TZID=America/New_York:20250116T213000
DTSTAMP:20260422T084618
CREATED:20241203T170940Z
LAST-MODIFIED:20241203T172958Z
UID:10032626-1737052200-1737063000@www.rootedhg.com
SUMMARY:Fauna Wine Dinner Featuring Raphael Vineyard
DESCRIPTION:Immerse yourself in a sophisticated culinary journey inspired by the rich terroir of Long Island. Fauna’s executive chef collaborates with Raphael Vineyards to craft a one-night-only experience where each of the five courses is intentionally paired with a complementing wine. Celebrate the harmony between locally inspired cuisine and premium vintages while discovering the stories\, flavors\, and artistry behind each pour.
URL:https://www.rootedhg.com/event/fauna-wine-dinner-featuring-raphael-vineyard/
LOCATION:Fauna\, 6 Parlato Drive\, Westhampton Beach\, NY\, 11978\, United States
CATEGORIES:Pairing Dinner,Special Events
ATTACH;FMTTYPE=image/jpeg:https://www.rootedhg.com/wp-content/uploads/2024/12/Cube-1.jpg
END:VEVENT
BEGIN:VEVENT
DTSTART;TZID=America/New_York:20250130T183000
DTEND;TZID=America/New_York:20250130T210000
DTSTAMP:20260422T084618
CREATED:02020130T112648Z
LAST-MODIFIED:20241216T164730Z
UID:10032628-1738261800-1738270800@www.rootedhg.com
SUMMARY:RUMBA Tequila Tasting Dinner
DESCRIPTION:Join us on Thursday\, January 30th\, for an intimate dinner event that celebrates the rich heritage of Tres Generaciones Tequila paired with the vibrant flavors of the Rumba’s Island Inspired Cuisine.
URL:https://www.rootedhg.com/event/rumba-tequila-tasting-dinner/
LOCATION:RUMBA – Hampton Bays\, 43 Canoe Place Road\, Hampton Bays\, NY\, 11946\, United States
CATEGORIES:Pairing Dinner,Special Events
ATTACH;FMTTYPE=image/jpeg:https://www.rootedhg.com/wp-content/uploads/2024/12/Rumba_Tequila-Dinner-1.30.25_1000x1000.jpg
END:VEVENT
END:VCALENDAR