BEGIN:VCALENDAR
VERSION:2.0
PRODID:-//Rooted Hospitality Group - ECPv6.15.20//NONSGML v1.0//EN
CALSCALE:GREGORIAN
METHOD:PUBLISH
X-WR-CALNAME:Rooted Hospitality Group
X-ORIGINAL-URL:https://www.rootedhg.com
X-WR-CALDESC:Events for Rooted Hospitality Group
REFRESH-INTERVAL;VALUE=DURATION:PT1H
X-Robots-Tag:noindex
X-PUBLISHED-TTL:PT1H
BEGIN:VTIMEZONE
TZID:America/New_York
BEGIN:DAYLIGHT
TZOFFSETFROM:-0500
TZOFFSETTO:-0400
TZNAME:EDT
DTSTART:20230312T070000
END:DAYLIGHT
BEGIN:STANDARD
TZOFFSETFROM:-0400
TZOFFSETTO:-0500
TZNAME:EST
DTSTART:20231105T060000
END:STANDARD
BEGIN:DAYLIGHT
TZOFFSETFROM:-0500
TZOFFSETTO:-0400
TZNAME:EDT
DTSTART:20240310T070000
END:DAYLIGHT
BEGIN:STANDARD
TZOFFSETFROM:-0400
TZOFFSETTO:-0500
TZNAME:EST
DTSTART:20241103T060000
END:STANDARD
BEGIN:DAYLIGHT
TZOFFSETFROM:-0500
TZOFFSETTO:-0400
TZNAME:EDT
DTSTART:20250309T070000
END:DAYLIGHT
BEGIN:STANDARD
TZOFFSETFROM:-0400
TZOFFSETTO:-0500
TZNAME:EST
DTSTART:20251102T060000
END:STANDARD
END:VTIMEZONE
BEGIN:VEVENT
DTSTART;TZID=America/New_York:20241017T180000
DTEND;TZID=America/New_York:20241017T210000
DTSTAMP:20260422T144442
CREATED:20241007T190223Z
LAST-MODIFIED:20241007T190224Z
UID:10032424-1729188000-1729198800@www.rootedhg.com
SUMMARY:Cowfish Bedell Wine Dinner
DESCRIPTION:Hors d’oeuvres begin at 6p followed by the first course. Our upstairs bar is available prior to dinner. \n\n\nMenu: • First Course: Seared Diver Scallops\, paired with Bedell 2023 Pinot Gris • Second Course: Duck Wellington\, paired with Bedell 2022 Cabernet Franc • Third Course: Rack of Lamb\, paired with Bedell 2019 Musee • Fourth Course: Caramelized White Chocolate Mousse\, paired with Bedell 2023 Verdejo \nThis exclusive event brings together two local treasures: Cowfish’s exceptional culinary artistry and Bedell Cellars’ award-winning wines. Experience an indulgent four-course dinner perfectly paired with Bedell’s extraordinary vintages\, set against the backdrop of the Shinnecock Canal’s breathtaking views. Don’t miss this intimate evening of flavor and elegance!
URL:https://www.rootedhg.com/event/cowfish-bedell-wine-dinner/
LOCATION:Cowfish\, 258 E. Montauk Hwy\, Hampton Bays\, NY\, 11946\, United States
CATEGORIES:Community,Food Specials,Pairing Dinner,Special Events
ATTACH;FMTTYPE=image/jpeg:https://www.rootedhg.com/wp-content/uploads/2024/10/Cube.jpg
END:VEVENT
END:VCALENDAR