BEGIN:VCALENDAR
VERSION:2.0
PRODID:-//Rooted Hospitality Group - ECPv6.15.20//NONSGML v1.0//EN
CALSCALE:GREGORIAN
METHOD:PUBLISH
X-WR-CALNAME:Rooted Hospitality Group
X-ORIGINAL-URL:https://www.rootedhg.com
X-WR-CALDESC:Events for Rooted Hospitality Group
REFRESH-INTERVAL;VALUE=DURATION:PT1H
X-Robots-Tag:noindex
X-PUBLISHED-TTL:PT1H
BEGIN:VTIMEZONE
TZID:America/New_York
BEGIN:DAYLIGHT
TZOFFSETFROM:-0500
TZOFFSETTO:-0400
TZNAME:EDT
DTSTART:20230312T070000
END:DAYLIGHT
BEGIN:STANDARD
TZOFFSETFROM:-0400
TZOFFSETTO:-0500
TZNAME:EST
DTSTART:20231105T060000
END:STANDARD
BEGIN:DAYLIGHT
TZOFFSETFROM:-0500
TZOFFSETTO:-0400
TZNAME:EDT
DTSTART:20240310T070000
END:DAYLIGHT
BEGIN:STANDARD
TZOFFSETFROM:-0400
TZOFFSETTO:-0500
TZNAME:EST
DTSTART:20241103T060000
END:STANDARD
BEGIN:DAYLIGHT
TZOFFSETFROM:-0500
TZOFFSETTO:-0400
TZNAME:EDT
DTSTART:20250309T070000
END:DAYLIGHT
BEGIN:STANDARD
TZOFFSETFROM:-0400
TZOFFSETTO:-0500
TZNAME:EST
DTSTART:20251102T060000
END:STANDARD
END:VTIMEZONE
BEGIN:VEVENT
DTSTART;TZID=America/New_York:20241013T110000
DTEND;TZID=America/New_York:20241013T170000
DTSTAMP:20260421T094605
CREATED:20240827T005744Z
LAST-MODIFIED:20240924T195945Z
UID:10032404-1728817200-1728838800@www.rootedhg.com
SUMMARY:Westhampton Beach Fall Festival
DESCRIPTION:
URL:https://www.rootedhg.com/event/westhampton-beach-fall-festival/
LOCATION:NY
CATEGORIES:Community
ATTACH;FMTTYPE=image/png:https://www.rootedhg.com/wp-content/uploads/2024/08/Fall-Festival-700x700-1.png
END:VEVENT
BEGIN:VEVENT
DTSTART;TZID=America/New_York:20240810T120000
DTEND;TZID=America/New_York:20240810T180000
DTSTAMP:20260421T094605
CREATED:20240805T163641Z
LAST-MODIFIED:20240805T163642Z
UID:10032394-1723291200-1723312800@www.rootedhg.com
SUMMARY:RUMBA Cove Boat Party
DESCRIPTION:Come by sea to RUMBA Cove on Saturday\, August 10th\, for an afternoon filled with reggae vibrations from Project Vibe performing on a stage on the water\, some of the most original tropical libations around\, and the tastiest island cuisine north of the Caribbean! \nPre-order cocktails and cuisine\, and even add exclusive Rumba crop tops\, shirts\, comfy sweatshirts\, and koozies to enjoy the perfect day on the water!
URL:https://www.rootedhg.com/event/rumba-cove-boat-party/
LOCATION:RUMBA – Hampton Bays\, 43 Canoe Place Road\, Hampton Bays\, NY\, 11946\, United States
CATEGORIES:Community,Live Music,Party
ATTACH;FMTTYPE=image/jpeg:https://www.rootedhg.com/wp-content/uploads/2024/08/Rumba-RCBP-2024_1920X-1080_B2.jpg
END:VEVENT
BEGIN:VEVENT
DTSTART;TZID=America/New_York:20240710T180000
DTEND;TZID=America/New_York:20240710T203000
DTSTAMP:20260421T094605
CREATED:20240703T171435Z
LAST-MODIFIED:20240703T171520Z
UID:10032383-1720634400-1720643400@www.rootedhg.com
SUMMARY:Meschutt Beach Cleanup
DESCRIPTION:Join us for the Meschutt Beach Cleanup on Wednesday\, July 10! The cleanup starts at 6pm\, followed by Ocean Hour at Cowfish from 7:30pm-8:30pm. Enjoy $5 Lagunitas and Happy Hour specials\, with all Lagunitas sales donated to the NY Marine Rescue Center.
URL:https://www.rootedhg.com/event/meschutt-beach-cleanup/
LOCATION:Cowfish\, 258 E. Montauk Hwy\, Hampton Bays\, NY\, 11946\, United States
CATEGORIES:Community,Fundraising
ATTACH;FMTTYPE=image/jpeg:https://www.rootedhg.com/wp-content/uploads/2024/07/Digital_Cowfish_NY-Marine-Rescue-Beach-Cleanup_2024_1080px-x-1080px.jpg
END:VEVENT
END:VCALENDAR