BEGIN:VCALENDAR
VERSION:2.0
PRODID:-//Rooted Hospitality Group - ECPv6.15.20//NONSGML v1.0//EN
CALSCALE:GREGORIAN
METHOD:PUBLISH
X-ORIGINAL-URL:https://www.rootedhg.com
X-WR-CALDESC:Events for Rooted Hospitality Group
REFRESH-INTERVAL;VALUE=DURATION:PT1H
X-Robots-Tag:noindex
X-PUBLISHED-TTL:PT1H
BEGIN:VTIMEZONE
TZID:America/New_York
BEGIN:DAYLIGHT
TZOFFSETFROM:-0500
TZOFFSETTO:-0400
TZNAME:EDT
DTSTART:20240310T070000
END:DAYLIGHT
BEGIN:STANDARD
TZOFFSETFROM:-0400
TZOFFSETTO:-0500
TZNAME:EST
DTSTART:20241103T060000
END:STANDARD
BEGIN:DAYLIGHT
TZOFFSETFROM:-0500
TZOFFSETTO:-0400
TZNAME:EDT
DTSTART:20250309T070000
END:DAYLIGHT
BEGIN:STANDARD
TZOFFSETFROM:-0400
TZOFFSETTO:-0500
TZNAME:EST
DTSTART:20251102T060000
END:STANDARD
BEGIN:DAYLIGHT
TZOFFSETFROM:-0500
TZOFFSETTO:-0400
TZNAME:EDT
DTSTART:20260308T070000
END:DAYLIGHT
BEGIN:STANDARD
TZOFFSETFROM:-0400
TZOFFSETTO:-0500
TZNAME:EST
DTSTART:20261101T060000
END:STANDARD
END:VTIMEZONE
BEGIN:VEVENT
DTSTART;TZID=America/New_York:20251206T110000
DTEND;TZID=America/New_York:20251206T150000
DTSTAMP:20260421T122309
CREATED:20241111T201303Z
LAST-MODIFIED:20251107T195633Z
UID:10032620-1765018800-1765033200@www.rootedhg.com
SUMMARY:Santa Brunch at Cowfish
DESCRIPTION:Bring the little ones for a day they’ll never forget — Santa Brunch is all about smiles\, cookies\, and Christmas cheer. Kids can decorate cookies\, take photos with Santa\, and even receive a special gift (dropped off the day before for Santa to deliver! 🎁). Meanwhile\, adults can toast the season with a Merry Mimosa or a Berry Bellini — because everyone deserves a little holiday sparkle. \nAdults $55 | Kids $20
URL:https://www.rootedhg.com/event/santa-brunch-at-cowfish/
LOCATION:Cowfish\, 258 E. Montauk Hwy\, Hampton Bays\, NY\, 11946\, United States
CATEGORIES:Brunch,Community,Food Specials,Special Events
ATTACH;FMTTYPE=image/jpeg:https://www.rootedhg.com/wp-content/uploads/2024/11/Cowfish_1000x1000_2025-12.6.jpg
END:VEVENT
BEGIN:VEVENT
DTSTART;TZID=America/New_York:20251213T100000
DTEND;TZID=America/New_York:20251213T150000
DTSTAMP:20260421T122309
CREATED:20241111T200808Z
LAST-MODIFIED:20251112T155039Z
UID:10032618-1765620000-1765638000@www.rootedhg.com
SUMMARY:Santa Brunch at RUMBA
DESCRIPTION:Fun for the whole family! Enjoy brunch while you mix & mingle with Kris Kringle. There’ll be cookie decorating for the kids\, photos with Santa\, adults get the choice of a Merry Mimosa or Berry Bellini\, and so much more! For an added surprise…bring your child’s wrapped gift the day before and Santa Claus himself will present it during the festivities!
URL:https://www.rootedhg.com/event/santa-brunch-at-rumba/2025-12-13/
LOCATION:RUMBA – Patchogue\, 13 East Main Street\, Patchogue\, NY\, 11772\, United States
CATEGORIES:Brunch,Community,Food Specials,Special Events
ATTACH;FMTTYPE=image/png:https://www.rootedhg.com/wp-content/uploads/2024/11/Digital_RUMBA_Patchogue_Santa-Brunch_1080px-x-1080px.png
END:VEVENT
BEGIN:VEVENT
DTSTART;TZID=America/New_York:20251213T110000
DTEND;TZID=America/New_York:20251213T150000
DTSTAMP:20260421T122309
CREATED:20251112T162443Z
LAST-MODIFIED:20251112T162443Z
UID:10043206-1765623600-1765638000@www.rootedhg.com
SUMMARY:Santa Brunch at Fauna
DESCRIPTION:Bring the whole family for a jolly good time! Savor a festive brunch and spend the morning with the one and only Santa Claus. Kids can decorate cookies and snap photos with St. Nick\, while adults can sip on their choice of a Merry Mimosa or Berry Bellini. Plus\, add a touch of holiday magic — drop off a wrapped gift for your child the day before\, and Santa will hand-deliver it during the celebration!
URL:https://www.rootedhg.com/event/santa-brunch-at-fauna/
LOCATION:Fauna\, 6 Parlato Drive\, Westhampton Beach\, NY\, 11978\, United States
CATEGORIES:Brunch,Community,Food Specials,Special Events
ATTACH;FMTTYPE=image/jpeg:https://www.rootedhg.com/wp-content/uploads/2025/11/Digital_Fauna_Santa-Brunch_1080px-x-1080px_v3.jpg
END:VEVENT
BEGIN:VEVENT
DTSTART;TZID=America/New_York:20251220T110000
DTEND;TZID=America/New_York:20251220T150000
DTSTAMP:20260421T122309
CREATED:20241111T201420Z
LAST-MODIFIED:20251218T181353Z
UID:10032621-1766228400-1766242800@www.rootedhg.com
SUMMARY:Santa Brunch at Cowfish
DESCRIPTION:Bring the little ones for a day they’ll never forget — Santa Brunch is all about smiles\, cookies\, and Christmas cheer. Kids can decorate cookies\, take photos with Santa\, and even receive a special gift (dropped off the day before for Santa to deliver! 🎁). Meanwhile\, adults can toast the season with a Merry Mimosa or a Berry Bellini — because everyone deserves a little holiday sparkle. \nAdults $55 | Kids $20
URL:https://www.rootedhg.com/event/santa-brunch-at-cowfish-2/
LOCATION:Cowfish\, 258 E. Montauk Hwy\, Hampton Bays\, NY\, 11946\, United States
CATEGORIES:Brunch,Community,Food Specials,Special Events
ATTACH;FMTTYPE=image/jpeg:https://www.rootedhg.com/wp-content/uploads/2024/11/Cowfish_1000x1000_2025-12.20.jpg
END:VEVENT
END:VCALENDAR