BEGIN:VCALENDAR
VERSION:2.0
PRODID:-//Rooted Hospitality Group - ECPv6.15.20//NONSGML v1.0//EN
CALSCALE:GREGORIAN
METHOD:PUBLISH
X-ORIGINAL-URL:https://www.rootedhg.com
X-WR-CALDESC:Events for Rooted Hospitality Group
REFRESH-INTERVAL;VALUE=DURATION:PT1H
X-Robots-Tag:noindex
X-PUBLISHED-TTL:PT1H
BEGIN:VTIMEZONE
TZID:America/New_York
BEGIN:DAYLIGHT
TZOFFSETFROM:-0500
TZOFFSETTO:-0400
TZNAME:EDT
DTSTART:20230312T070000
END:DAYLIGHT
BEGIN:STANDARD
TZOFFSETFROM:-0400
TZOFFSETTO:-0500
TZNAME:EST
DTSTART:20231105T060000
END:STANDARD
BEGIN:DAYLIGHT
TZOFFSETFROM:-0500
TZOFFSETTO:-0400
TZNAME:EDT
DTSTART:20240310T070000
END:DAYLIGHT
BEGIN:STANDARD
TZOFFSETFROM:-0400
TZOFFSETTO:-0500
TZNAME:EST
DTSTART:20241103T060000
END:STANDARD
BEGIN:DAYLIGHT
TZOFFSETFROM:-0500
TZOFFSETTO:-0400
TZNAME:EDT
DTSTART:20250309T070000
END:DAYLIGHT
BEGIN:STANDARD
TZOFFSETFROM:-0400
TZOFFSETTO:-0500
TZNAME:EST
DTSTART:20251102T060000
END:STANDARD
BEGIN:DAYLIGHT
TZOFFSETFROM:-0500
TZOFFSETTO:-0400
TZNAME:EDT
DTSTART:20260308T070000
END:DAYLIGHT
BEGIN:STANDARD
TZOFFSETFROM:-0400
TZOFFSETTO:-0500
TZNAME:EST
DTSTART:20261101T060000
END:STANDARD
END:VTIMEZONE
BEGIN:VEVENT
DTSTART;TZID=America/New_York:20241221T103000
DTEND;TZID=America/New_York:20241221T150000
DTSTAMP:20260422T071452
CREATED:20241111T200808Z
LAST-MODIFIED:20251112T155039Z
UID:10032619-1734777000-1734793200@www.rootedhg.com
SUMMARY:Santa Brunch at RUMBA
DESCRIPTION:Fun for the whole family! Enjoy brunch while you mix & mingle with Kris Kringle. There’ll be cookie decorating for the kids\, photos with Santa\, adults get the choice of a Merry Mimosa or Berry Bellini\, and so much more! For an added surprise…bring your child’s wrapped gift the day before and Santa Claus himself will present it during the festivities!
URL:https://www.rootedhg.com/event/santa-brunch-at-rumba/2024-12-21/
LOCATION:RUMBA – Patchogue\, 13 East Main Street\, Patchogue\, NY\, 11772\, United States
CATEGORIES:Brunch,Community,Food Specials,Special Events
ATTACH;FMTTYPE=image/png:https://www.rootedhg.com/wp-content/uploads/2024/11/Digital_RUMBA_Patchogue_Santa-Brunch_1080px-x-1080px.png
END:VEVENT
BEGIN:VEVENT
DTSTART;TZID=America/New_York:20241231T160000
DTEND;TZID=America/New_York:20250101T000000
DTSTAMP:20260422T071452
CREATED:20241203T164403Z
LAST-MODIFIED:20241203T164403Z
UID:10032622-1735660800-1735689600@www.rootedhg.com
SUMMARY:Cowfish New Year's Eve Party
DESCRIPTION:Ring in the New Year at Cowfish with dancing\, a balloon drop and Champagne toast at midnight! Enjoy our special four-course chef’s prix fixe menu\, live DJ\, dancing\, and the biggest balloon drop around with a champagne toast for just $95pp! \nCelebrate the New Year with 270 degree views of the water\, delicious cocktails\, and amazing cuisine in a festive atmosphere! Early seatings are invited to enjoy cocktails upstairs while waiting for the balloon drop to accommodate later seatings. The full Cowfish menu will be available until 6pm (in addition to the prix fixe) Reservations between 4pm and 6:15pm receive $20 discount per person on the prix fixe. Upstairs seating available for guests that would like to dine away from the dance floor. DJ and dancing begins at 9pm. \n*To accommodate as many guests as we can\, you can cancel your reservation up until December 28th at 5pm. After that\, and for any missed reservations\, a $50 per guest charge will be applied to the reservation credit card.
URL:https://www.rootedhg.com/event/cowfish-new-years-eve-party/
LOCATION:Cowfish\, 258 E. Montauk Hwy\, Hampton Bays\, NY\, 11946\, United States
CATEGORIES:Community,DJ,Special Events
ATTACH;FMTTYPE=image/jpeg:https://www.rootedhg.com/wp-content/uploads/2024/12/Digital_New-Years-1000X1000-_2023.jpg
END:VEVENT
END:VCALENDAR