BEGIN:VCALENDAR
VERSION:2.0
PRODID:-//Rooted Hospitality Group - ECPv6.15.20//NONSGML v1.0//EN
CALSCALE:GREGORIAN
METHOD:PUBLISH
X-WR-CALNAME:Rooted Hospitality Group
X-ORIGINAL-URL:https://www.rootedhg.com
X-WR-CALDESC:Events for Rooted Hospitality Group
REFRESH-INTERVAL;VALUE=DURATION:PT1H
X-Robots-Tag:noindex
X-PUBLISHED-TTL:PT1H
BEGIN:VTIMEZONE
TZID:America/New_York
BEGIN:DAYLIGHT
TZOFFSETFROM:-0500
TZOFFSETTO:-0400
TZNAME:EDT
DTSTART:20250309T070000
END:DAYLIGHT
BEGIN:STANDARD
TZOFFSETFROM:-0400
TZOFFSETTO:-0500
TZNAME:EST
DTSTART:20251102T060000
END:STANDARD
BEGIN:DAYLIGHT
TZOFFSETFROM:-0500
TZOFFSETTO:-0400
TZNAME:EDT
DTSTART:20260308T070000
END:DAYLIGHT
BEGIN:STANDARD
TZOFFSETFROM:-0400
TZOFFSETTO:-0500
TZNAME:EST
DTSTART:20261101T060000
END:STANDARD
BEGIN:DAYLIGHT
TZOFFSETFROM:-0500
TZOFFSETTO:-0400
TZNAME:EDT
DTSTART:20270314T070000
END:DAYLIGHT
BEGIN:STANDARD
TZOFFSETFROM:-0400
TZOFFSETTO:-0500
TZNAME:EST
DTSTART:20271107T060000
END:STANDARD
END:VTIMEZONE
BEGIN:VEVENT
DTSTART;VALUE=DATE:20260419
DTEND;VALUE=DATE:20260420
DTSTAMP:20260419T092756
CREATED:20260318T214835Z
LAST-MODIFIED:20260318T215736Z
UID:10045418-1776556800-1776643199@www.rootedhg.com
SUMMARY:RUMBA Après Rooftop Lounge
DESCRIPTION:RUMBA Après Rooftop Lounge in Patchogue is a vibrant rooftop destination for cocktails\, dining\, and lively social energy.\n\nGuests can enjoy refreshing cocktails\, shareable bites\, and a menu designed for relaxed rooftop dining. The lounge stays lively from day to night\, making it the perfect spot to gather with friends or unwind after work.\n\n\n\n\nPlus\, rooftop happy hour is extended until 7pm\, giving you even more time to sip\, socialize\, and take in the view. Open seven days a week for brunch\, lunch\, dinner\, cocktails\, and late-night energy\, RUMBA Après Rooftop Lounge is your go-to rooftop escape all season long.
URL:https://www.rootedhg.com/event/rumba-apres-rooftop-lounge-rooftop-bar-in-patchogue/2026-04-19/
LOCATION:RUMBA – Patchogue\, 13 East Main Street\, Patchogue\, NY\, 11772\, United States
CATEGORIES:Brunch,Dinner,Happy Hour,Lunch
ATTACH;FMTTYPE=image/jpeg:https://www.rootedhg.com/wp-content/uploads/2025/12/Apres-Lounge_Summer_RHG-PAGE.jpg
END:VEVENT
BEGIN:VEVENT
DTSTART;TZID=America/New_York:20260419T150000
DTEND;TZID=America/New_York:20260419T180000
DTSTAMP:20260419T092756
CREATED:20250506T175453Z
LAST-MODIFIED:20251218T175535Z
UID:10034484-1776610800-1776621600@www.rootedhg.com
SUMMARY:AVO TACO Happy Hour
DESCRIPTION:Join us for Happy Hour at AVO TACO\, every day from 3PM-6PM! $8 Cocktails\, $28 pitchers\, save on select starters\, $5 beers and $10 1/2 bottles of wine!
URL:https://www.rootedhg.com/event/avo-taco-happy-hour-2-2/2026-04-19/
LOCATION:AVO TACO – Bayside\, 212-97 26TH AVE\, Bayside\, NY\, 11360\, United States
CATEGORIES:Drink Specials,Food Specials,Happy Hour
ATTACH;FMTTYPE=image/jpeg:https://www.rootedhg.com/wp-content/uploads/2024/07/Digital_AT_WS_HH-Winter-2025_1080px-x-1080px-1.jpg
END:VEVENT
BEGIN:VEVENT
DTSTART;VALUE=DATE:20260420
DTEND;VALUE=DATE:20260421
DTSTAMP:20260419T092756
CREATED:20260127T220107Z
LAST-MODIFIED:20260127T220107Z
UID:10048211-1776643200-1776729599@www.rootedhg.com
SUMMARY:Margarita & Mojito Monday at RUMBA
DESCRIPTION:Margarita & Mojito Monday at RUMBA is the perfect way to start the week with island vibes. Enjoy half off all house margaritas and mojitos all day long\, available for in-house dining only. Please note\, flights are excluded. \nWhether you’re meeting friends or easing into the evening\, RUMBA delivers bold flavors\, tropical cocktails\, and a laid-back vibe. So grab a seat\, raise a glass\, and make Mondays feel like a mini getaway.
URL:https://www.rootedhg.com/event/margarita-mojito-monday-at-rumba/2026-04-20/
LOCATION:RUMBA – Metairie\, 5257 Veterans Memorial Blvd\, Metairie\, LA\, 70006\, United States
CATEGORIES:Drink Specials,Margarita Monday
ATTACH;FMTTYPE=image/jpeg:https://www.rootedhg.com/wp-content/uploads/2026/01/RHUM_cocktail_Margarita-and-Mojito-Monday2_CUBE.jpg
END:VEVENT
BEGIN:VEVENT
DTSTART;TZID=America/New_York:20260420T120000
DTEND;TZID=America/New_York:20260420T150000
DTSTAMP:20260419T092756
CREATED:20250930T151531Z
LAST-MODIFIED:20260223T161554Z
UID:10049392-1776686400-1776697200@www.rootedhg.com
SUMMARY:Fauna Power Lunch | $29 Prix Fixe in 35 Minutes
DESCRIPTION:Fauna Power Lunch gives you a fast\, elevated way to enjoy your midday meal. You can choose two expertly crafted courses for $29\, so you enjoy a refined lunch without losing time. \nPlus\, the team at Fauna prepares each course with seasonal ingredients and bold flavor. Your meal arrives in 35 minutes\, which makes it perfect for business meetings\, work breaks\, or casual afternoons. Whether you plan ahead or stop in last minute\, Fauna Power Lunch helps you recharge and return to your day satisfied. \nWeekdays | 12:00–3:00pm
URL:https://www.rootedhg.com/event/fauna-power-lunch/2026-04-20/
LOCATION:Fauna\, 6 Parlato Drive\, Westhampton Beach\, NY\, 11978\, United States
CATEGORIES:Food Specials,Lunch
ATTACH;FMTTYPE=image/jpeg:https://www.rootedhg.com/wp-content/uploads/2025/09/Digital_Fauna_Power-Lunch_1080px-x-1080px_WEB.jpg
END:VEVENT
BEGIN:VEVENT
DTSTART;TZID=America/New_York:20260420T150000
DTEND;TZID=America/New_York:20260420T170000
DTSTAMP:20260419T092756
CREATED:20250506T182319Z
LAST-MODIFIED:20260401T161423Z
UID:10050960-1776697200-1776704400@www.rootedhg.com
SUMMARY:flora Happy Hour | Weekday Cocktails & Bar Bites
DESCRIPTION:flora Happy Hour brings a fresh and flavorful start to your evening. Join us at the bar on weekdays from 3:00–5:00pm for signature cocktails and delicious bites in a relaxed\, welcoming setting. \nSip on favorites like the Lavender Fizz\, Red Currant Margarita\, and Paige’s Peachy Sangria\, each crafted to highlight bright\, seasonal flavors. Meanwhile\, the kitchen offers a selection of bar bites from the happy hour menu to enjoy alongside your drinks. \nWhether you’re meeting friends or easing out of the workday\, flora Happy Hour offers the perfect midweek pause. So settle in\, raise a glass\, and enjoy the happiest hours of the day.
URL:https://www.rootedhg.com/event/flora-happy-hour-2/2026-04-20/
LOCATION:flora\, 149 Main Street\, Westhampton Beach\, NY\, 11978\, United States
CATEGORIES:Drink Specials,Food Specials,Happy Hour
ATTACH;FMTTYPE=image/jpeg:https://www.rootedhg.com/wp-content/uploads/2024/07/Flora-Happy-Hour-Hummus-Mussels-CUBE.jpg
END:VEVENT
BEGIN:VEVENT
DTSTART;TZID=America/New_York:20260420T150000
DTEND;TZID=America/New_York:20260420T180000
DTSTAMP:20260419T092756
CREATED:20250915T213637Z
LAST-MODIFIED:20260128T221227Z
UID:10016288-1776697200-1776708000@www.rootedhg.com
SUMMARY:RUMBA Happy Hour
DESCRIPTION:RUMBA Happy Hour is your weekday escape to the islands. Join us in the bar area starting at 3pm\, Monday through Friday\, and enjoy a discounted menu featuring select appetizers and crowd-favorite drinks. \nSip on Rum Punch\, Signature Margarita\, Hot and Stormy\, well pours\, wines by the glass\, and beer\, all at happy hour pricing. In RUMBA Patchogue at the Après Rooftop Lounge and in RUMBA Hampton Bays\, happy hour is extended until 7pm\, giving you even more time to unwind. \nWhether you’re meeting friends or easing out of the workday\, RUMBA delivers bold flavors\, tropical cocktails\, and a laid-back vibe that feels like a mini vacation.
URL:https://www.rootedhg.com/event/rumba-happy-hour/2026-04-20/
LOCATION:RUMBA – Hampton Bays\, 43 Canoe Place Road\, Hampton Bays\, NY\, 11946\, United States
CATEGORIES:Drink Specials,Food Specials,Happy Hour
ATTACH;FMTTYPE=image/jpeg:https://www.rootedhg.com/wp-content/uploads/2025/09/RUMBA_HH_Edited.jpg
END:VEVENT
BEGIN:VEVENT
DTSTART;TZID=America/New_York:20260420T150000
DTEND;TZID=America/New_York:20260420T180000
DTSTAMP:20260419T092756
CREATED:20250915T213924Z
LAST-MODIFIED:20260105T203906Z
UID:10029980-1776697200-1776708000@www.rootedhg.com
SUMMARY:Cowfish Happy Hour
DESCRIPTION:Come unwind at Cowfish’s Happy Hour\, weekdays at the bar from 3PM-6PM! Enjoy discounted menu featuring select appetizers\, well pours\, Rum Punch\, Signature Margarita\, select wines by the glass\, and beer.
URL:https://www.rootedhg.com/event/cowfish-happy-hour-2-2-2/2026-04-20/
LOCATION:Cowfish\, 258 E. Montauk Hwy\, Hampton Bays\, NY\, 11946\, United States
CATEGORIES:Drink Specials,Food Specials,Happy Hour
ATTACH;FMTTYPE=image/jpeg:https://www.rootedhg.com/wp-content/uploads/2024/07/Happy-Hour-Cube_.jpg
END:VEVENT
BEGIN:VEVENT
DTSTART;TZID=America/New_York:20260420T150000
DTEND;TZID=America/New_York:20260420T180000
DTSTAMP:20260419T092756
CREATED:20250915T214350Z
LAST-MODIFIED:20251218T165859Z
UID:10018901-1776697200-1776708000@www.rootedhg.com
SUMMARY:Fauna Happy Hour
DESCRIPTION:Join us at Fauna for Happy Hour from 3–6 PM\, Monday through Friday\, at our indoor and patio bars (weather permitting). Enjoy a selection of curated appetizers\, wine by the glass\, well-drinks\, beer\, and three of our signature cocktails: the Hot and Dirty\, Ultra Margarita\, and Pamplemousse. At Fauna\, we take pride in our commitment to sustainability. Delight in knowing that every oyster shell we collect contributes to building a reef\, helping to revitalize our ocean life.
URL:https://www.rootedhg.com/event/fauna-happy-hour-2-2-2/2026-04-20/
LOCATION:Fauna\, 6 Parlato Drive\, Westhampton Beach\, NY\, 11978\, United States
CATEGORIES:Drink Specials,Food Specials,Happy Hour
ATTACH;FMTTYPE=image/jpeg:https://www.rootedhg.com/wp-content/uploads/2024/07/2F9A5092-3-1980x1980-1.jpg
END:VEVENT
BEGIN:VEVENT
DTSTART;TZID=America/New_York:20260421T110000
DTEND;TZID=America/New_York:20260421T160000
DTSTAMP:20260419T092756
CREATED:20250915T212256Z
LAST-MODIFIED:20251218T170222Z
UID:10040258-1776769200-1776787200@www.rootedhg.com
SUMMARY:RUMBA Taco Tuesday
DESCRIPTION:Clock out\, taco up. Taco Tuesday is your new lunch ritual at RUMBA! Enjoy three delicious tacos for just $15. Lunch Only Until 4pm. Dine in with us or take them to go!
URL:https://www.rootedhg.com/event/rumba-taco-tuesday/2026-04-21/
LOCATION:RUMBA – Metairie\, 5257 Veterans Memorial Blvd\, Metairie\, LA\, 70006\, United States
CATEGORIES:Food Specials,Taco Tuesday
ATTACH;FMTTYPE=image/jpeg:https://www.rootedhg.com/wp-content/uploads/2025/05/Digital_Rumba_Taco-Tuesday_1080px-x-1080px_May-2025.jpg
END:VEVENT
BEGIN:VEVENT
DTSTART;TZID=America/New_York:20260421T110000
DTEND;TZID=America/New_York:20260421T210000
DTSTAMP:20260419T092756
CREATED:20240703T164519Z
LAST-MODIFIED:20251218T180554Z
UID:10031171-1776769200-1776805200@www.rootedhg.com
SUMMARY:AVO TACO Tuesday
DESCRIPTION:Enjoy Taco Tuesday at AVO TACO with 3 tacos for just $13\, all day long! Whether you’re dining in or taking out\, use code “TACOTUESDAY” at checkout to savor this delicious deal.
URL:https://www.rootedhg.com/event/avo-taco-tuesday/2026-04-21/
LOCATION:AVO TACO – Bayside\, 212-97 26TH AVE\, Bayside\, NY\, 11360\, United States
CATEGORIES:Food Specials,Taco Tuesday
ATTACH;FMTTYPE=image/jpeg:https://www.rootedhg.com/wp-content/uploads/2024/07/AvoTaco_Tuesday-800X-800-2048x2048-1.jpg
END:VEVENT
BEGIN:VEVENT
DTSTART;TZID=America/New_York:20260421T113000
DTEND;TZID=America/New_York:20260421T160000
DTSTAMP:20260419T092756
CREATED:20250915T212648Z
LAST-MODIFIED:20251218T170214Z
UID:10037457-1776771000-1776787200@www.rootedhg.com
SUMMARY:RUMBA Taco Tuesday
DESCRIPTION:Taco lovers rejoice! Join us at RUMBA for Taco Tuesday and enjoy 3 delicious tacos for just $15. Lunch Only Until 4pm. Savor the flavors and make your week tastier with our mouthwatering tacos!
URL:https://www.rootedhg.com/event/rumba-taco-tuesday-thursday-p-2/2026-04-21/
LOCATION:RUMBA – Patchogue\, 13 East Main Street\, Patchogue\, NY\, 11772\, United States
CATEGORIES:Food Specials,Taco Tuesday
ATTACH;FMTTYPE=image/jpeg:https://www.rootedhg.com/wp-content/uploads/2025/05/Digital_Rumba_Taco-Tuesday_1080px-x-1080px_May-2025.jpg
END:VEVENT
BEGIN:VEVENT
DTSTART;TZID=America/New_York:20260421T120000
DTEND;TZID=America/New_York:20260421T160000
DTSTAMP:20260419T092756
CREATED:20250915T212122Z
LAST-MODIFIED:20251218T170206Z
UID:10039997-1776772800-1776787200@www.rootedhg.com
SUMMARY:RUMBA Taco Tuesday
DESCRIPTION:Clock out\, taco up. Taco Tuesday is your new lunch ritual at RUMBA! Enjoy three delicious tacos for just $15. Lunch Only Until 4pm. Dine in with us or take them to go!
URL:https://www.rootedhg.com/event/rumba-taco-thursday-2-2-2-2-2/2026-04-21/
LOCATION:RUMBA – Hampton Bays\, 43 Canoe Place Road\, Hampton Bays\, NY\, 11946\, United States
CATEGORIES:Food Specials,Taco Tuesday
ATTACH;FMTTYPE=image/jpeg:https://www.rootedhg.com/wp-content/uploads/2025/05/Digital_Rumba_Taco-Tuesday_1080px-x-1080px_May-2025.jpg
END:VEVENT
BEGIN:VEVENT
DTSTART;VALUE=DATE:20260422
DTEND;VALUE=DATE:20260423
DTSTAMP:20260419T092756
CREATED:20260127T213547Z
LAST-MODIFIED:20260127T213547Z
UID:10047690-1776816000-1776902399@www.rootedhg.com
SUMMARY:Wine Down Wednesday at Cowfish
DESCRIPTION:Wine Down Wednesday at Cowfish is your midweek excuse to relax and indulge. Every Wednesday\, enjoy 50% off one bottle of wine with the purchase of two entrées\, available for in-house dining only. \nWhether you’re planning a date night or a casual dinner with friends\, Cowfish delivers midweek luxury with dockside views and standout flavors. So slow things down\, pour a glass\, and savor Wine Down Wednesday the Cowfish way.
URL:https://www.rootedhg.com/event/wine-down-wednesday-at-cowfish/2026-04-22/
LOCATION:Cowfish\, 258 E. Montauk Hwy\, Hampton Bays\, NY\, 11946\, United States
CATEGORIES:Drink Specials
ATTACH;FMTTYPE=image/jpeg:https://www.rootedhg.com/wp-content/uploads/2026/01/Weekly-Specials-WDW-Fall-2023.jpg
END:VEVENT
BEGIN:VEVENT
DTSTART;VALUE=DATE:20260422
DTEND;VALUE=DATE:20260423
DTSTAMP:20260419T092756
CREATED:20260127T214447Z
LAST-MODIFIED:20260304T222806Z
UID:10047951-1776816000-1776902399@www.rootedhg.com
SUMMARY:Wine Down Wednesday at flora
DESCRIPTION:Wine Down Wednesday at flora is an easy way to elevate your midweek plans. Every Wednesday\, enjoy half off one bottle of wine with the purchase of two entrées\, thoughtfully paired with flora’s seasonal\, ingredient-driven menu. \nIdeal for any time of day\, flora invites you to slow down\, sip something special\, and enjoy a midweek moment that feels both relaxed and refined.
URL:https://www.rootedhg.com/event/wine-down-wednesday-at-flora/2026-04-22/
LOCATION:flora\, 149 Main Street\, Westhampton Beach\, NY\, 11978\, United States
CATEGORIES:Drink Specials
ATTACH;FMTTYPE=image/jpeg:https://www.rootedhg.com/wp-content/uploads/2026/01/flora_WDW_Cube.jpg
END:VEVENT
BEGIN:VEVENT
DTSTART;VALUE=DATE:20260422
DTEND;VALUE=DATE:20260423
DTSTAMP:20260419T092756
CREATED:20260128T214853Z
LAST-MODIFIED:20260304T225850Z
UID:10048473-1776816000-1776902399@www.rootedhg.com
SUMMARY:Wine Down Wednesday at Fauna
DESCRIPTION:Wine Down Wednesday at Fauna is a gentle pause in the middle of the week. Enjoy half off any bottle of wine with two entrées and let the evening linger over food\, conversation\, and a setting made for slowing down. \nPerfect for familiar plans or spontaneous nights\, Fauna turns all-day on Wednesdays into something worth looking forward to.
URL:https://www.rootedhg.com/event/wine-down-wednesday-at-fauna/2026-04-22/
LOCATION:Fauna\, 6 Parlato Drive\, Westhampton Beach\, NY\, 11978\, United States
CATEGORIES:Drink Specials
ATTACH;FMTTYPE=image/jpeg:https://www.rootedhg.com/wp-content/uploads/2026/01/Fauna_WDW_Caymus_Salmon_Duck-Pasta-05_CUBE.jpg
END:VEVENT
BEGIN:VEVENT
DTSTART;TZID=America/New_York:20260422T183000
DTEND;TZID=America/New_York:20260422T210000
DTSTAMP:20260419T092756
CREATED:20260320T201118Z
LAST-MODIFIED:20260320T201118Z
UID:10050756-1776882600-1776891600@www.rootedhg.com
SUMMARY:RUMBA Rum Tasting Dinner with Don Q | Four-Course Pairing Event
DESCRIPTION:The RUMBA Rum Tasting Dinner with Don Q Rum is an intimate evening of flavor\, craft\, and island tradition. Join us on Wednesday\, April 22nd\, at RUMBA Metairie for a four-course dinner inspired by Caribbean rum and coastal cuisine. \nOur Executive Culinary Team prepares each course with bold\, island-driven flavor. Expert mixologists pair every dish with premium Don Q expressions. Along the way\, you’ll explore the stories and techniques behind each pour. As a result\, every pairing reveals something new and memorable. \nBecause seating is limited\, this exclusive dinner offers a rare experience. You’ll enjoy RUMBA’s signature cooking alongside one of the Caribbean’s most respected rum producers. So reserve your seat now and join us for an unforgettable night.
URL:https://www.rootedhg.com/event/rumba-rum-tasting-dinner-with-don-q-metairie/
LOCATION:RUMBA – Metairie\, 5257 Veterans Memorial Blvd\, Metairie\, LA\, 70006\, United States
CATEGORIES:Dinner,Drink Specials,Food Specials,Pairing Dinner,Special Events
ATTACH;FMTTYPE=image/jpeg:https://www.rootedhg.com/wp-content/uploads/2026/03/Digital_Rumba_Metairie_Don-Q-Rum-Tasting-Dinner_2026_1080px-x-1080px.jpg
END:VEVENT
BEGIN:VEVENT
DTSTART;TZID=America/New_York:20260423T160000
DTEND;TZID=America/New_York:20260423T210000
DTSTAMP:20260419T092756
CREATED:20251017T140018Z
LAST-MODIFIED:20251218T165549Z
UID:10042571-1776960000-1776978000@www.rootedhg.com
SUMMARY:Cowfish Prime Rib Thursday
DESCRIPTION:Savor the warmth and comfort in every bite\, because you deserve food that loves you back. Indulge in a perfectly cooked 14oz Prime Rib paired with a loaded baked potato. Available every Thursday after 4pm.
URL:https://www.rootedhg.com/event/cowfish-prime-rib-thursday/2026-04-23/
LOCATION:Cowfish\, 258 E. Montauk Hwy\, Hampton Bays\, NY\, 11946\, United States
CATEGORIES:Dinner,Food Specials
ATTACH;FMTTYPE=image/jpeg:https://www.rootedhg.com/wp-content/uploads/2025/10/Digital_Cowfish_Prime-Rib-Thursday_2025_1080px-x-1080px.jpg
END:VEVENT
BEGIN:VEVENT
DTSTART;TZID=America/New_York:20260423T180000
DTEND;TZID=America/New_York:20260423T210000
DTSTAMP:20260419T092756
CREATED:20260203T155252Z
LAST-MODIFIED:20260203T155254Z
UID:10048762-1776967200-1776978000@www.rootedhg.com
SUMMARY:Live Music Thursdays at RUMBA Hampton Bays | 6–9PM
DESCRIPTION:Live Music Thursdays at RUMBA Hampton Bays bring energy\, rhythm\, and unforgettable nights to the waterfront. Join us every Thursday from 6:00 to 9:00pm and enjoy live performances in a lively coastal setting. \nWhether you’re coming for the music or staying for the cocktails\, RUMBA offers bold flavors\, island-inspired drinks\, and one of the best views in town. So settle in\, sip something refreshing\, and make Thursday your midweek escape. \nLineup varies weekly. Check back for upcoming performers.
URL:https://www.rootedhg.com/event/live-music-thursdays-at-rumba-hampton-bays-6-9pm/2026-04-23/
LOCATION:RUMBA – Hampton Bays\, 43 Canoe Place Road\, Hampton Bays\, NY\, 11946\, United States
CATEGORIES:Live Music,Special Events
ATTACH;FMTTYPE=image/jpeg:https://www.rootedhg.com/wp-content/uploads/2026/02/Rumba-HB_Music-1080x1080-1.jpg
END:VEVENT
BEGIN:VEVENT
DTSTART;TZID=America/New_York:20260424T180000
DTEND;TZID=America/New_York:20260424T210000
DTSTAMP:20260419T092756
CREATED:20250915T211706Z
LAST-MODIFIED:20251218T181710Z
UID:10039215-1777053600-1777064400@www.rootedhg.com
SUMMARY:Cowfish Friday Night Music Series
DESCRIPTION:Dance the night away at our Friday Night Music Series at Cowfish! \nClick here to see the lineup.
URL:https://www.rootedhg.com/event/cowfish-friday-night-concert-series-2-2-2/2026-04-24/
LOCATION:Cowfish\, 258 E. Montauk Hwy\, Hampton Bays\, NY\, 11946\, United States
CATEGORIES:Live Music,Special Events
ATTACH;FMTTYPE=image/jpeg:https://www.rootedhg.com/wp-content/uploads/2025/09/Cowfish_Friday-Night-Music-Series_Fall-2025_1080px-x-1080px.jpg
END:VEVENT
BEGIN:VEVENT
DTSTART;TZID=America/New_York:20260424T210000
DTEND;TZID=America/New_York:20260425T000000
DTSTAMP:20260419T092756
CREATED:20251212T193128Z
LAST-MODIFIED:20260407T204807Z
UID:10043226-1777064400-1777075200@www.rootedhg.com
SUMMARY:Après DJ Party Patchogue | RUMBA Rooftop Fridays
DESCRIPTION:Après DJ Party Patchogue brings the energy to RUMBA Après Rooftop Lounge every Friday from 9PM to midnight. A live DJ sets the vibe while guests enjoy cocktails\, music\, and late-night rooftop views above Main Street. \nSet at RUMBA’s fully covered\, all-weather rooftop\, the Après Rooftop Lounge offers a seamless indoor-outdoor experience you can enjoy year-round. So gather your friends\, grab a drink\, and kick off the weekend at one of the most exciting Friday night rooftop DJ parties in Patchogue.
URL:https://www.rootedhg.com/event/apres-dj-party-patchogue-rumba/2026-04-24/
LOCATION:RUMBA – Patchogue\, 13 East Main Street\, Patchogue\, NY\, 11772\, United States
CATEGORIES:DJ,Live Music,Party,Special Events
ATTACH;FMTTYPE=image/jpeg:https://www.rootedhg.com/wp-content/uploads/2025/12/RUMBA_Patchogue_Apres-Lounge_DJ_RHG-PAGE.jpg
END:VEVENT
BEGIN:VEVENT
DTSTART;TZID=America/New_York:20260502T160000
DTEND;TZID=America/New_York:20260502T190000
DTSTAMP:20260419T092756
CREATED:20260403T205002Z
LAST-MODIFIED:20260403T210839Z
UID:10051994-1777737600-1777748400@www.rootedhg.com
SUMMARY:Fauna Kentucky Derby Party
DESCRIPTION:Fauna Kentucky Derby Party continues the tradition of watching the Run for the Roses at 6 Parlato Drive. Join us on Saturday\, May 2 at 4pm for an exciting Kentucky Derby watch party on Fauna’s back patio. \nGuests can enjoy passed hors d’oeuvres\, a fresh raw bar\, and Fauna Derby Day favorites while sipping specialty Derby cocktails. Featured selections include Angel’s Envy\, Banville Merchant Wines\, and Sparkling Pointe\, plus drinks from Fauna’s outdoor bar. \nMeanwhile\, the celebration brings plenty of style and friendly competition. Fedoras\, fascinators\, and statement hats are encouraged\, and prizes will be awarded for Best Hat and horse betting games. \nBecause seating is limited\, reservations are strongly recommended. So gather your friends\, dress your Derby best\, and join us for an unforgettable afternoon at Fauna.
URL:https://www.rootedhg.com/event/fauna-kentucky-derby-party/
LOCATION:Fauna\, 6 Parlato Drive\, Westhampton Beach\, NY\, 11978\, United States
CATEGORIES:Dinner,Drink Specials,Food Specials,Live Music,Party,Special Events
ATTACH;FMTTYPE=image/jpeg:https://www.rootedhg.com/wp-content/uploads/2026/04/Digital_Fauna_Derby-Day_2026_1080px-x-1080px_WEB.jpg
END:VEVENT
BEGIN:VEVENT
DTSTART;TZID=America/New_York:20260507T190000
DTEND;TZID=America/New_York:20260507T203000
DTSTAMP:20260419T092756
CREATED:20250506T170201Z
LAST-MODIFIED:20260219T215558Z
UID:10049061-1778180400-1778185800@www.rootedhg.com
SUMMARY:Trivia Night at RUMBA Patchogue | Tacos & Trivia Thursdays
DESCRIPTION:Trivia Night at RUMBA Patchogue brings energy\, laughs\, and friendly competition to your week. Join us every first and third Thursday from 7:00 to 8:30pm for an evening of tacos\, cocktails\, and exciting trivia. \nTest your knowledge across a variety of fun and challenging topics. Then\, compete with friends for prizes and bragging rights. Whether you’re a trivia pro or just playing for fun\, every round delivers surprises. \nSo grab your team\, order your favorite tacos and drinks\, and make RUMBA your new trivia night tradition.
URL:https://www.rootedhg.com/event/rumba-trivia-p/2026-05-07/
LOCATION:RUMBA – Patchogue\, 13 East Main Street\, Patchogue\, NY\, 11772\, United States
CATEGORIES:Trivia
ATTACH;FMTTYPE=image/jpeg:https://www.rootedhg.com/wp-content/uploads/2025/05/Digital_RUMBA_Patchogue_Tacos-Trivia_1000px-x-1000px.jpg
END:VEVENT
END:VCALENDAR